Sys-SigAction v0.23 Perl 5 v5.24.1 armv7l-linux-thread-multi

Status
Pass
From
Nigel Horne
Dist
Sys-SigAction v0.23
Platform
Perl 5 v5.24.1 armv7l-linux-thread-multi
Date
2019-06-26 21:38:17
ID
b5e6510c-985a-11e9-8fa9-99a29f1e7dde
This distribution has been tested as part of the CPAN Testers
project, supporting the Perl programming language.  See
http://wiki.cpantesters.org/ for more information or email
questions to cpan-testers-discuss@perl.org


--
Dear Lincoln A Baxter,

This is a computer-generated report for Sys-SigAction-0.23
on perl 5.24.1, created by CPAN-Reporter-1.2018.

Thank you for uploading your work to CPAN.  Congratulations!
All tests were successful.

Sections of this report:

    * Tester comments
    * Program output
    * Prerequisites
    * Environment and other context

------------------------------
TESTER COMMENTS
------------------------------

Additional comments from tester:

this report is from an automated smoke testing program
and was not reviewed by a human for accuracy

------------------------------
PROGRAM OUTPUT
------------------------------

Output from '/usr/bin/make test':

PERL_DL_NONLAZY=1 "/mnt/nas/home/pi2/njh/perl5/perlbrew/perls/perl-5.24.1/bin/perl5.24.1" "-MExtUtils::Command::MM" "-MTest::Harness" "-e" "undef *Test::Harness::Switches; test_harness(0, 'blib/lib', 'blib/arch')" t/*.t


    NOTE: arm systems seem to have a defective implementation of perl POSIX
    signal handling.  This test will segfault on these platforms, if
    the block nesting is greater than 2... and I suspect if the block
    nesting itself is corrupting the call stack somehow.  This testing
    will be skipped on arm* platforms.

    All that said, this was an intentially a very twisted test.  It seems
    unlikly that one would really want to do what this tests for.  It is
    reasonable to nest signal handlers in nexted call stacks however:
    See recursive_nested.t, which does run on arm platforms.

    This test can be executed manually from the command line on arm platforms
    as follows:

       INLINE=1 perl -Ilib t/safe.t

    Lincoln

t/alternatives.t ...... ok
t/inline_nested.t ..... skipped: This test appears to corrupt perl's call stack on arm platforms
t/name.t .............. ok
t/number.t ............ ok

         
     NOTE: Setting safe=>1... with masked signals does not seem to work.
     The problem is that the masked signals are not masked when safe=>1.
     When safe=>0 they are.  

     If you have an application for safe=>1 and can come up with a patch
     for this module that gets this test working, or a patch to the test
     that shows how to fix it, please send it to me. 

     See the block below this one... which if executed would test safe mode
     with masked signals... it is a clone of part of mask.t that proves this
     is broken.

     This test can be executed from the command line as follows:

         SAFE_T=1 perl -Ilib t/safe.t

     Lincoln

     

t/safe.t .............. ok
t/recursive_nested.t .. ok
t/mask.t .............. ok
# delta time was 0.101070, timer was for 0.1 secconds
t/timeout.t ........... ok
All tests successful.
Files=8, Tests=83,  6 wallclock secs ( 0.34 usr  0.10 sys +  5.59 cusr  0.85 csys =  6.88 CPU)
Result: PASS

------------------------------
PREREQUISITES
------------------------------

Prerequisite modules loaded:

requires:

    Module              Need     Have    
    ------------------- -------- --------
    perl                5.006000 5.024001
    POSIX               0        1.65    
    Test::More          0        1.302136

build_requires:

    Module              Need     Have    
    ------------------- -------- --------
    ExtUtils::MakeMaker 0        7.30    

configure_requires:

    Module              Need     Have    
    ------------------- -------- --------
    ExtUtils::MakeMaker 0        7.30    


------------------------------
ENVIRONMENT AND OTHER CONTEXT
------------------------------

Environment variables:

    AUTOMATED_TESTING = 1
    HARNESS_OPTIONS = j4
    LANG = en_GB.UTF-8
    PATH = /home/njh/perl5/perlbrew/bin:/home/njh/perl5/perlbrew/perls/perl-5.24.1/bin:/home/njh/src/njh/smoker/bin:/usr/bin:/bin
    PERL5LIB = /var/tmp/build/Mojo-Base-XS-0.07-1/blib/arch:/var/tmp/build/Mojo-Base-XS-0.07-1/blib/lib:/var/tmp/build/Graph-ChuLiuEdmonds-0.06-1/blib/arch:/var/tmp/build/Graph-ChuLiuEdmonds-0.06-1/blib/lib:/var/tmp/build/Graph-0.9704-1/blib/arch:/var/tmp/build/Graph-0.9704-1/blib/lib:/var/tmp/build/HTTP-Server-Simple-0.52-1/blib/arch:/var/tmp/build/HTTP-Server-Simple-0.52-1/blib/lib
    PERL5OPT = 
    PERL5_CPANPLUS_IS_RUNNING = 22332
    PERL5_CPAN_IS_RUNNING = 22332
    PERL5_CPAN_IS_RUNNING_IN_RECURSION = 22312,22332
    PERLBREW_HOME = /home/njh/.perlbrew
    PERLBREW_MANPATH = /home/njh/perl5/perlbrew/perls/perl-5.24.1/man
    PERLBREW_PATH = /home/njh/perl5/perlbrew/bin:/home/njh/perl5/perlbrew/perls/perl-5.24.1/bin
    PERLBREW_PERL = perl-5.24.1
    PERLBREW_ROOT = /home/njh/perl5/perlbrew
    PERLBREW_SHELLRC_VERSION = 0.84
    PERLBREW_VERSION = 0.84
    SHELL = /bin/sh
    TEMP = /tmp/user/1000
    TMPDIR = /tmp/user/1000/testwrapper.22317

Perl special variables (and OS-specific diagnostics, for MSWin32):

    $^X = /mnt/nas/home/pi2/njh/perl5/perlbrew/perls/perl-5.24.1/bin/perl5.24.1
    $UID/$EUID = 1000 / 1000
    $GID = 1000 4 20 24 25 27 29 30 44 46 60 100 101 108 995 997 998 999 1000
    $EGID = 1000 4 20 24 25 27 29 30 44 46 60 100 101 108 995 997 998 999 1000

Perl module toolchain versions installed:

    Module              Have      
    ------------------- ----------
    CPAN                2.16      
    CPAN::Meta          2.150010  
    Cwd                 3.63_01   
    ExtUtils::CBuilder  0.280225  
    ExtUtils::Command   7.30      
    ExtUtils::Install   2.06      
    ExtUtils::MakeMaker 7.30      
    ExtUtils::Manifest  1.70      
    ExtUtils::ParseXS   3.31      
    File::Spec          3.63_01   
    JSON                2.97001   
    JSON::PP            2.27300_01
    Module::Build       0.4220    
    Module::Signature   n/a       
    Parse::CPAN::Meta   2.150010  
    Test::Harness       3.36_01   
    Test::More          1.302136  
    YAML                1.26      
    YAML::Syck          1.30      
    version             0.9916    


--

Summary of my perl5 (revision 5 version 24 subversion 1) configuration:
   
  Platform:
    osname=linux, osvers=4.4.38-v7+, archname=armv7l-linux-thread-multi
    uname='linux pi2 4.4.38-v7+ #938 smp thu dec 15 15:22:21 gmt 2016 armv7l gnulinux '
    config_args='-de -Dprefix=/home/njh/perl5/perlbrew/perls/perl-5.24.1 -Duseithreads -Dusemultiplicity -Dusedevel -Accflags= -Aeval:scriptdir=/home/njh/perl5/perlbrew/perls/perl-5.24.1/bin'
    hint=recommended, useposix=true, d_sigaction=define
    useithreads=define, usemultiplicity=define
    use64bitint=undef, use64bitall=undef, uselongdouble=undef
    usemymalloc=n, bincompat5005=undef
  Compiler:
    cc='cc', ccflags ='-D_REENTRANT -D_GNU_SOURCE -fwrapv -fno-strict-aliasing -pipe -fstack-protector-strong -I/usr/local/include -D_LARGEFILE_SOURCE -D_FILE_OFFSET_BITS=64 -D_FORTIFY_SOURCE=2',
    optimize='-O2',
    cppflags='-D_REENTRANT -D_GNU_SOURCE -fwrapv -fno-strict-aliasing -pipe -fstack-protector-strong -I/usr/local/include'
    ccversion='', gccversion='4.9.2', gccosandvers=''
    intsize=4, longsize=4, ptrsize=4, doublesize=8, byteorder=1234, doublekind=3
    d_longlong=define, longlongsize=8, d_longdbl=define, longdblsize=8, longdblkind=0
    ivtype='long', ivsize=4, nvtype='double', nvsize=8, Off_t='off_t', lseeksize=8
    alignbytes=8, prototype=define
  Linker and Libraries:
    ld='cc', ldflags =' -fstack-protector-strong -L/usr/local/lib'
    libpth=/usr/local/lib /usr/lib/gcc/arm-linux-gnueabihf/4.9/include-fixed /usr/include/arm-linux-gnueabihf /usr/lib /lib/arm-linux-gnueabihf /lib /usr/lib/arm-linux-gnueabihf
    libs=-lpthread -lnsl -lgdbm -ldb -ldl -lm -lcrypt -lutil -lc -lgdbm_compat
    perllibs=-lpthread -lnsl -ldl -lm -lcrypt -lutil -lc
    libc=libc-2.19.so, so=so, useshrplib=false, libperl=libperl.a
    gnulibc_version='2.19'
  Dynamic Linking:
    dlsrc=dl_dlopen.xs, dlext=so, d_dlsymun=undef, ccdlflags='-Wl,-E'
    cccdlflags='-fPIC', lddlflags='-shared -O2 -L/usr/local/lib -fstack-protector-strong'


Characteristics of this binary (from libperl): 
  Compile-time options: HAS_TIMES MULTIPLICITY PERLIO_LAYERS
                        PERL_COPY_ON_WRITE PERL_DONT_CREATE_GVSV
                        PERL_HASH_FUNC_ONE_AT_A_TIME_HARD
                        PERL_IMPLICIT_CONTEXT PERL_MALLOC_WRAP
                        PERL_PRESERVE_IVUV PERL_USE_DEVEL USE_ITHREADS
                        USE_LARGE_FILES USE_LOCALE USE_LOCALE_COLLATE
                        USE_LOCALE_CTYPE USE_LOCALE_NUMERIC USE_LOCALE_TIME
                        USE_PERLIO USE_PERL_ATOF USE_REENTRANT_API
  Built under linux
  Compiled at Jan 19 2017 00:40:49
  %ENV:
    PERL5LIB="/var/tmp/build/Mojo-Base-XS-0.07-1/blib/arch:/var/tmp/build/Mojo-Base-XS-0.07-1/blib/lib:/var/tmp/build/Graph-ChuLiuEdmonds-0.06-1/blib/arch:/var/tmp/build/Graph-ChuLiuEdmonds-0.06-1/blib/lib:/var/tmp/build/Graph-0.9704-1/blib/arch:/var/tmp/build/Graph-0.9704-1/blib/lib:/var/tmp/build/HTTP-Server-Simple-0.52-1/blib/arch:/var/tmp/build/HTTP-Server-Simple-0.52-1/blib/lib"
    PERL5OPT=""
    PERL5_CPANPLUS_IS_RUNNING="22332"
    PERL5_CPAN_IS_RUNNING="22332"
    PERL5_CPAN_IS_RUNNING_IN_RECURSION="22312,22332"
    PERLBREW_HOME="/home/njh/.perlbrew"
    PERLBREW_MANPATH="/home/njh/perl5/perlbrew/perls/perl-5.24.1/man"
    PERLBREW_PATH="/home/njh/perl5/perlbrew/bin:/home/njh/perl5/perlbrew/perls/perl-5.24.1/bin"
    PERLBREW_PERL="perl-5.24.1"
    PERLBREW_ROOT="/home/njh/perl5/perlbrew"
    PERLBREW_SHELLRC_VERSION="0.84"
    PERLBREW_VERSION="0.84"
  @INC:
    /var/tmp/build/Mojo-Base-XS-0.07-1/blib/arch
    /var/tmp/build/Mojo-Base-XS-0.07-1/blib/lib
    /var/tmp/build/Graph-ChuLiuEdmonds-0.06-1/blib/arch
    /var/tmp/build/Graph-ChuLiuEdmonds-0.06-1/blib/lib
    /var/tmp/build/Graph-0.9704-1/blib/arch
    /var/tmp/build/Graph-0.9704-1/blib/lib
    /var/tmp/build/HTTP-Server-Simple-0.52-1/blib/arch
    /var/tmp/build/HTTP-Server-Simple-0.52-1/blib/lib
    /home/njh/perl5/perlbrew/perls/perl-5.24.1/lib/site_perl/5.24.1/armv7l-linux-thread-multi
    /home/njh/perl5/perlbrew/perls/perl-5.24.1/lib/site_perl/5.24.1
    /home/njh/perl5/perlbrew/perls/perl-5.24.1/lib/5.24.1/armv7l-linux-thread-multi
    /home/njh/perl5/perlbrew/perls/perl-5.24.1/lib/5.24.1
    .