Report for Test-WWW-Mechanize-Catalyst-0.60

Back
From: metabase:user:5f7fdde4-830e-11e4-9b35-eb3d4a87a96a
Subject: PASS Test-WWW-Mechanize-Catalyst-0.60 v5.20.1 GNU/Linux
Date: 2015-07-01T20:21:10Z

This distribution has been tested as part of the CPAN Testers
project, supporting the Perl programming language.  See
http://wiki.cpantesters.org/ for more information or email
questions to cpan-testers-discuss@perl.org


--
Dear JJNAPIORK,

This is a computer-generated report for Test-WWW-Mechanize-Catalyst-0.60
on perl 5.20.1, created by App::cpanminus::reporter 0.11 (1.7016).

Thank you for uploading your work to CPAN.  Congratulations!
All tests were successful.

Sections of this report:

    * Tester comments
    * Program output
    * Prerequisites
    * Environment and other context

------------------------------
TESTER COMMENTS
------------------------------

Additional comments from tester:

none provided

------------------------------
PROGRAM OUTPUT
------------------------------

Output from '':

Building and testing Test-WWW-Mechanize-Catalyst-0.60
cp lib/Test/WWW/Mechanize/Catalyst.pm blib/lib/Test/WWW/Mechanize/Catalyst.pm
Manifying blib/man3/Test::WWW::Mechanize::Catalyst.3pm
PERL_DL_NONLAZY=1 /usr/bin/perl "-MExtUtils::Command::MM" "-MTest::Harness" "-e" "undef *Test::Harness::Switches; test_harness(0, 'inc', 'blib/lib', 'blib/arch')" t/*.t
t/auth-test.t ........... ok
t/cookies.t ............. ok
t/decoded_content.t ..... ok
# 
# ###################################################################
# Starting an external Catalyst HTTP server on port 7357
# To change the port, please set the TWMC_TEST_PORT env variable.
# (The server will be automatically shut-down right after the tests).
# ###################################################################
HTTP::Server::PSGI: Accepting connections at http://0:7357/
t/multi_content_type.t .. ok
t/pod.t ................. ok
t/redirect.t ............ ok
t/simple.t .............. ok
t/two_app.t ............. ok
t/useragent.t ........... ok
t/utf8.t ................ ok
t/white_label.t ......... ok
All tests successful.
Files=11, Tests=109, 24 wallclock secs ( 0.08 usr  0.02 sys + 11.07 cusr  0.84 csys = 12.01 CPU)
Result: PASS

------------------------------
PREREQUISITES
------------------------------

Prerequisite modules loaded:

    No requirements found

------------------------------
ENVIRONMENT AND OTHER CONTEXT
------------------------------

Environment variables:

    LANG = en_US.UTF-8
    LC_ALL = en_US.UTF-8
    LC_CTYPE = en_US.UTF-8
    PATH = /home/autumn/perl5/perlbrew/bin:/home/autumn/.rvm/gems/ruby-2.1.2/bin:/home/autumn/.rvm/gems/ruby-2.1.2@global/bin:/home/autumn/.rvm/rubies/ruby-2.1.2/bin:/home/autumn/bin:/usr/local/bin:/usr/bin:/bin:/usr/bin/X11:/usr/games:/home/autumn/.rvm/bin:/home/autumn/.npm:/home/autumn/.composer/vendor/bin:/home/autumn/perl5/bin:/home/autumn/go/bin:/home/autumn/bin/celtx:/home/autumn/.rvm/bin:/home/autumn/.npm:/home/autumn/.composer/vendor/bin:/home/autumn/perl5/bin:/home/autumn/go/bin:/home/autumn/bin/celtx:/home/autumn/.rvm/bin:/home/autumn/.npm:/home/autumn/.composer/vendor/bin:/home/autumn/perl5/bin:/home/autumn/go/bin:/home/autumn/bin/celtx
    PERL5LIB = /home/autumn/perl5/lib/perl5
    PERLBREW_BASHRC_VERSION = 0.72
    PERLBREW_HOME = /home/autumn/.perlbrew
    PERLBREW_ROOT = /home/autumn/perl5/perlbrew
    PERL_MB_OPT = --install_base "/home/autumn/perl5"
    PERL_MM_OPT = INSTALL_BASE=/home/autumn/perl5
    SHELL = /bin/bash
    TERM = screen
    TMPDIR = /tmp

Perl special variables (and OS-specific diagnostics, for MSWin32):

    EGID = 100 100
    EUID = 1000
    EXECUTABLE_NAME = /usr/bin/perl
    GID = 100 100
    UID = 1000

Perl module toolchain versions installed:

    Module              Have    
    ------------------- --------
    CPAN                2.05    
    CPAN::Meta          2.142690
    Cwd                 3.48    
    ExtUtils::CBuilder  0.280217
    ExtUtils::Command   1.18    
    ExtUtils::Install   1.67    
    ExtUtils::MakeMaker 6.98    
    ExtUtils::Manifest  1.63    
    ExtUtils::ParseXS   3.24    
    File::Spec          3.48    
    JSON                2.90    
    JSON::PP            2.27203 
    Module::Build       0.4210  
    Module::Signature   n/a     
    Parse::CPAN::Meta   1.4414  
    Test::Harness       3.30    
    Test::More          1.001014
    YAML                1.13    
    YAML::Syck          n/a     
    version             0.9909  


--

Summary of my perl5 (revision 5 version 20 subversion 1) configuration:
   
  Platform:
    osname=linux, osvers=3.16.3-1.gd2bbe7f-default, archname=x86_64-linux-thread-multi
    uname='linux cloud115 3.16.3-1.gd2bbe7f-default #1 smp thu sep 18 06:32:16 utc 2014 (d2bbe7f) x86_64 x86_64 x86_64 gnulinux '
    config_args='-ds -e -Dprefix=/usr -Dvendorprefix=/usr -Dinstallusrbinperl -Dusethreads -Di_db -Di_dbm -Di_ndbm -Di_gdbm -Dd_dbm_open -Duseshrplib=true -Doptimize=-fmessage-length=0 -grecord-gcc-switches -O2 -Wall -D_FORTIFY_SOURCE=2 -fstack-protector -funwind-tables -fasynchronous-unwind-tables -g -Wall -pipe -Accflags=-DPERL_USE_SAFE_PUTENV -Dotherlibdirs=/usr/lib/perl5/site_perl -Dinc_version_list=5.20.0/x86_64-linux-thread-multi 5.20.0'
    hint=recommended, useposix=true, d_sigaction=define
    useithreads=define, usemultiplicity=define
    use64bitint=define, use64bitall=define, uselongdouble=undef
    usemymalloc=n, bincompat5005=undef
  Compiler:
    cc='cc', ccflags ='-D_REENTRANT -D_GNU_SOURCE -DPERL_USE_SAFE_PUTENV -fwrapv -fno-strict-aliasing -pipe -fstack-protector -D_LARGEFILE_SOURCE -D_FILE_OFFSET_BITS=64',
    optimize='-fmessage-length=0 -grecord-gcc-switches -O2 -Wall -D_FORTIFY_SOURCE=2 -fstack-protector -funwind-tables -fasynchronous-unwind-tables -g -Wall -pipe',
    cppflags='-D_REENTRANT -D_GNU_SOURCE -DPERL_USE_SAFE_PUTENV -fwrapv -fno-strict-aliasing -pipe -fstack-protector'
    ccversion='', gccversion='4.8.3 20140627 [gcc-4_8-branch revision 212064]', gccosandvers=''
    intsize=4, longsize=8, ptrsize=8, doublesize=8, byteorder=12345678
    d_longlong=define, longlongsize=8, d_longdbl=define, longdblsize=16
    ivtype='long', ivsize=8, nvtype='double', nvsize=8, Off_t='off_t', lseeksize=8
    alignbytes=8, prototype=define
  Linker and Libraries:
    ld='cc', ldflags =' -L/usr/local/lib64 -fstack-protector'
    libpth=/usr/local/lib /usr/lib64/gcc/x86_64-suse-linux/4.8/include-fixed /usr/lib64/gcc/x86_64-suse-linux/4.8/../../../../x86_64-suse-linux/lib /usr/lib /lib/../lib64 /usr/lib/../lib64 /lib /lib64 /usr/lib64 /usr/local/lib64
    libs=-lm -ldl -lcrypt -lpthread
    perllibs=-lm -ldl -lcrypt -lpthread
    libc=/lib64/libc-2.19.so, so=so, useshrplib=true, libperl=libperl.so
    gnulibc_version='2.19'
  Dynamic Linking:
    dlsrc=dl_dlopen.xs, dlext=so, d_dlsymun=undef, ccdlflags='-Wl,-E -Wl,-rpath,/usr/lib/perl5/5.20.1/x86_64-linux-thread-multi/CORE'
    cccdlflags='-fPIC', lddlflags='-shared -L/usr/local/lib64 -fstack-protector'


Characteristics of this binary (from libperl): 
  Compile-time options: HAS_TIMES MULTIPLICITY PERLIO_LAYERS
                        PERL_DONT_CREATE_GVSV
                        PERL_HASH_FUNC_ONE_AT_A_TIME_HARD
                        PERL_IMPLICIT_CONTEXT PERL_MALLOC_WRAP
                        PERL_NEW_COPY_ON_WRITE PERL_PRESERVE_IVUV
                        PERL_USE_SAFE_PUTENV USE_64_BIT_ALL USE_64_BIT_INT
                        USE_ITHREADS USE_LARGE_FILES USE_LOCALE
                        USE_LOCALE_COLLATE USE_LOCALE_CTYPE
                        USE_LOCALE_NUMERIC USE_PERLIO USE_PERL_ATOF
                        USE_REENTRANT_API
  Built under linux
  Compiled at Oct  6 2014 09:15:06
  %ENV:
    PERL5LIB="/home/autumn/perl5/lib/perl5"
    PERLBREW_BASHRC_VERSION="0.72"
    PERLBREW_HOME="/home/autumn/.perlbrew"
    PERLBREW_ROOT="/home/autumn/perl5/perlbrew"
    PERL_MB_OPT="--install_base "/home/autumn/perl5""
    PERL_MM_OPT="INSTALL_BASE=/home/autumn/perl5"
  @INC:
    /home/autumn/perl5/lib/perl5/x86_64-linux-thread-multi
    /home/autumn/perl5/lib/perl5
    /usr/lib/perl5/site_perl/5.20.1/x86_64-linux-thread-multi
    /usr/lib/perl5/site_perl/5.20.1
    /usr/lib/perl5/vendor_perl/5.20.1/x86_64-linux-thread-multi
    /usr/lib/perl5/vendor_perl/5.20.1
    /usr/lib/perl5/5.20.1/x86_64-linux-thread-multi
    /usr/lib/perl5/5.20.1
    /usr/lib/perl5/site_perl
    .