Back
From: metabase:user:322078bc-2aae-11df-837a-5e0a49663a4f
Subject: PASS POE-Component-EasyDBI-1.23 v5.14.0 GNU/Linux
Date: 2011-05-23T14:12:38Z
This distribution has been tested as part of the CPAN Testers
project, supporting the Perl programming language. See
http://wiki.cpantesters.org/ for more information or email
questions to cpan-testers-discuss@perl.org
--
Dear David Davis,
This is a computer-generated error report created automatically by
CPANPLUS, version 0.9105. Testers personal comments may appear
at the end of this report.
MAKE TEST passed: PERL_DL_NONLAZY=1 /opt/perl-5.14.0/bin/perl "-MExtUtils::Command::MM" "-e" "test_harness(0, 'blib/lib', 'blib/arch')" t/*.t
Unquoted string "i" may clash with future reserved word at t/1.t line 242.
t/1.t .. ok
Unquoted string "i" may clash with future reserved word at t/2.t line 266.
You should see an error next, this is intended
# DBD::SQLite::db prepare failed: near "PDATE": syntax error
# Query affected 3 rows
t/2.t .. ok
Unquoted string "i" may clash with future reserved word at t/3.t line 268.
# Query affected 3 rows
t/3.t .. ok
All tests successful.
Files=3, Tests=51, 45 wallclock secs ( 2.40 usr 0.49 sys + 36.28 cusr 4.83 csys = 44.00 CPU)
Result: PASS
[MSG] [Mon May 23 14:12:27 2011] Sending test report for 'POE-Component-EasyDBI-1.23'
This report was machine-generated by CPANPLUS::Dist::YACSmoke 0.62.
------------------------------
ENVIRONMENT AND OTHER CONTEXT
------------------------------
Environment variables:
AUTOMATED_TESTING = 1
LANG = en_US.UTF-8
PATH = /usr/local/sbin:/usr/local/bin:/usr/sbin:/usr/bin:/sbin:/bin
PERL5LIB = :/opt/perl-5.14.0/.cpanplus/5.14.0/build/POE-Component-EasyDBI-1.23/blib/lib:/opt/perl-5.14.0/.cpanplus/5.14.0/build/POE-Component-EasyDBI-1.23/blib/arch
PERL5_CPANIDX_URL = http://cpan.mirror.local/cpanidx/
PERL5_CPANPLUS_IS_RUNNING = 16528
PERL5_CPANPLUS_IS_VERSION = 0.9105
PERL_EXTUTILS_AUTOINSTALL = --defaultdeps
PERL_MM_USE_DEFAULT = 1
SHELL = /bin/bash
TERM = linux
Perl special variables (and OS-specific diagnostics, for MSWin32):
Perl: $^X = /opt/perl-5.14.0/bin/perl
UID: $< = 0
EUID: $> = 0
GID: $( = 0 0
EGID: $) = 0 0
-------------------------------
--
Summary of my perl5 (revision 5 version 14 subversion 0) configuration:
Platform:
osname=linux, osvers=2.6.32-5-versatile, archname=armv5tejl-linux
uname='linux debian-armel 2.6.32-5-versatile #1 wed jan 12 23:05:11 utc 2011 armv5tejl gnulinux '
config_args='-des -Dprefix=/opt/perl-5.14.0'
hint=recommended, useposix=true, d_sigaction=define
useithreads=undef, usemultiplicity=undef
useperlio=define, d_sfio=undef, uselargefiles=define, usesocks=undef
use64bitint=undef, use64bitall=undef, uselongdouble=undef
usemymalloc=n, bincompat5005=undef
Compiler:
cc='cc', ccflags ='-fno-strict-aliasing -pipe -fstack-protector -I/usr/local/include -D_LARGEFILE_SOURCE -D_FILE_OFFSET_BITS=64',
optimize='-O2',
cppflags='-fno-strict-aliasing -pipe -fstack-protector -I/usr/local/include'
ccversion='', gccversion='4.4.5', gccosandvers=''
intsize=4, longsize=4, ptrsize=4, doublesize=8, byteorder=1234
d_longlong=define, longlongsize=8, d_longdbl=define, longdblsize=8
ivtype='long', ivsize=4, nvtype='double', nvsize=8, Off_t='off_t', lseeksize=8
alignbytes=8, prototype=define
Linker and Libraries:
ld='cc', ldflags =' -fstack-protector -L/usr/local/lib'
libpth=/usr/local/lib /lib /usr/lib
libs=-lnsl -ldl -lm -lcrypt -lutil -lc
perllibs=-lnsl -ldl -lm -lcrypt -lutil -lc
libc=/lib/libc-2.11.2.so, so=so, useshrplib=false, libperl=libperl.a
gnulibc_version='2.11.2'
Dynamic Linking:
dlsrc=dl_dlopen.xs, dlext=so, d_dlsymun=undef, ccdlflags='-Wl,-E'
cccdlflags='-fPIC', lddlflags='-shared -O2 -L/usr/local/lib -fstack-protector'
Characteristics of this binary (from libperl):
Compile-time options: PERL_DONT_CREATE_GVSV PERL_MALLOC_WRAP
PERL_PRESERVE_IVUV USE_LARGE_FILES USE_PERLIO
USE_PERL_ATOF
Built under linux
Compiled at May 20 2011 19:48:58
%ENV:
PERL5LIB=":/opt/perl-5.14.0/.cpanplus/5.14.0/build/POE-Component-EasyDBI-1.23/blib/lib:/opt/perl-5.14.0/.cpanplus/5.14.0/build/POE-Component-EasyDBI-1.23/blib/arch"
PERL5_CPANIDX_URL="http://cpan.mirror.local/cpanidx/"
PERL5_CPANPLUS_IS_RUNNING="16528"
PERL5_CPANPLUS_IS_VERSION="0.9105"
PERL_EXTUTILS_AUTOINSTALL="--defaultdeps"
PERL_MM_USE_DEFAULT="1"
@INC:
/opt/perl-5.14.0/.cpanplus/5.14.0/build/POE-Component-EasyDBI-1.23/blib/lib
/opt/perl-5.14.0/.cpanplus/5.14.0/build/POE-Component-EasyDBI-1.23/blib/arch
/opt/perl-5.14.0/lib/site_perl/5.14.0/armv5tejl-linux
/opt/perl-5.14.0/lib/site_perl/5.14.0
/opt/perl-5.14.0/lib/5.14.0/armv5tejl-linux
/opt/perl-5.14.0/lib/5.14.0
.