Tkx v1.10 Perl 5 v5.18.4 x86_64-linux

Status
Pass
From
Slaven Rezić
Dist
Tkx v1.10
Platform
Perl 5 v5.18.4 x86_64-linux
Date
2023-12-29 20:49:13
ID
b89c6b2c-a68b-11ee-89e3-baf16d8775ea
This distribution has been tested as part of the CPAN Testers
project, supporting the Perl programming language.  See
http://wiki.cpantesters.org/ for more information or email
questions to cpan-testers-discuss@perl.org


--
Dear Christopher Alexander Chavez,

This is a computer-generated report for Tkx-1.10
on perl 5.18.4, created by CPAN-Reporter-1.2018.

Thank you for uploading your work to CPAN.  Congratulations!
All tests were successful.

Sections of this report:

    * Tester comments
    * Program output
    * Prerequisites
    * Environment and other context

------------------------------
TESTER COMMENTS
------------------------------

Additional comments from tester:

none provided

------------------------------
PROGRAM OUTPUT
------------------------------

Output from '/usr/bin/make test':

PERL_DL_NONLAZY=1 "/opt/perl-5.18.4/bin/perl" "-MExtUtils::Command::MM" "-MTest::Harness" "-e" "undef *Test::Harness::Switches; test_harness(0, 'blib/lib', 'blib/arch')" t/*.t
t/LabEntry.t ...... ok
t/mega-config.t ... ok
t/mega.t .......... ok
t/nul-char.t ...... ok
t/tcl-callback.t .. ok
# Test 18 got: "Tcl error 'Foo at /home/cpansand/.cpan/build/2023122920/Tcl-1.27-0/blib/lib/Tcl.pm line 817.\n' while invoking scalar result call:\n\t\"error Foo\" at t/tcl.t line 37.\n" (t/tcl.t at line 42 *TODO*)
#    Expected: "Foo at t/tcl.t line 41.\n"
#  t/tcl.t line 42 is: ok($@, "Foo at @{[__FILE__]} line @{[__LINE__ - 1]}.\n");
t/tcl.t ........... ok
t/tk.t ............ ok
t/utf8.t .......... ok
All tests successful.
Files=8, Tests=54,  7 wallclock secs ( 0.03 usr  0.01 sys +  0.48 cusr  0.16 csys =  0.68 CPU)
Result: PASS

------------------------------
PREREQUISITES
------------------------------

Prerequisite modules loaded:

requires:

    Module              Need  Have
    ------------------- ----- ----
  ! perl                5.008     
  ! Tcl                 1.00      

build_requires:

    Module              Need  Have
    ------------------- ----- ----
  ! ExtUtils::MakeMaker 0         

configure_requires:

    Module              Need  Have
    ------------------- ----- ----
  ! ExtUtils::MakeMaker 0         


------------------------------
ENVIRONMENT AND OTHER CONTEXT
------------------------------

Environment variables:

    LANG = en_US.UTF-8
    PATH = /usr/local/bin:/usr/bin:/bin:/usr/local/sbin:/usr/sbin:/sbin:/home/cpansand/bin/linux-gnu:/home/cpansand/bin/sh:/home/cpansand/bin:/usr/games:/home/cpansand/devel:/home/eserte/src/srezic-misc/scripts
    PERL5LIB = /home/cpansand/.cpan/build/2023122920/Tcl-1.27-0/blib/arch:/home/cpansand/.cpan/build/2023122920/Tcl-1.27-0/blib/lib
    PERL5OPT = 
    PERL5_CPANPLUS_IS_RUNNING = 4502
    PERL5_CPAN_IS_RUNNING = 4502
    PERL5_CPAN_IS_RUNNING_IN_RECURSION = 4379,4502
    PERLDOC = -MPod::Perldoc::ToTextOverstrike
    PERL_BATCH = yes
    PERL_CANARY_STABILITY_NOPROMPT = 1
    PERL_CPAN_REPORTER_CONFIG = /var/tmp/cpansmoker-1023/2023122920/cpanreporter_000_config.ini
    PERL_EXTUTILS_AUTOINSTALL = --defaultdeps
    PERL_USE_UNSAFE_INC = 1
    SHELL = /usr/bin/zsh
    TERM = screen
    TMPDIR = /var/tmp/cpansmoker-1023/2023122920

Perl special variables (and OS-specific diagnostics, for MSWin32):

    $^X = /opt/perl-5.18.4/bin/perl
    $UID/$EUID = 1023 / 1023
    $GID = 1023 1023
    $EGID = 1023 1023

Perl module toolchain versions installed:

    Module Have
     


--