CGI v4.57 Perl 5 v5.30.3 darwin-thread-multi-2level

Status
Pass
From
Gintautas Grigelionis
Dist
CGI v4.57
Platform
Perl 5 v5.30.3 darwin-thread-multi-2level
Date
2023-06-06 11:38:56
ID
b8a894a8-045e-11ee-b3ee-c79b7c7ce5ae
This distribution has been tested as part of the CPAN Testers
project, supporting the Perl programming language.  See
http://wiki.cpantesters.org/ for more information or email
questions to cpan-testers-discuss@perl.org


--
Dear Lee Johnson,

This is a computer-generated report for CGI-4.57
on perl 5.30.3, created by CPAN-Reporter-1.2018.

Thank you for uploading your work to CPAN.  Congratulations!
All tests were successful.

Sections of this report:

    * Tester comments
    * Program output
    * Prerequisites
    * Environment and other context

------------------------------
TESTER COMMENTS
------------------------------

Additional comments from tester:

none provided

------------------------------
PROGRAM OUTPUT
------------------------------

Output from '/usr/bin/make test':

PERL_DL_NONLAZY=1 "/usr/bin/perl" "-MExtUtils::Command::MM" "-MTest::Harness" "-e" "undef *Test::Harness::Switches; test_harness(0, 'blib/lib', 'blib/arch')" t/*.t t/headers/*.t
t/append_query.t ............ ok
t/arbitrary_handles.t ....... ok
t/autoescape.t .............. ok
t/can.t ..................... ok
[Tue Jun  6 13:38:51 2023] carp.t: foo at /Users/gintas/.cpan/build/CGI-4.57-0/blib/lib/CGI/Carp.pm line 360.
t/carp.t .................... ok
# cgi-lib.pl routines
private_tempfiles has been deprecated at /Users/gintas/.cpan/build/CGI-4.57-0/blib/lib/CGI.pm line 3238.
t/cgi.t ..................... ok
t/changes.t ................. ok
t/charset.t ................. ok
t/checkbox_group.t .......... ok
t/command_line.t ............ ok
t/compiles_pod.t ............ ok
t/cookie.t .................. ok
t/delete.t .................. ok
t/Dump.t .................... ok
t/end_form.t ................ ok
t/form.t .................... ok
t/function.t ................ ok
t/gh-155.t .................. ok
t/headers.t ................. ok
t/headers/attachment.t ...... ok
t/headers/charset.t ......... ok
t/headers/cookie.t .......... ok
t/headers/default.t ......... ok
t/headers/nph.t ............. ok
t/headers/p3p.t ............. ok
t/headers/target.t .......... ok
t/headers/type.t ............ ok
t/hidden.t .................. ok
t/html.t .................... ok
t/html_functions.t .......... ok
t/http.t .................... ok
t/init.t .................... ok
t/multipart_globals.t ....... ok
t/multipart_init.t .......... ok
t/multipart_start.t ......... ok
t/no_tabindex.t ............. ok
t/param_fetch.t ............. ok
t/param_list_context.t ...... ok
t/popup_menu.t .............. ok
t/postdata.t ................ ok
CGI::Pretty is DEPRECATED and will be removed in a future release. Please see https://github.com/leejo/CGI.pm/issues/162 for more information at /Users/gintas/.cpan/build/CGI-4.57-0/blib/lib/CGI/Pretty.pm line 20.
t/pretty.t .................. ok
t/push.t .................... ok
t/query_string.t ............ ok
t/redirect_query_string.t ... ok
t/request.t ................. ok
t/rt-31107.t ................ ok
t/rt-52469.t ................ ok
t/rt-57524.t ................ ok
t/rt-75628.t ................ ok
t/rt-84767.t ................ ok
t/save_read_roundtrip.t ..... ok
t/sorted.t .................. ok
t/start_end_asterisk.t ...... ok
t/start_end_end.t ........... ok
t/start_end_start.t ......... ok
t/unescapeHTML.t ............ ok
t/upload.t .................. ok
t/upload_quoted_unquoted.t .. ok
t/uploadInfo.t .............. ok
t/url.t ..................... ok
t/user_agent.t .............. ok
t/utf8.t .................... ok
t/util-58.t ................. ok
t/util.t .................... ok
All tests successful.
Files=64, Tests=1592,  5 wallclock secs ( 0.16 usr  0.09 sys +  3.50 cusr  0.91 csys =  4.66 CPU)
Result: PASS

------------------------------
PREREQUISITES
------------------------------

Prerequisite modules loaded:

requires:

    Module              Need     Have    
    ------------------- -------- --------
    Carp                0        1.50    
    Config              0        5.030003
    Encode              0        3.19    
    Exporter            0        5.77    
    File::Spec          0.82     3.78    
    File::Temp          0.17     0.2311  
    HTML::Entities      3.69     3.81    
    if                  0        0.0608  
    overload            0        1.30    
    parent              0.225    0.241   
    perl                5.008001 5.030003
    strict              0        1.11    
    utf8                0        1.22    
    warnings            0        1.44    

build_requires:

    Module              Need     Have    
    ------------------- -------- --------
    Cwd                 0        3.78    
    ExtUtils::MakeMaker 0        7.70    
    File::Find          0        1.36    
    IO::File            0        1.51    
    IO::Handle          0        1.51    
    POSIX               0        1.88    
    Test::More          0.98     1.302195
    Test::NoWarnings    0        1.06    
    Test::Warn          0.3      0.37    

configure_requires:

    Module              Need     Have    
    ------------------- -------- --------
    ExtUtils::MakeMaker 0        7.70    


------------------------------
ENVIRONMENT AND OTHER CONTEXT
------------------------------

Environment variables:

    LANG = sv_SE.UTF-8
    PATH = /usr/local/bin:/System/Cryptexes/App/usr/bin:/usr/bin:/bin:/usr/sbin:/sbin:/Library/TeX/texbin:/usr/local/MacGPG2/bin:/opt/X11/bin:/Library/Apple/usr/bin:/var/run/com.apple.security.cryptexd/codex.system/bootstrap/usr/local/bin:/var/run/com.apple.security.cryptexd/codex.system/bootstrap/usr/bin:/var/run/com.apple.security.cryptexd/codex.system/bootstrap/usr/appleinternal/bin
    PERL5LIB = /Users/gintas/.cpan/build/Pod-Checker-1.75-0/blib/arch:/Users/gintas/.cpan/build/Pod-Checker-1.75-0/blib/lib:/Users/gintas/.cpan/build/Pod-Parser-1.66-0/blib/arch:/Users/gintas/.cpan/build/Pod-Parser-1.66-0/blib/lib:/Users/gintas/.cpan/build/Term-Cap-1.18-0/blib/arch:/Users/gintas/.cpan/build/Term-Cap-1.18-0/blib/lib:/Users/gintas/.cpan/build/Text-ParseWords-3.31-0/blib/arch:/Users/gintas/.cpan/build/Text-ParseWords-3.31-0/blib/lib:/Users/gintas/.cpan/build/CPAN-2.35-0/blib/arch:/Users/gintas/.cpan/build/CPAN-2.35-0/blib/lib
    PERL5OPT = 
    PERL5_CPANPLUS_IS_RUNNING = 33651
    PERL5_CPAN_IS_RUNNING = 33651
    PERL_USE_UNSAFE_INC = 1
    SHELL = /bin/bash
    TERM = xterm-256color
    TMPDIR = /var/folders/y9/7vddvyqs64j1pfp28_p_6dfm0000gq/T/

Perl special variables (and OS-specific diagnostics, for MSWin32):

    $^X = /usr/bin/perl
    $UID/$EUID = 503 / 503
    $GID = 20 20 12 61 79 80 81 98 701 702 33 100 204 250 395 398 399 400
    $EGID = 20 20 12 61 79 80 81 98 701 702 33 100 204 250 395 398 399 400

Perl module toolchain versions installed:

    Module              Have    
    ------------------- --------
    CPAN                2.35    
    CPAN::Meta          2.150010
    Cwd                 3.78    
    ExtUtils::CBuilder  0.280236
    ExtUtils::Command   7.70    
    ExtUtils::Install   2.22    
    ExtUtils::MakeMaker 7.70    
    ExtUtils::Manifest  1.75    
    ExtUtils::ParseXS   3.40    
    File::Spec          3.78    
    JSON                4.10    
    JSON::PP            4.16    
    Module::Build       0.4231  
    Module::Signature   0.88    
    Parse::CPAN::Meta   2.150010
    Test::Harness       3.44    
    Test::More          1.302195
    YAML                1.30    
    YAML::Syck          1.32    
    version             0.9929  


--

Summary of my perl5 (revision 5 version 30 subversion 3) configuration:
   
  Platform:
    osname=darwin
    osvers=22.0
    archname=darwin-thread-multi-2level
    uname='darwin vqw9c.p1s.plx.sd.apple.com 22.0 darwin kernel version 22.1.0: thu dec 15 17:42:24 pst 2022; root:xnu-8792.41.9.100.2~1development_x86_64 x86_64 '
    config_args='-ds -e -Dprefix=/usr -Dccflags=-g  -pipe  -Dldflags= -Dman3ext=3pm -Duseithreads -Duseshrplib -Dinc_version_list=none -Dcc=cc'
    hint=recommended
    useposix=true
    d_sigaction=define
    useithreads=define
    usemultiplicity=define
    use64bitint=define
    use64bitall=define
    uselongdouble=undef
    usemymalloc=n
    default_inc_excludes_dot=define
    bincompat5005=undef
  Compiler:
    cc='cc'
    ccflags =' -g -pipe -DPERL_USE_SAFE_PUTENV'
    optimize='-Os'
    cppflags='-g -pipe'
    ccversion=''
    gccversion='Apple LLVM 14.0.3 (clang-1403.0.22.11) [+internal-os]'
    gccosandvers=''
    intsize=4
    longsize=8
    ptrsize=8
    doublesize=8
    byteorder=12345678
    doublekind=3
    d_longlong=define
    longlongsize=8
    d_longdbl=define
    longdblsize=16
    longdblkind=3
    ivtype='long'
    ivsize=8
    nvtype='double'
    nvsize=8
    Off_t='off_t'
    lseeksize=8
    alignbytes=8
    prototype=define
  Linker and Libraries:
    ld='cc'
    ldflags =' '
    libpth=/AppleInternal/Library/BuildRoots/97f6331a-ba75-11ed-a4bc-863efbbaf80d/Applications/Xcode.app/Contents/Developer/Platforms/MacOSX.platform/Developer/SDKs/MacOSX13.3.Internal.sdk/usr/local/lib /AppleInternal/Library/BuildRoots/97f6331a-ba75-11ed-a4bc-863efbbaf80d/Applications/Xcode.app/Contents/Developer/Toolchains/OSX13.3.xctoolchain/usr/lib/clang/14.0.3/lib /AppleInternal/Library/BuildRoots/97f6331a-ba75-11ed-a4bc-863efbbaf80d/Applications/Xcode.app/Contents/Developer/Platforms/MacOSX.platform/Developer/SDKs/MacOSX13.3.Internal.sdk/usr/lib /AppleInternal/Library/BuildRoots/97f6331a-ba75-11ed-a4bc-863efbbaf80d/Applications/Xcode.app/Contents/Developer/Toolchains/OSX13.3.xctoolchain/usr/lib /AppleInternal/Library/BuildRoots/97f6331a-ba75-11ed-a4bc-863efbbaf80d/Applications/Xcode.app/Contents/Developer/Toolchains/XcodeDefault.xctoolchain/usr/lib /usr/lib /usr/local/lib
    libs= 
    perllibs=
    libc=
    so=dylib
    useshrplib=true
    libperl=libperl.dylib
    gnulibc_version=''
  Dynamic Linking:
    dlsrc=dl_dlopen.xs
    dlext=bundle
    d_dlsymun=undef
    ccdlflags=' '
    cccdlflags=' '
    lddlflags=' -bundle -undefined dynamic_lookup'


Characteristics of this binary (from libperl): 
  Compile-time options:
    HAS_TIMES
    MULTIPLICITY
    PERLIO_LAYERS
    PERL_COPY_ON_WRITE
    PERL_DONT_CREATE_GVSV
    PERL_IMPLICIT_CONTEXT
    PERL_MALLOC_WRAP
    PERL_OP_PARENT
    PERL_PRESERVE_IVUV
    PERL_USE_SAFE_PUTENV
    USE_64_BIT_ALL
    USE_64_BIT_INT
    USE_ITHREADS
    USE_LARGE_FILES
    USE_LOCALE
    USE_LOCALE_COLLATE
    USE_LOCALE_CTYPE
    USE_LOCALE_NUMERIC
    USE_LOCALE_TIME
    USE_PERLIO
    USE_PERL_ATOF
    USE_REENTRANT_API
    USE_THREAD_SAFE_LOCALE
  Locally applied patches:
    /Library/Perl/Updates/<version> comes before system perl directories
    installprivlib and installarchlib points to the Updates directory
  Built under darwin
  Compiled at Mar  4 2023 09:55:09
  %ENV:
    PERL5LIB="/Users/gintas/.cpan/build/Pod-Checker-1.75-0/blib/arch:/Users/gintas/.cpan/build/Pod-Checker-1.75-0/blib/lib:/Users/gintas/.cpan/build/Pod-Parser-1.66-0/blib/arch:/Users/gintas/.cpan/build/Pod-Parser-1.66-0/blib/lib:/Users/gintas/.cpan/build/Term-Cap-1.18-0/blib/arch:/Users/gintas/.cpan/build/Term-Cap-1.18-0/blib/lib:/Users/gintas/.cpan/build/Text-ParseWords-3.31-0/blib/arch:/Users/gintas/.cpan/build/Text-ParseWords-3.31-0/blib/lib:/Users/gintas/.cpan/build/CPAN-2.35-0/blib/arch:/Users/gintas/.cpan/build/CPAN-2.35-0/blib/lib"
    PERL5OPT=""
    PERL5_CPANPLUS_IS_RUNNING="33651"
    PERL5_CPAN_IS_RUNNING="33651"
    PERL_USE_UNSAFE_INC="1"
  @INC:
    /Users/gintas/.cpan/build/Pod-Checker-1.75-0/blib/arch
    /Users/gintas/.cpan/build/Pod-Checker-1.75-0/blib/lib
    /Users/gintas/.cpan/build/Pod-Parser-1.66-0/blib/arch
    /Users/gintas/.cpan/build/Pod-Parser-1.66-0/blib/lib
    /Users/gintas/.cpan/build/Term-Cap-1.18-0/blib/arch
    /Users/gintas/.cpan/build/Term-Cap-1.18-0/blib/lib
    /Users/gintas/.cpan/build/Text-ParseWords-3.31-0/blib/arch
    /Users/gintas/.cpan/build/Text-ParseWords-3.31-0/blib/lib
    /Users/gintas/.cpan/build/CPAN-2.35-0/blib/arch
    /Users/gintas/.cpan/build/CPAN-2.35-0/blib/lib
    /Library/Perl/5.30/darwin-thread-multi-2level
    /Library/Perl/5.30
    /Network/Library/Perl/5.30/darwin-thread-multi-2level
    /Network/Library/Perl/5.30
    /Library/Perl/Updates/5.30.3/darwin-thread-multi-2level
    /Library/Perl/Updates/5.30.3
    /System/Library/Perl/5.30/darwin-thread-multi-2level
    /System/Library/Perl/5.30
    /System/Library/Perl/Extras/5.30/darwin-thread-multi-2level
    /System/Library/Perl/Extras/5.30
    .