Report for Test-WWW-Mechanize-Catalyst-0.60

Back
From: metabase:user:de3f6d0c-9148-11e2-b3ef-101390f652a1
Subject: PASS Test-WWW-Mechanize-Catalyst-0.60 v5.20.3 GNU/Linux
Date: 2016-03-24T22:28:26Z

This distribution has been tested as part of the CPAN Testers
project, supporting the Perl programming language.  See
http://wiki.cpantesters.org/ for more information or email
questions to cpan-testers-discuss@perl.org


--
Dear John Napiorkowski,

This is a computer-generated report for Test-WWW-Mechanize-Catalyst-0.60
on perl 5.20.3, created by CPAN-Reporter-1.2017.

Thank you for uploading your work to CPAN.  Congratulations!
All tests were successful.

Sections of this report:

    * Tester comments
    * Program output
    * Prerequisites
    * Environment and other context

------------------------------
TESTER COMMENTS
------------------------------

Additional comments from tester:

none provided

------------------------------
PROGRAM OUTPUT
------------------------------

Output from '/usr/bin/make test':

PERL_DL_NONLAZY=1 "/opt/perlbrew/perls/perl-5.20.3/bin/perl" "-MExtUtils::Command::MM" "-MTest::Harness" "-e" "undef *Test::Harness::Switches; test_harness(0, 'inc', 'blib/lib', 'blib/arch')" t/*.t
t/auth-test.t ........... ok
t/cookies.t ............. ok
t/decoded_content.t ..... ok
# 
# ###################################################################
# Starting an external Catalyst HTTP server on port 7357
# To change the port, please set the TWMC_TEST_PORT env variable.
# (The server will be automatically shut-down right after the tests).
# ###################################################################
HTTP::Server::PSGI: Accepting connections at http://0:7357/
t/multi_content_type.t .. ok
t/pod.t ................. ok
t/redirect.t ............ ok
Term::Size::Any is not installed, can't autodetect terminal column width
Trouble trying to detect your terminal size, looking at $ENV{COLUMNS}
Cannot determine desired terminal width, using default of 80 columns
t/simple.t .............. ok
t/two_app.t ............. ok
t/useragent.t ........... ok
t/utf8.t ................ ok
t/white_label.t ......... ok
All tests successful.
Files=11, Tests=109, 26 wallclock secs ( 0.08 usr  0.02 sys + 15.17 cusr  0.77 csys = 16.04 CPU)
Result: PASS

------------------------------
PREREQUISITES
------------------------------

Prerequisite modules loaded:

requires:

    Module                                   Need     Have    
    ---------------------------------------- -------- --------
    Catalyst                                 5.90     5.90103 
    Class::Load                              0.19     0.23    
    LWP                                      5.816    6.15    
    Moose                                    0.67     2.1605  
    namespace::clean                         0.09     0.26    
    perl                                     5.008004 5.020003
    Test::WWW::Mechanize                     1.14     1.44    
    WWW::Mechanize                           1.54     1.75    

build_requires:

    Module                                   Need     Have    
    ---------------------------------------- -------- --------
    Catalyst::Plugin::Session::State::Cookie 0        0.17    
    Catalyst::Plugin::Session::Store::Dummy  0        0       
    ExtUtils::MakeMaker                      6.59     7.10    
    Test::Exception                          0        0.43    
    Test::More                               0.88     1.001014
    Test::utf8                               0        1.01    

configure_requires:

    Module                                   Need     Have    
    ---------------------------------------- -------- --------
    ExtUtils::MakeMaker                      6.59     7.10    


------------------------------
ENVIRONMENT AND OTHER CONTEXT
------------------------------

Environment variables:

    LANG = en_US.utf8
    PATH = /opt/perlbrew/bin:/opt/perlbrew/perls/perl-5.20.3/bin:/opt/ImageMagick-6.9.1-1:/usr/local/bin:/usr/bin:/bin:/opt/bin:/usr/x86_64-pc-linux-gnu/gcc-bin/4.9.3:/usr/x86_64-pc-linux-gnu/armv6j-hardfloat-linux-gnueabi/gcc-bin/4.8.4:/usr/x86_64-pc-linux-gnu/armv7a-hardfloat-linux-gnueabi/gcc-bin/4.8.4:/usr/lib64/subversion/bin
    PERL5LIB = 
    PERL5OPT = 
    PERL5_CPANPLUS_IS_RUNNING = 15762
    PERL5_CPAN_IS_RUNNING = 15762
    PERLBREW_BASHRC_VERSION = 0.73
    PERLBREW_HOME = /home/pk/.perlbrew
    PERLBREW_MANPATH = /opt/perlbrew/perls/perl-5.20.3/man
    PERLBREW_PATH = /opt/perlbrew/bin:/opt/perlbrew/perls/perl-5.20.3/bin
    PERLBREW_PERL = perl-5.20.3
    PERLBREW_ROOT = /opt/perlbrew
    PERLBREW_VERSION = 0.73
    SHELL = /bin/bash
    TERM = screen

Perl special variables (and OS-specific diagnostics, for MSWin32):

    $^X = /opt/perlbrew/perls/perl-5.20.3/bin/perl
    $UID/$EUID = 1000 / 1000
    $GID = 100 4 11 18 19 20 26 100 250 444 445 1015
    $EGID = 100 4 11 18 19 20 26 100 250 444 445 1015

Perl module toolchain versions installed:

    Module              Have    
    ------------------- --------
    CPAN                2.05    
    CPAN::Meta          2.150005
    Cwd                 3.48_01 
    ExtUtils::CBuilder  0.280217
    ExtUtils::Command   7.10    
    ExtUtils::Install   1.67    
    ExtUtils::MakeMaker 7.10    
    ExtUtils::Manifest  1.65    
    ExtUtils::ParseXS   3.24    
    File::Spec          3.48_01 
    JSON                2.90    
    JSON::PP            2.27300 
    Module::Build       0.4216  
    Module::Signature   n/a     
    Parse::CPAN::Meta   1.4414  
    Test::Harness       3.30    
    Test::More          1.001014
    YAML                n/a     
    YAML::Syck          n/a     
    version             0.9909  


--

Summary of my perl5 (revision 5 version 20 subversion 3) configuration:
   
  Platform:
    osname=linux, osvers=4.1.15-gentoo-r1, archname=x86_64-linux-thread-multi
    uname='linux elektra 4.1.15-gentoo-r1 #1 smp thu mar 3 22:14:22 cet 2016 x86_64 amd athlon(tm) dual core processor 4850e authenticamd gnulinux '
    config_args='-de -Dprefix=/opt/perlbrew/perls/perl-5.20.3 -Doptimize=-O3 -march=native -Duseshrplib -Dusethreads -Dusemultiplicity -Aeval:scriptdir=/opt/perlbrew/perls/perl-5.20.3/bin'
    hint=recommended, useposix=true, d_sigaction=define
    useithreads=define, usemultiplicity=define
    use64bitint=define, use64bitall=define, uselongdouble=undef
    usemymalloc=n, bincompat5005=undef
  Compiler:
    cc='cc', ccflags ='-D_REENTRANT -D_GNU_SOURCE -fwrapv -fno-strict-aliasing -pipe -fstack-protector -I/usr/local/include -D_LARGEFILE_SOURCE -D_FILE_OFFSET_BITS=64',
    optimize='-O3 -march=native',
    cppflags='-D_REENTRANT -D_GNU_SOURCE -fwrapv -fno-strict-aliasing -pipe -fstack-protector -I/usr/local/include'
    ccversion='', gccversion='4.9.3', gccosandvers=''
    intsize=4, longsize=8, ptrsize=8, doublesize=8, byteorder=12345678
    d_longlong=define, longlongsize=8, d_longdbl=define, longdblsize=16
    ivtype='long', ivsize=8, nvtype='double', nvsize=8, Off_t='off_t', lseeksize=8
    alignbytes=8, prototype=define
  Linker and Libraries:
    ld='cc', ldflags =' -fstack-protector -L/usr/local/lib'
    libpth=/usr/local/lib /usr/lib/gcc/x86_64-pc-linux-gnu/4.9.3/include-fixed /usr/lib /lib/../lib64 /usr/lib/../lib64 /lib /lib64 /usr/lib64 /usr/local/lib64
    libs=-lpthread -lnsl -lgdbm -ldb -ldl -lm -lcrypt -lutil -lc -lgdbm_compat
    perllibs=-lpthread -lnsl -ldl -lm -lcrypt -lutil -lc
    libc=libc-2.21.so, so=so, useshrplib=true, libperl=libperl.so
    gnulibc_version='2.21'
  Dynamic Linking:
    dlsrc=dl_dlopen.xs, dlext=so, d_dlsymun=undef, ccdlflags='-Wl,-E -Wl,-rpath,/opt/perlbrew/perls/perl-5.20.3/lib/5.20.3/x86_64-linux-thread-multi/CORE'
    cccdlflags='-fPIC', lddlflags='-shared -O3 -march=native -L/usr/local/lib -fstack-protector'


Characteristics of this binary (from libperl): 
  Compile-time options: HAS_TIMES MULTIPLICITY PERLIO_LAYERS
                        PERL_DONT_CREATE_GVSV
                        PERL_HASH_FUNC_ONE_AT_A_TIME_HARD
                        PERL_IMPLICIT_CONTEXT PERL_MALLOC_WRAP
                        PERL_NEW_COPY_ON_WRITE PERL_PRESERVE_IVUV
                        USE_64_BIT_ALL USE_64_BIT_INT USE_ITHREADS
                        USE_LARGE_FILES USE_LOCALE USE_LOCALE_COLLATE
                        USE_LOCALE_CTYPE USE_LOCALE_NUMERIC USE_PERLIO
                        USE_PERL_ATOF USE_REENTRANT_API
  Locally applied patches:
	Devel::PatchPerl 1.32
  Built under linux
  Compiled at Mar 24 2016 14:37:22
  %ENV:
    PERL5LIB=""
    PERL5OPT=""
    PERL5_CPANPLUS_IS_RUNNING="15762"
    PERL5_CPAN_IS_RUNNING="15762"
    PERLBREW_BASHRC_VERSION="0.73"
    PERLBREW_HOME="/home/pk/.perlbrew"
    PERLBREW_MANPATH="/opt/perlbrew/perls/perl-5.20.3/man"
    PERLBREW_PATH="/opt/perlbrew/bin:/opt/perlbrew/perls/perl-5.20.3/bin"
    PERLBREW_PERL="perl-5.20.3"
    PERLBREW_ROOT="/opt/perlbrew"
    PERLBREW_VERSION="0.73"
  @INC:
    /opt/perlbrew/perls/perl-5.20.3/lib/site_perl/5.20.3/x86_64-linux-thread-multi
    /opt/perlbrew/perls/perl-5.20.3/lib/site_perl/5.20.3
    /opt/perlbrew/perls/perl-5.20.3/lib/5.20.3/x86_64-linux-thread-multi
    /opt/perlbrew/perls/perl-5.20.3/lib/5.20.3
    .