Report for Sys-SigAction-0.15

Back
From: metabase:user:1eed3a18-483e-11e2-a87b-a3931c712682
Subject: PASS Sys-SigAction-0.15 v5.17.7 Mac OS X
Date: 2013-01-05T23:07:51Z

This distribution has been tested as part of the CPAN Testers
project, supporting the Perl programming language.  See
http://wiki.cpantesters.org/ for more information or email
questions to cpan-testers-discuss@perl.org


--
Sys-SigAction-0.15 ... PASS

Perl           : v5.17.7
System         : darwin
Local Versions :
    Class::Load                      : 0.20
    XML::NamespaceSupport            : 1.11
    LWP::Simple                      : 6.00
    Data::Dumper                     : 2.139
    DateTime::TimeZone               : 1.56
    Sub::Uplevel                     : 0.24
    Sub::Install                     : 0.926
    constant                         : 1.24
    Test::Builder::Tester            : 1.22
    File::Temp                       : 0.22
    Test::Warn                       : 0.24
    Bash::Completion                 : 0.008
    ExtUtils::Install                : 1.58
    strict                           : 1.07
    Class::Inspector                 : 1.28
    blib                             : 1.06
    feature                          : 1.32
    Symbol                           : 1.07
    Lingua::EN::Inflect::Phrase      : 0.18
    Sub::Exporter::Progressive       : 0.001006
    Sys::Hostname                    : 1.17
    Pod::Simple                      : 3.23
    integer                          : 1.00
    utf8                             : 1.10
    Module::CoreList                 : 2.79
    overload                         : 1.20
    ExtUtils::MakeMaker::Config      : 6.64
    JSON                             : 2.53
    Cwd                              : 3.39_03
    re                               : 0.23
    List::Util                       : 1.26
    warnings::register               : 1.02
    Carp                             : 1.28
    HTML::Parser                     : 3.69
    Params::Validate                 : 1.07
    FindBin                          : 1.51
    URI::Escape                      : 3.31
    Sub::Exporter                    : 0.984
    Test::Pod                        : 1.45
    HTTP::Tiny                       : 0.024
    Task::Weaken                     : 1.04
    Scope::Guard                     : 0.20
    JSON::XS                         : 2.33
    vars                             : 1.03
    HTTP::Response                   : 6.04
    B                                : 1.41
    File::Basename                   : 2.84
    File::Path                       : 2.08_01
    File::Copy                       : 2.25
    File::stat                       : 1.07
    Getopt::Long                     : 2.38
    Tie::Array                       : 1.05
    Encode                           : 2.47
    Params::Util                     : 1.07
    Pod::Usage                       : 1.51
    Data::Printer::Filter            : 
    DynaLoader                       : 1.18
    B::Hooks::EndOfScope             : 0.12
    File::Spec::Functions            : 3.39_02
    File::HomeDir                    : 1.00
    HTTP::Request                    : 6.00
    DB_File                          : 1.827
    warnings                         : 1.15
    Test::Requires                   : 0.06
    Exporter                         : 5.67
    HTTP::Request::Common            : 6.04
    File::Spec                       : 3.39_02
    Module::Pluggable                : 4.5
    Time::HiRes                      : 1.9725
    Test::More                       : 0.98
    Package::DeprecationManager      : 0.13
    File::HomeDir::Test              : 1.00
    LWP::UserAgent                   : 6.04
    HTML::Tagset                     : 3.20
    Module::Implementation           : 0.06
    Hash::Merge                      : 0.12
    Class::Accessor::Grouped         : 0.10009
    Archive::Tar                     : 1.90
    File::Compare                    : 1.1006
    common::sense                    : 3.6
    CPAN::DistnameInfo               : 0.12
    Digest::MD5                      : 2.52
    ExtUtils::Depends                : 0.304
    File::Next                       : 1.12
    ExtUtils::Installed              : 1.999002
    Fcntl                            : 1.11
    Package::Stash                   : 0.34
    LWP                              : 6.04
    HTTP::Headers                    : 6.05
    Any::Moose                       : 0.20
    attributes                       : 0.21
    Devel::Peek                      : 1.11
    Storable                         : 2.40
    Scalar::Util                     : 1.26
    POSIX                            : 1.32
    Mouse::Util::TypeConstraints     : 
    Tie::Hash                        : 1.04
    File::Which                      : 1.09
    URI                              : 1.60
    DBI                              : 1.623
    Module::Build                    : 0.4003
    B::Concise                       : 0.94
    Data::Printer                    : 0.35
    Devel::GlobalDestruction         : 0.09
    Term::ReadLine                   : 1.11
    Module::Load                     : 0.22
    Digest::SHA                      : 5.80
    YAML::Tiny                       : 1.51
    Test::Tester                     : 0.108
    B::Deparse                       : 1.19
    IPC::Open3                       : 1.13
    base                             : 2.18
    FileHandle                       : 2.02
    XSLoader                         : 0.16
    Mouse                            : 1.02
    MRO::Compat                      : 0.12
    Hash::Util                       : 0.13
    Sub::Name                        : 0.05
    Test::NoWarnings                 : 1.04
    Memoize                          : 1.03
    namespace::clean                 : 0.24
    File::Find                       : 1.23
    autodie                          : 2.13
    Text::Balanced                   : 2.02
    parent                           : 0.225
    URI::QueryParam                  : 
    Devel::PPPort                    : 3.20
    Getopt::Std                      : 1.07
    Text::Wrap                       : 2012.0818
    Test                             : 1.25_02
    Parse::CPAN::Meta                : 1.4404
    URI::URL                         : 5.04
    Attribute::Handlers              : 0.93
    Dist::CheckConflicts             : 0.02
    AnyEvent                         : 7.04
    DBD::SQLite                      : 1.37
    Module::Metadata                 : 1.000011
    DateTime::Locale                 : 0.45
    IO::File                         : 1.16
    Test::Exception                  : 0.31
    ExtUtils::MakeMaker              : 6.64
    Data::Dumper::Concise            : 2.020
    Test::Harness                    : 3.25_01
    File::Glob                       : 1.19
    IO::Zlib                         : 1.10
    Data::OptList                    : 0.107
    DateTime                         : 0.78
    Test::Builder                    : 0.98
    Module::Build::ModuleInfo        : 0.4003
    Try::Tiny                        : 0.12
    IO::Dir                          : 1.10
    Package::Stash::XS               : 0.26
    ExtUtils::CBuilder               : 0.280209
    List::MoreUtils                  : 0.33
    CPAN                             : 1.99_51
    version                          : 0.9901
    Module::Runtime                  : 0.013
    Text::Abbrev                     : 1.02
    Class::C3::Componentised         : 1.001000
    ExtUtils::ParseXS                : 3.18
    Test::Fatal                      : 0.010
    Term::ANSIColor                  : 3.02
    Test::Simple                     : 0.98
    Sub::Exporter::Util              : 0.984

Test Output    :

PERL_DL_NONLAZY=1 /Users/stas/perl5/perlbrew/perls/perl-5.17.7/bin/perl5.17.7 "-MExtUtils::Command::MM" "-e" "test_harness(0, 'blib/lib', 'blib/arch')" t/*.t
t/mask.t ..... ok
t/name.t ..... ok
t/nested.t ... ok
t/number.t ... ok

         
         NOTE: Setting safe=>1... with masked signals does not seem to work.
         The problem is that the masked signals are not masked, but when
         safe=>0 they are.  

         If you have an application for safe=>1 and can come up with 
         a test that works in the context of this module's installation
         please send me a patch to safe.t that tests it.
         
         See the block below this one... which if executed would test safe mode
         with masked signals... it is a clone of part of mask.t that proves this
         is broken.

         Lincoln
         
t/safe.t ..... ok
# testing fractional second timeout
t/timeout.t .. ok
All tests successful.
Files=6, Tests=35,  5 wallclock secs ( 0.04 usr  0.02 sys +  1.49 cusr  0.06 csys =  1.61 CPU)
Result: PASS


--

Summary of my perl5 (revision 5 version 17 subversion 7) configuration:
   
  Platform:
    osname=darwin, osvers=12.2.0, archname=darwin-2level
    uname='darwin stanislaws-macbook-pro.local 12.2.0 darwin kernel version 12.2.0: sat aug 25 00:48:52 pdt 2012; root:xnu-2050.18.24~1release_x86_64 x86_64 '
    config_args='-de -Dprefix=/Users/stas/perl5/perlbrew/perls/perl-5.17.7 -Dusedevel -Aeval:scriptdir=/Users/stas/perl5/perlbrew/perls/perl-5.17.7/bin'
    hint=recommended, useposix=true, d_sigaction=define
    useithreads=undef, usemultiplicity=undef
    useperlio=define, d_sfio=undef, uselargefiles=define, usesocks=undef
    use64bitint=define, use64bitall=define, uselongdouble=undef
    usemymalloc=n, bincompat5005=undef
  Compiler:
    cc='cc', ccflags ='-fno-common -DPERL_DARWIN -fno-strict-aliasing -pipe -fstack-protector -I/opt/local/include',
    optimize='-O3',
    cppflags='-fno-common -DPERL_DARWIN -fno-strict-aliasing -pipe -fstack-protector -I/opt/local/include'
    ccversion='', gccversion='4.2.1 Compatible Apple Clang 4.0 ((tags/Apple/clang-421.0.60))', gccosandvers=''
    intsize=4, longsize=8, ptrsize=8, doublesize=8, byteorder=12345678
    d_longlong=define, longlongsize=8, d_longdbl=define, longdblsize=16
    ivtype='long', ivsize=8, nvtype='double', nvsize=8, Off_t='off_t', lseeksize=8
    alignbytes=8, prototype=define
  Linker and Libraries:
    ld='env MACOSX_DEPLOYMENT_TARGET=10.3 cc', ldflags =' -fstack-protector -L/opt/local/lib'
    libpth=/opt/local/lib /usr/lib
    libs=-lgdbm -ldbm -ldl -lm -lutil -lc
    perllibs=-ldl -lm -lutil -lc
    libc=, so=dylib, useshrplib=false, libperl=libperl.a
    gnulibc_version=''
  Dynamic Linking:
    dlsrc=dl_dlopen.xs, dlext=bundle, d_dlsymun=undef, ccdlflags=' '
    cccdlflags=' ', lddlflags=' -bundle -undefined dynamic_lookup -L/opt/local/lib -fstack-protector'


Characteristics of this binary (from libperl): 
  Compile-time options: HAS_TIMES PERLIO_LAYERS PERL_DONT_CREATE_GVSV
                        PERL_MALLOC_WRAP PERL_NEW_COPY_ON_WRITE
                        PERL_PRESERVE_IVUV PERL_USE_DEVEL USE_64_BIT_ALL
                        USE_64_BIT_INT USE_LARGE_FILES USE_LOCALE
                        USE_LOCALE_COLLATE USE_LOCALE_CTYPE
                        USE_LOCALE_NUMERIC USE_PERLIO USE_PERL_ATOF
  Built under darwin
  Compiled at Jan  5 2013 20:15:57
  %ENV:
    PERLBREW_BASHRC_VERSION="0.58"
    PERLBREW_HOME="/Users/stas/.perlbrew"
    PERLBREW_MANPATH="/Users/stas/perl5/perlbrew/perls/perl-5.17.7/man"
    PERLBREW_PATH="/Users/stas/perl5/perlbrew/bin:/Users/stas/perl5/perlbrew/perls/perl-5.17.7/bin"
    PERLBREW_PERL="perl-5.17.7"
    PERLBREW_ROOT="/Users/stas/perl5/perlbrew"
    PERLBREW_VERSION="0.58"
    PERL_MM_USE_DEFAULT="1"
  @INC:
    /Users/stas/perl5/perlbrew/perls/perl-5.17.7/lib/site_perl/5.17.7/darwin-2level
    /Users/stas/perl5/perlbrew/perls/perl-5.17.7/lib/site_perl/5.17.7
    /Users/stas/perl5/perlbrew/perls/perl-5.17.7/lib/5.17.7/darwin-2level
    /Users/stas/perl5/perlbrew/perls/perl-5.17.7/lib/5.17.7
    .