Back
From: metabase:user:320bfe00-2aae-11df-837a-5e0a49663a4f
Subject: PASS Test-WWW-Mechanize-Catalyst-0.59 v5.8.9 GNU/Linux
Date: 2014-01-13T12:53:43Z
This distribution has been tested as part of the CPAN Testers
project, supporting the Perl programming language. See
http://wiki.cpantesters.org/ for more information or email
questions to cpan-testers-discuss@perl.org
--
Dear Dagfinn Ilmari Mannsaker,
This is a computer-generated report for Test-WWW-Mechanize-Catalyst-0.59
on perl 5.8.9, created by CPAN-Reporter-1.2010.
Thank you for uploading your work to CPAN. Congratulations!
All tests were successful.
Sections of this report:
* Tester comments
* Program output
* Prerequisites
* Environment and other context
------------------------------
TESTER COMMENTS
------------------------------
Additional comments from tester:
this report is from an automated smoke testing program
and was not reviewed by a human for accuracy
------------------------------
PROGRAM OUTPUT
------------------------------
Output from '/usr/bin/make test':
PERL_DL_NONLAZY=1 /home/sand/src/perl/repoperls/installed-perls/perl/perl-5.8.9/5da8/bin/perl "-MExtUtils::Command::MM" "-MTest::Harness" "-e" "undef *Test::Harness::Switches; test_harness(0, 'inc', 'blib/lib', 'blib/arch')" t/*.t
Argument "5.90059_003" isn't numeric in numeric ge (>=) at lib/Test/WWW/Mechanize/Catalyst.pm line 174.
t/auth-test.t ........... ok
Argument "5.90059_003" isn't numeric in numeric ge (>=) at lib/Test/WWW/Mechanize/Catalyst.pm line 174.
t/cookies.t ............. ok
Argument "5.90059_003" isn't numeric in numeric ge (>=) at lib/Test/WWW/Mechanize/Catalyst.pm line 174.
t/decoded_content.t ..... ok
#
# ###################################################################
# Starting an external Catalyst HTTP server on port 7357
# To change the port, please set the TWMC_TEST_PORT env variable.
# (The server will be automatically shut-down right after the tests).
# ###################################################################
Couldn't load class (Catalyst::Script::Server) because: "ensure_class_loaded" is not exported by the Catalyst::Utils module
Can't continue after import errors at /home/sand/src/perl/repoperls/installed-perls/perl/perl-5.8.9/5da8/lib/site_perl/5.8.9/Catalyst/ScriptRole.pm line 7.
BEGIN failed--compilation aborted at /home/sand/src/perl/repoperls/installed-perls/perl/perl-5.8.9/5da8/lib/site_perl/5.8.9/Catalyst/ScriptRole.pm line 7.
Compilation failed in require at /home/sand/src/perl/repoperls/installed-perls/perl/perl-5.8.9/5da8/lib/site_perl/5.8.9/Module/Runtime.pm line 313.
Compilation failed in require at t/multi_content_type.t line 30.
# Test::WWW::Mechanize::Catalyst=HASH(0x2fd3c90)
t/multi_content_type.t .. ok
t/pod.t ................. ok
Argument "5.90059_003" isn't numeric in numeric ge (>=) at lib/Test/WWW/Mechanize/Catalyst.pm line 174.
t/redirect.t ............ ok
Argument "5.90059_003" isn't numeric in numeric ge (>=) at /tmp/loop_over_bdir-24667-uCOjUg/Test-WWW-Mechanize-Catalyst-0.59-JnTzcS/blib/lib/Test/WWW/Mechanize/Catalyst.pm line 174.
t/simple.t .............. ok
Argument "5.90059_003" isn't numeric in numeric ge (>=) at /tmp/loop_over_bdir-24667-uCOjUg/Test-WWW-Mechanize-Catalyst-0.59-JnTzcS/blib/lib/Test/WWW/Mechanize/Catalyst.pm line 174.
t/two_app.t ............. ok
Argument "5.90059_003" isn't numeric in numeric ge (>=) at lib/Test/WWW/Mechanize/Catalyst.pm line 174.
t/useragent.t ........... ok
Argument "5.90059_003" isn't numeric in numeric ge (>=) at /tmp/loop_over_bdir-24667-uCOjUg/Test-WWW-Mechanize-Catalyst-0.59-JnTzcS/blib/lib/Test/WWW/Mechanize/Catalyst.pm line 174.
t/white_label.t ......... ok
All tests successful.
Files=10, Tests=108, 27 wallclock secs ( 0.05 usr 0.01 sys + 8.37 cusr 0.76 csys = 9.19 CPU)
Result: PASS
------------------------------
PREREQUISITES
------------------------------
Prerequisite modules loaded:
requires:
Module Need Have
---------------------------------------- -------- -----------
Catalyst 5.90 5.90059_003
Class::Load 0.19 0.20
LWP 5.816 6.05
Moose 0.67 2.1201
namespace::clean 0.09 0.24
perl 5.008004 5.008009
Test::WWW::Mechanize 1.14 1.44
WWW::Mechanize 1.54 1.73
build_requires:
Module Need Have
---------------------------------------- -------- -----------
Catalyst::Plugin::Session::State::Cookie 0 0.17
Catalyst::Plugin::Session::Store::Dummy 0 0
ExtUtils::MakeMaker 6.59 6.87_01
Test::Exception 0 0.32
Test::More 0.88 1.001002
Test::utf8 0 1.00
configure_requires:
Module Need Have
---------------------------------------- -------- -----------
ExtUtils::MakeMaker 6.59 6.87_01
------------------------------
ENVIRONMENT AND OTHER CONTEXT
------------------------------
Environment variables:
AUTOMATED_TESTING = 1
LANG = en_US.UTF-8
LANGUAGE = en_US:en
PATH = /usr/lib/ccache:/home/sand/bin:/usr/local/bin:/usr/bin:/bin:/usr/bin/X11:/usr/games:/usr/local/perl/bin:/usr/X11/bin:/sbin:/usr/sbin
PERL5LIB =
PERL5OPT =
PERL5_CPANPLUS_IS_RUNNING = 24668
PERL5_CPAN_IS_RUNNING = 24668
PERL_MM_USE_DEFAULT = 1
SHELL = /usr/bin/zsh
TERM = screen
Perl special variables (and OS-specific diagnostics, for MSWin32):
$^X = /home/sand/src/perl/repoperls/installed-perls/perl/perl-5.8.9/5da8/bin/perl
$UID/$EUID = 1005 / 1005
$GID = 1005 1005
$EGID = 1005 1005
Perl module toolchain versions installed:
Module Have
------------------- --------
CPAN 2.00
CPAN::Meta 2.133380
Cwd 3.40
ExtUtils::CBuilder 0.280212
ExtUtils::Command 1.16
ExtUtils::Install 1.54
ExtUtils::MakeMaker 6.87_01
ExtUtils::Manifest 1.60
ExtUtils::ParseXS 3.22
File::Spec 3.40
JSON 2.90
JSON::PP 2.27203
Module::Build 0.4204
Module::Signature 0.73
Parse::CPAN::Meta 1.4409
Test::Harness 3.30
Test::More 1.001002
YAML 0.88
YAML::Syck 1.27
version 0.9906
--
Summary of my perl5 (revision 5 version 8 subversion 9) configuration:
Platform:
osname=linux, osvers=3.11-2-amd64, archname=x86_64-linux
uname='linux k83 3.11-2-amd64 #1 smp debian 3.11.10-1 (2013-12-04) x86_64 gnulinux '
config_args='-Dprefix=/home/sand/src/perl/repoperls/installed-perls/perl/perl-5.8.9/5da8 -Dmyhostname=k83 -Dinstallusrbinperl=n -Uversiononly -Dusedevel -des -Ui_db -Uuseithreads -Uuselongdouble -DDEBUGGING=-g -Dusedl -Ddlsrc=dl_dlopen.xs -Dlibs=-lnsl -ldb -ldl -lm -lcrypt -lutil -lc -Dlibpth=/usr/lib/x86_64-linux-gnu /usr/local/lib /lib /usr/lib'
hint=recommended, useposix=true, d_sigaction=define
usethreads=undef use5005threads=undef useithreads=undef usemultiplicity=undef
useperlio=define d_sfio=undef uselargefiles=define usesocks=undef
use64bitint=define use64bitall=define uselongdouble=undef
usemymalloc=n, bincompat5005=undef
Compiler:
cc='cc', ccflags ='-fno-strict-aliasing -pipe -I/usr/local/include -D_LARGEFILE_SOURCE -D_FILE_OFFSET_BITS=64',
optimize='-O2 -g',
cppflags='-fno-strict-aliasing -pipe -I/usr/local/include'
ccversion='', gccversion='4.8.2', gccosandvers=''
intsize=4, longsize=8, ptrsize=8, doublesize=8, byteorder=12345678
d_longlong=define, longlongsize=8, d_longdbl=define, longdblsize=16
ivtype='long', ivsize=8, nvtype='double', nvsize=8, Off_t='off_t', lseeksize=8
alignbytes=8, prototype=define
Linker and Libraries:
ld='cc', ldflags =' -L/usr/local/lib'
libpth=/usr/lib/x86_64-linux-gnu /usr/local/lib /lib /usr/lib
libs=-lnsl -ldb -ldl -lm -lcrypt -lutil -lc
perllibs=-lnsl -ldl -lm -lcrypt -lutil -lc
libc=, so=so, useshrplib=false, libperl=libperl.a
gnulibc_version='2.17'
Dynamic Linking:
dlsrc=dl_dlopen.xs, dlext=so, d_dlsymun=undef, ccdlflags='-Wl,-E'
cccdlflags='-fPIC', lddlflags='-shared -O2 -g -L/usr/local/lib'
Characteristics of this binary (from libperl):
Compile-time options: PERL_MALLOC_WRAP USE_64_BIT_ALL USE_64_BIT_INT
USE_FAST_STDIO USE_LARGE_FILES USE_PERLIO
Built under linux
Compiled at Dec 12 2013 08:54:22
%ENV:
PERL5LIB=""
PERL5OPT=""
PERL5_CPANPLUS_IS_RUNNING="24668"
PERL5_CPAN_IS_RUNNING="24668"
PERL_MM_USE_DEFAULT="1"
@INC:
/home/sand/src/perl/repoperls/installed-perls/perl/perl-5.8.9/5da8/lib/5.8.9/x86_64-linux
/home/sand/src/perl/repoperls/installed-perls/perl/perl-5.8.9/5da8/lib/5.8.9
/home/sand/src/perl/repoperls/installed-perls/perl/perl-5.8.9/5da8/lib/site_perl/5.8.9/x86_64-linux
/home/sand/src/perl/repoperls/installed-perls/perl/perl-5.8.9/5da8/lib/site_perl/5.8.9
.