Project-Gantt v1.03 Perl 5 v5.12.0 i386-freebsd

Status
Pass
From
Chris Williams (BINGOS)
Dist
Project-Gantt v1.03
Platform
Perl 5 v5.12.0 i386-freebsd
Date
2010-04-27T08:56:15
ID
bcb03956-51da-11df-b9fc-021a90befd91
This distribution has been tested as part of the CPAN Testers
project, supporting the Perl programming language.  See
http://wiki.cpantesters.org/ for more information or email
questions to cpan-testers-discuss@perl.org


--

Dear AWESTHOLM,
    
This is a computer-generated error report created automatically by
CPANPLUS, version 0.9003. Testers personal comments may appear 
at the end of this report.

MAKE TEST passed: PERL_DL_NONLAZY=1 /usr/home/cpan/pit/bare/perl-5.12.0/bin/perl "-MExtUtils::Command::MM" "-e" "test_harness(0, 'blib/lib', 'blib/arch')" t/*.t
UNIVERSAL->import is deprecated and will be removed in a future perl at /usr/home/cpan/pit/bare/conf/perl-5.12.0/.cpanplus/5.12.0/build/Class-Date-1.1.9/blib/lib/Class/Date.pm line 15
UNIVERSAL->import is deprecated and will be removed in a future perl at /usr/home/cpan/pit/bare/conf/perl-5.12.0/.cpanplus/5.12.0/build/Class-Date-1.1.9/blib/lib/Class/Date.pm line 589
t/00_base.t ....... ok
UNIVERSAL->import is deprecated and will be removed in a future perl at /usr/home/cpan/pit/bare/conf/perl-5.12.0/.cpanplus/5.12.0/build/Class-Date-1.1.9/blib/lib/Class/Date.pm line 15
UNIVERSAL->import is deprecated and will be removed in a future perl at /usr/home/cpan/pit/bare/conf/perl-5.12.0/.cpanplus/5.12.0/build/Class-Date-1.1.9/blib/lib/Class/Date.pm line 589
t/10_fields.t ..... ok
UNIVERSAL->import is deprecated and will be removed in a future perl at /usr/home/cpan/pit/bare/conf/perl-5.12.0/.cpanplus/5.12.0/build/Class-Date-1.1.9/blib/lib/Class/Date.pm line 15
UNIVERSAL->import is deprecated and will be removed in a future perl at /usr/home/cpan/pit/bare/conf/perl-5.12.0/.cpanplus/5.12.0/build/Class-Date-1.1.9/blib/lib/Class/Date.pm line 589
t/20_gmdate.t ..... ok
UNIVERSAL->import is deprecated and will be removed in a future perl at /usr/home/cpan/pit/bare/conf/perl-5.12.0/.cpanplus/5.12.0/build/Class-Date-1.1.9/blib/lib/Class/Date.pm line 15
UNIVERSAL->import is deprecated and will be removed in a future perl at /usr/home/cpan/pit/bare/conf/perl-5.12.0/.cpanplus/5.12.0/build/Class-Date-1.1.9/blib/lib/Class/Date.pm line 589
t/30_localdate.t .. ok
UNIVERSAL->import is deprecated and will be removed in a future perl at /usr/home/cpan/pit/bare/conf/perl-5.12.0/.cpanplus/5.12.0/build/Class-Date-1.1.9/blib/lib/Class/Date.pm line 15
UNIVERSAL->import is deprecated and will be removed in a future perl at /usr/home/cpan/pit/bare/conf/perl-5.12.0/.cpanplus/5.12.0/build/Class-Date-1.1.9/blib/lib/Class/Date.pm line 589
t/40_errors.t ..... ok
All tests successful.
Files=5, Tests=175,  1 wallclock secs ( 0.09 usr  0.05 sys +  0.26 cusr  0.15 csys =  0.55 CPU)
Result: PASS

[MSG] [Tue Apr 27 09:56:14 2010] Sending test report for 'Class-Date-1.1.9'
[MSG] [Tue Apr 27 09:56:14 2010] Successfully sent 'pass' report for 'Class-Date-1.1.9'
[MSG] [Tue Apr 27 09:56:14 2010] Known uninstallable prereqs PerlMagick-6.59 - aborting install

[MSG] [Tue Apr 27 09:56:14 2010] Will not install prerequisite 'Image::Magick' -- Note that the overall install may fail due to this
[MSG] [Tue Apr 27 09:56:15 2010] cp Gantt/GanttHeader.pm blib/lib/Project/Gantt/GanttHeader.pm
cp Gantt/ImageWriter.pm blib/lib/Project/Gantt/ImageWriter.pm
cp Gantt/Resource.pm blib/lib/Project/Gantt/Resource.pm
cp Gantt/SpanInfo.pm blib/lib/Project/Gantt/SpanInfo.pm
cp Gantt/Task.pm blib/lib/Project/Gantt/Task.pm
cp Gantt/Skin.pm blib/lib/Project/Gantt/Skin.pm
cp Gantt.pm blib/lib/Project/Gantt.pm
cp Gantt/Globals.pm blib/lib/Project/Gantt/Globals.pm
cp Gantt/TimeSpan.pm blib/lib/Project/Gantt/TimeSpan.pm
cp Gantt/DateUtils.pm blib/lib/Project/Gantt/DateUtils.pm
cp Gantt/TextUtils.pm blib/lib/Project/Gantt/TextUtils.pm
cp Gantt/Vera.ttf blib/lib/Project/Gantt/Vera.ttf
Manifying blib/man3/Project::Gantt.3

[MSG] [Tue Apr 27 09:56:15 2010] No tests defined for Project::Gantt extension.
[MSG] [Tue Apr 27 09:56:15 2010] Sending test report for 'Project-Gantt-1.03'

This report was machine-generated by CPANPLUS::Dist::YACSmoke 0.56.
Powered by minismokebox version 0.26

------------------------------
ENVIRONMENT AND OTHER CONTEXT
------------------------------

Environment variables:

    AUTOMATED_TESTING = 1
    PATH = /sbin:/bin:/usr/sbin:/usr/bin:/usr/games:/usr/local/sbin:/usr/local/bin:/home/cpan/bin
    PERL5LIB = :/usr/home/cpan/pit/bare/conf/perl-5.12.0/.cpanplus/5.12.0/build/Class-Date-1.1.9/blib/lib:/usr/home/cpan/pit/bare/conf/perl-5.12.0/.cpanplus/5.12.0/build/Class-Date-1.1.9/blib/arch:/usr/home/cpan/pit/bare/conf/perl-5.12.0/.cpanplus/5.12.0/build/Gantt/blib/lib:/usr/home/cpan/pit/bare/conf/perl-5.12.0/.cpanplus/5.12.0/build/Gantt/blib/arch
    PERL5_CPANPLUS_IS_RUNNING = 69906
    PERL5_CPANPLUS_IS_VERSION = 0.9003
    PERL5_MINISMOKEBOX = 0.26
    PERL5_YACSMOKE_BASE = /usr/home/cpan/pit/bare/conf/perl-5.12.0/
    PERL_EXTUTILS_AUTOINSTALL = --defaultdeps
    PERL_MM_USE_DEFAULT = 1
    SHELL = /usr/local/bin/bash
    TERM = screen

Perl special variables (and OS-specific diagnostics, for MSWin32):

    Perl: $^X = /usr/home/cpan/pit/bare/perl-5.12.0/bin/perl
    UID:  $<  = 1003
    EUID: $>  = 1003
    GID:  $(  = 1003 1003 1003
    EGID: $)  = 1003 1003 1003


-------------------------------


--

Summary of my perl5 (revision 5 version 12 subversion 0) configuration:
   
  Platform:
    osname=freebsd, osvers=7.2-release, archname=i386-freebsd
    uname='freebsd wintermute.staffordshire.gov.uk 7.2-release freebsd 7.2-release #0: fri may 1 08:49:13 utc 2009 root@walker.cse.buffalo.edu:usrobjusrsrcsysgeneric i386 '
    config_args='-de -Dprefix=/usr/home/cpan/pit/bare/perl-5.12.0'
    hint=recommended, useposix=true, d_sigaction=define
    useithreads=undef, usemultiplicity=undef
    useperlio=define, d_sfio=undef, uselargefiles=define, usesocks=undef
    use64bitint=undef, use64bitall=undef, uselongdouble=undef
    usemymalloc=n, bincompat5005=undef
  Compiler:
    cc='cc', ccflags ='-DHAS_FPSETMASK -DHAS_FLOATINGPOINT_H -fno-strict-aliasing -pipe -fstack-protector -I/usr/local/include',
    optimize='-O',
    cppflags='-DHAS_FPSETMASK -DHAS_FLOATINGPOINT_H -fno-strict-aliasing -pipe -fstack-protector -I/usr/local/include'
    ccversion='', gccversion='4.2.1 20070719  [FreeBSD]', gccosandvers=''
    intsize=4, longsize=4, ptrsize=4, doublesize=8, byteorder=1234
    d_longlong=define, longlongsize=8, d_longdbl=define, longdblsize=12
    ivtype='long', ivsize=4, nvtype='double', nvsize=8, Off_t='off_t', lseeksize=8
    alignbytes=4, prototype=define
  Linker and Libraries:
    ld='cc', ldflags ='-Wl,-E  -fstack-protector -L/usr/local/lib'
    libpth=/usr/lib /usr/local/lib
    libs=-lgdbm -lm -lcrypt -lutil -lc
    perllibs=-lm -lcrypt -lutil -lc
    libc=, so=so, useshrplib=false, libperl=libperl.a
    gnulibc_version=''
  Dynamic Linking:
    dlsrc=dl_dlopen.xs, dlext=so, d_dlsymun=undef, ccdlflags=' '
    cccdlflags='-DPIC -fPIC', lddlflags='-shared  -L/usr/local/lib -fstack-protector'


Characteristics of this binary (from libperl): 
  Compile-time options: PERL_DONT_CREATE_GVSV PERL_MALLOC_WRAP
                        USE_LARGE_FILES USE_PERLIO USE_PERL_ATOF
  Built under freebsd
  Compiled at Apr 25 2010 21:18:12
  %ENV:
    PERL5LIB=":/usr/home/cpan/pit/bare/conf/perl-5.12.0/.cpanplus/5.12.0/build/Class-Date-1.1.9/blib/lib:/usr/home/cpan/pit/bare/conf/perl-5.12.0/.cpanplus/5.12.0/build/Class-Date-1.1.9/blib/arch:/usr/home/cpan/pit/bare/conf/perl-5.12.0/.cpanplus/5.12.0/build/Gantt/blib/lib:/usr/home/cpan/pit/bare/conf/perl-5.12.0/.cpanplus/5.12.0/build/Gantt/blib/arch"
    PERL5_CPANPLUS_IS_RUNNING="69906"
    PERL5_CPANPLUS_IS_VERSION="0.9003"
    PERL5_MINISMOKEBOX="0.26"
    PERL5_YACSMOKE_BASE="/usr/home/cpan/pit/bare/conf/perl-5.12.0/"
    PERL_EXTUTILS_AUTOINSTALL="--defaultdeps"
    PERL_MM_USE_DEFAULT="1"
  @INC:
    /usr/home/cpan/pit/bare/conf/perl-5.12.0/.cpanplus/5.12.0/build/Class-Date-1.1.9/blib/lib
    /usr/home/cpan/pit/bare/conf/perl-5.12.0/.cpanplus/5.12.0/build/Class-Date-1.1.9/blib/arch
    /usr/home/cpan/pit/bare/conf/perl-5.12.0/.cpanplus/5.12.0/build/Gantt/blib/lib
    /usr/home/cpan/pit/bare/conf/perl-5.12.0/.cpanplus/5.12.0/build/Gantt/blib/arch
    /usr/home/cpan/pit/bare/perl-5.12.0/lib/site_perl/5.12.0/i386-freebsd
    /usr/home/cpan/pit/bare/perl-5.12.0/lib/site_perl/5.12.0
    /usr/home/cpan/pit/bare/perl-5.12.0/lib/5.12.0/i386-freebsd
    /usr/home/cpan/pit/bare/perl-5.12.0/lib/5.12.0
    .