Report for Sys-SigAction-0.15

Back
From: metabase:user:30f4dfbe-2aae-11df-837a-5e0a49663a4f
Subject: PASS Sys-SigAction-0.15 v5.10.0 FreeBSD
Date: 2013-05-10T19:42:25Z

This distribution has been tested as part of the CPAN Testers
project, supporting the Perl programming language.  See
http://wiki.cpantesters.org/ for more information or email
questions to cpan-testers-discuss@perl.org


--
Dear Lincoln A Baxter,

This is a computer-generated report for Sys-SigAction-0.15
on perl 5.10.0, created by CPAN-Reporter-1.2010.

Thank you for uploading your work to CPAN.  Congratulations!
All tests were successful.

Sections of this report:

    * Tester comments
    * Program output
    * Prerequisites
    * Environment and other context

------------------------------
TESTER COMMENTS
------------------------------

Additional comments from tester:

this report is from an automated smoke testing program
and was not reviewed by a human for accuracy

------------------------------
PROGRAM OUTPUT
------------------------------

Output from '/usr/bin/make test':

PERL_DL_NONLAZY=1 /home/njh/perl5/perlbrew/perls/perl-5.10.0/bin/perl "-MExtUtils::Command::MM" "-e" "test_harness(0, 'blib/lib', 'blib/arch')" t/*.t
t/mask.t ..... ok
t/name.t ..... ok
t/nested.t ... ok
t/number.t ... ok

         
         NOTE: Setting safe=>1... with masked signals does not seem to work.
         The problem is that the masked signals are not masked, but when
         safe=>0 they are.  

         If you have an application for safe=>1 and can come up with 
         a test that works in the context of this module's installation
         please send me a patch to safe.t that tests it.
         
         See the block below this one... which if executed would test safe mode
         with masked signals... it is a clone of part of mask.t that proves this
         is broken.

         Lincoln
         
t/safe.t ..... ok
# testing fractional second timeout
t/timeout.t .. ok
All tests successful.
Files=6, Tests=35,  6 wallclock secs ( 0.09 usr  0.04 sys +  1.35 cusr  0.24 csys =  1.73 CPU)
Result: PASS

------------------------------
PREREQUISITES
------------------------------

Prerequisite modules loaded:

requires:

    Module              Need Have
    ------------------- ---- ----
    POSIX               0    1.13
    Test::More          0    0.98

build_requires:

    Module              Need Have
    ------------------- ---- ----
    ExtUtils::MakeMaker 0    6.66

configure_requires:

    Module              Need Have
    ------------------- ---- ----
    ExtUtils::MakeMaker 0    6.66


------------------------------
ENVIRONMENT AND OTHER CONTEXT
------------------------------

Environment variables:

    AUTOMATED_TESTING = 1
    LANG = 
    LD_LIBRARY_PATH = /usr/local/lib:
    PATH = /home/njh/perl5/perlbrew/bin:/home/njh/perl5/perlbrew/perls/perl-5.10.0/bin:/home/njh/perl5/perlbrew/bin:/home/njh/perl5/perlbrew/perls/perl-5.8.9/bin:/sbin:/bin:/usr/sbin:/usr/bin:/usr/games:/usr/local/sbin:/usr/local/bin:/home/njh/bin:/usr/perl5/bin
    PERL5LIB = /home/njh/.cpan/build/File-Pid-1.01-e1KLnc/blib/arch:/home/njh/.cpan/build/File-Pid-1.01-e1KLnc/blib/lib:/home/njh/.cpan/build/Config-General-2.51-_Vuj8C/blib/arch:/home/njh/.cpan/build/Config-General-2.51-_Vuj8C/blib/lib
    PERL5OPT = 
    PERL5_CPANPLUS_IS_RUNNING = 95692
    PERL5_CPAN_IS_RUNNING = 95692
    PERL5_CPAN_IS_RUNNING_IN_RECURSION = 95391,95692
    PERLBREW_BASHRC_VERSION = 0.63
    PERLBREW_HOME = /home/njh/.perlbrew
    PERLBREW_MANPATH = /home/njh/perl5/perlbrew/perls/perl-5.10.0/man
    PERLBREW_PATH = /home/njh/perl5/perlbrew/bin:/home/njh/perl5/perlbrew/perls/perl-5.10.0/bin
    PERLBREW_PERL = perl-5.10.0
    PERLBREW_ROOT = /home/njh/perl5/perlbrew
    PERLBREW_VERSION = 0.63
    PERL_CR_SMOKER_CURRENT = MPMinus-1.12
    PERL_CR_SMOKER_RUNONCE = 1
    PERL_EXTUTILS_AUTOINSTALL = --defaultdeps
    PERL_MM_USE_DEFAULT = 1
    SHELL = /usr/local/bin/bash
    TERM = xterm
    TMPDIR = /tmp

Perl special variables (and OS-specific diagnostics, for MSWin32):

    $^X = /home/njh/perl5/perlbrew/perls/perl-5.10.0/bin/perl
    $UID/$EUID = 1001 / 1001
    $GID = 1001 1001 0
    $EGID = 1001 1001 0

Perl module toolchain versions installed:

    Module              Have    
    ------------------- --------
    CPAN                2.00    
    CPAN::Meta          2.130880
    Cwd                 3.40    
    ExtUtils::CBuilder  0.280205
    ExtUtils::Command   1.17    
    ExtUtils::Install   1.54    
    ExtUtils::MakeMaker 6.66    
    ExtUtils::Manifest  1.61    
    ExtUtils::ParseXS   3.18    
    File::Spec          3.40    
    JSON                2.57    
    JSON::PP            2.27200 
    Module::Build       0.4005  
    Module::Signature   0.70    
    Parse::CPAN::Meta   1.4404  
    Test::Harness       3.28    
    Test::More          0.98    
    YAML                0.84    
    YAML::Syck          1.25    
    version             0.9901  


--

Summary of my perl5 (revision 5 version 10 subversion 0) configuration:
  Platform:
    osname=freebsd, osvers=9.0-release, archname=amd64-freebsd-thread-multi
    uname='freebsd qemu 9.0-release freebsd 9.0-release #0: tue jan 3 07:46:30 utc 2012 root@farrell.cse.buffalo.edu:usrobjusrsrcsysgeneric amd64 '
    config_args='-de -Dprefix=/home/njh/perl5/perlbrew/perls/perl-5.10.0 -Duseithreads -Dusemultiplicity -Accflags=-O2 -W -Wformat=2 -Wswitch -Wshadow -Wwrite-strings -Wuninitialized -Wall -pipe -mtune=native -march=native -fomit-frame-pointer -msse2 -msse -mmmx -mfpmath=sse -pedantic -D_FORTIFY_SOURCE=2 -Wpointer-arith -Wstrict-prototypes -fstack-protector -Wstack-protector -Wextra -Wbad-function-cast -Wcast-align -Wcast-qual -Wdisabled-optimization -Wendif-labels -Wfloat-equal -Wformat-nonliteral -Winline -Wmissing-declarations -Wmissing-prototypes -Wnested-externs -Wpointer-arith -Wundef -Wformat-security -Aeval:scriptdir=/home/njh/perl5/perlbrew/perls/perl-5.10.0/bin'
    hint=recommended, useposix=true, d_sigaction=define
    useithreads=define, usemultiplicity=define
    useperlio=define, d_sfio=undef, uselargefiles=define, usesocks=undef
    use64bitint=define, use64bitall=define, uselongdouble=undef
    usemymalloc=n, bincompat5005=undef
  Compiler:
    cc='cc', ccflags ='-DHAS_FPSETMASK -DHAS_FLOATINGPOINT_H -O2 -W -Wformat=2 -Wswitch -Wshadow -Wwrite-strings -Wuninitialized -Wall -pipe -mtune=native -march=native -fomit-frame-pointer -msse2 -msse -mmmx -mfpmath=sse -pedantic -D_FORTIFY_SOURCE=2 -Wpointer-arith -Wstrict-prototypes -fstack-protector -Wstack-protector -Wextra -Wbad-function-cast -Wcast-align -Wcast-qual -Wdisabled-optimization -Wendif-labels -Wfloat-equal -Wformat-nonliteral -Winline -Wmissing-declarations -Wmissing-prototypes -Wnested-externs -Wpointer-arith -Wundef -Wformat-security -fno-strict-aliasing -I/usr/local/include',
    optimize='-O',
    cppflags='-DHAS_FPSETMASK -DHAS_FLOATINGPOINT_H -O2 -W -Wformat=2 -Wswitch -Wshadow -Wwrite-strings -Wuninitialized -Wall -pipe -mtune=native -march=native -fomit-frame-pointer -msse2 -msse -mmmx -mfpmath=sse -pedantic -D_FORTIFY_SOURCE=2 -Wpointer-arith -Wstrict-prototypes -fstack-protector -Wstack-protector -Wextra -Wbad-function-cast -Wcast-align -Wcast-qual -Wdisabled-optimization -Wendif-labels -Wfloat-equal -Wformat-nonliteral -Winline -Wmissing-declarations -Wmissing-prototypes -Wnested-externs -Wpointer-arith -Wundef -Wformat-security -fno-strict-aliasing -I/usr/local/include'
    ccversion='', gccversion='4.2.1 20070831 patched [FreeBSD]', gccosandvers=''
    intsize=4, longsize=8, ptrsize=8, doublesize=8, byteorder=12345678
    d_longlong=define, longlongsize=8, d_longdbl=define, longdblsize=16
    ivtype='long', ivsize=8, nvtype='double', nvsize=8, Off_t='off_t', lseeksize=8
    alignbytes=8, prototype=define
  Linker and Libraries:
    ld='cc', ldflags ='-pthread -Wl,-E  -L/usr/local/lib'
    libpth=/usr/lib /usr/local/lib
    libs=-lm -lcrypt
    perllibs=-lm -lcrypt
    libc=, so=so, useshrplib=false, libperl=libperl.a
    gnulibc_version=''
  Dynamic Linking:
    dlsrc=dl_dlopen.xs, dlext=so, d_dlsymun=undef, ccdlflags=' '
    cccdlflags='-DPIC -fPIC', lddlflags='-shared  -L/usr/local/lib'


Characteristics of this binary (from libperl): 
  Compile-time options: MULTIPLICITY PERL_DONT_CREATE_GVSV
                        PERL_IMPLICIT_CONTEXT PERL_MALLOC_WRAP USE_64_BIT_ALL
                        USE_64_BIT_INT USE_ITHREADS USE_LARGE_FILES
                        USE_PERLIO USE_REENTRANT_API
  Built under freebsd
  Compiled at Oct 10 2012 22:20:37
  %ENV:
    PERL5LIB="/home/njh/.cpan/build/File-Pid-1.01-e1KLnc/blib/arch:/home/njh/.cpan/build/File-Pid-1.01-e1KLnc/blib/lib:/home/njh/.cpan/build/Config-General-2.51-_Vuj8C/blib/arch:/home/njh/.cpan/build/Config-General-2.51-_Vuj8C/blib/lib"
    PERL5OPT=""
    PERL5_CPANPLUS_IS_RUNNING="95692"
    PERL5_CPAN_IS_RUNNING="95692"
    PERL5_CPAN_IS_RUNNING_IN_RECURSION="95391,95692"
    PERLBREW_BASHRC_VERSION="0.63"
    PERLBREW_HOME="/home/njh/.perlbrew"
    PERLBREW_MANPATH="/home/njh/perl5/perlbrew/perls/perl-5.10.0/man"
    PERLBREW_PATH="/home/njh/perl5/perlbrew/bin:/home/njh/perl5/perlbrew/perls/perl-5.10.0/bin"
    PERLBREW_PERL="perl-5.10.0"
    PERLBREW_ROOT="/home/njh/perl5/perlbrew"
    PERLBREW_VERSION="0.63"
    PERL_CR_SMOKER_CURRENT="MPMinus-1.12"
    PERL_CR_SMOKER_RUNONCE="1"
    PERL_EXTUTILS_AUTOINSTALL="--defaultdeps"
    PERL_MM_USE_DEFAULT="1"
  @INC:
    /home/njh/.cpan/build/File-Pid-1.01-e1KLnc/blib/arch
    /home/njh/.cpan/build/File-Pid-1.01-e1KLnc/blib/lib
    /home/njh/.cpan/build/Config-General-2.51-_Vuj8C/blib/arch
    /home/njh/.cpan/build/Config-General-2.51-_Vuj8C/blib/lib
    /home/njh/perl5/perlbrew/perls/perl-5.10.0/lib/5.10.0/amd64-freebsd-thread-multi
    /home/njh/perl5/perlbrew/perls/perl-5.10.0/lib/5.10.0
    /home/njh/perl5/perlbrew/perls/perl-5.10.0/lib/site_perl/5.10.0/amd64-freebsd-thread-multi
    /home/njh/perl5/perlbrew/perls/perl-5.10.0/lib/site_perl/5.10.0
    .