Report for Test-WWW-Mechanize-Catalyst-0.59

Back
From: metabase:user:8b7560da-4d28-11e3-8dad-d6e40f5f8eae
Subject: PASS Test-WWW-Mechanize-Catalyst-0.59 v5.8.9 GNU/Linux
Date: 2014-11-11T23:30:37Z

This distribution has been tested as part of the CPAN Testers
project, supporting the Perl programming language.  See
http://wiki.cpantesters.org/ for more information or email
questions to cpan-testers-discuss@perl.org


--
Dear Dagfinn Ilmari Mannsaker,

This is a computer-generated report for Test-WWW-Mechanize-Catalyst-0.59
on perl 5.8.9, created by CPAN-Reporter-1.2011.

Thank you for uploading your work to CPAN.  Congratulations!
All tests were successful.

Sections of this report:

    * Tester comments
    * Program output
    * Prerequisites
    * Environment and other context

------------------------------
TESTER COMMENTS
------------------------------

Additional comments from tester:

none provided

------------------------------
PROGRAM OUTPUT
------------------------------

Output from '/usr/bin/make test':

PERL_DL_NONLAZY=1 "/opt/perlbrew/perls/perl-5.8.9/bin/perl" "-MExtUtils::Command::MM" "-MTest::Harness" "-e" "undef *Test::Harness::Switches; test_harness(0, 'inc', 'blib/lib', 'blib/arch')" t/*.t
t/auth-test.t ........... ok
t/cookies.t ............. ok
t/decoded_content.t ..... ok
# 
# ###################################################################
# Starting an external Catalyst HTTP server on port 7357
# To change the port, please set the TWMC_TEST_PORT env variable.
# (The server will be automatically shut-down right after the tests).
# ###################################################################
HTTP::Server::PSGI: Accepting connections at http://0:7357/
t/multi_content_type.t .. ok
t/pod.t ................. ok
t/redirect.t ............ ok
Term::Size::Any is not installed, can't autodetect terminal column width
Trouble trying to detect your terminal size, looking at $ENV{COLUMNS}
Cannot determine desired terminal width, using default of 80 columns
t/simple.t .............. ok
t/two_app.t ............. ok
t/useragent.t ........... ok
t/white_label.t ......... ok
All tests successful.
Files=10, Tests=108, 22 wallclock secs ( 0.06 usr  0.01 sys + 11.36 cusr  0.40 csys = 11.83 CPU)
Result: PASS

------------------------------
PREREQUISITES
------------------------------

Prerequisite modules loaded:

requires:

    Module                                   Need     Have    
    ---------------------------------------- -------- --------
    Catalyst                                 5.90     5.90075 
    Class::Load                              0.19     0.22    
    LWP                                      5.816    6.08    
    Moose                                    0.67     2.1402  
    namespace::clean                         0.09     0.25    
    perl                                     5.008004 5.008009
    Test::WWW::Mechanize                     1.14     1.44    
    WWW::Mechanize                           1.54     1.73    

build_requires:

    Module                                   Need     Have    
    ---------------------------------------- -------- --------
    Catalyst::Plugin::Session::State::Cookie 0        0.17    
    Catalyst::Plugin::Session::Store::Dummy  0        0       
    ExtUtils::MakeMaker                      6.59     7.00    
    Test::Exception                          0        0.35    
    Test::More                               0.88     1.001009
    Test::utf8                               0        1.01    

configure_requires:

    Module                                   Need     Have    
    ---------------------------------------- -------- --------
    ExtUtils::MakeMaker                      6.59     7.00    


------------------------------
ENVIRONMENT AND OTHER CONTEXT
------------------------------

Environment variables:

    LANG = 
    LC_CTYPE = sv_SE.UTF-8
    PATH = /opt/perlbrew/bin:/opt/perlbrew/perls/perl-5.8.9/bin:/opt/cuda/bin:/opt/perlbrew/bin:/opt/perlbrew/perls/perl-5.20.1/bin:~/.local/bin:/usr/local/bin:/usr/bin:/bin:/opt/bin:/usr/x86_64-pc-linux-gnu/gcc-bin/4.8.3:/usr/x86_64-pc-linux-gnu/armv6j-hardfloat-linux-gnueabi/gcc-bin/4.8.3:/opt/nvidia-cg-toolkit/bin:/usr/games/bin:/opt/cuda/bin:/opt/cuda/libnvvp
    PERL5LIB = 
    PERL5OPT = 
    PERL5_CPANPLUS_IS_RUNNING = 13786
    PERL5_CPAN_IS_RUNNING = 13786
    PERLBREW_BASHRC_VERSION = 0.72
    PERLBREW_HOME = /home/pk/.perlbrew
    PERLBREW_LIB = 
    PERLBREW_MANPATH = /opt/perlbrew/perls/perl-5.8.9/man
    PERLBREW_PATH = /opt/perlbrew/bin:/opt/perlbrew/perls/perl-5.8.9/bin
    PERLBREW_PERL = perl-5.8.9
    PERLBREW_ROOT = /opt/perlbrew
    PERLBREW_VERSION = 0.72
    PERL_LOCAL_LIB_ROOT = 
    SHELL = /bin/bash
    TERM = xterm-256color

Perl special variables (and OS-specific diagnostics, for MSWin32):

    $^X = /opt/perlbrew/perls/perl-5.8.9/bin/perl
    $UID/$EUID = 1000 / 1000
    $GID = 1000 10 18 19 27 35 85 100 103 104 250 987 991 1000 1001
    $EGID = 1000 10 18 19 27 35 85 100 103 104 250 987 991 1000 1001

Perl module toolchain versions installed:

    Module              Have    
    ------------------- --------
    CPAN                2.05    
    CPAN::Meta          2.142690
    Cwd                 3.47    
    ExtUtils::CBuilder  0.280220
    ExtUtils::Command   1.16    
    ExtUtils::Install   2.04    
    ExtUtils::MakeMaker 7.00    
    ExtUtils::Manifest  1.68    
    ExtUtils::ParseXS   3.24    
    File::Spec          3.47    
    JSON                2.61    
    JSON::PP            2.27203 
    Module::Build       0.4210  
    Module::Signature   n/a     
    Parse::CPAN::Meta   1.4414  
    Test::Harness       3.33    
    Test::More          1.001009
    YAML                1.13    
    YAML::Syck          1.27    
    version             0.9909  


--

Summary of my perl5 (revision 5 version 8 subversion 9) configuration:
  Platform:
    osname=linux, osvers=3.16.5-gentoo, archname=x86_64-linux
    uname='linux jeeves 3.16.5-gentoo #2 smp preempt mon oct 27 16:26:35 cet 2014 x86_64 intel(r) core(tm) i7-2630qm cpu @ 2.00ghz genuineintel gnulinux '
    config_args='-de -Dprefix=/opt/perlbrew/perls/perl-5.8.9 -Doptimize=-O2 -march=native -Duseshrplib -Aeval:scriptdir=/opt/perlbrew/perls/perl-5.8.9/bin'
    hint=recommended, useposix=true, d_sigaction=define
    usethreads=undef use5005threads=undef useithreads=undef usemultiplicity=undef
    useperlio=define d_sfio=undef uselargefiles=define usesocks=undef
    use64bitint=define use64bitall=define uselongdouble=undef
    usemymalloc=n, bincompat5005=undef
  Compiler:
    cc='cc', ccflags ='-fno-strict-aliasing -pipe -I/usr/local/include -D_LARGEFILE_SOURCE -D_FILE_OFFSET_BITS=64 -I/usr/include/gdbm',
    optimize='-O2 -march=native',
    cppflags='-fno-strict-aliasing -pipe -I/usr/local/include -I/usr/include/gdbm'
    ccversion='', gccversion='4.8.3', gccosandvers=''
    intsize=4, longsize=8, ptrsize=8, doublesize=8, byteorder=12345678
    d_longlong=define, longlongsize=8, d_longdbl=define, longdblsize=16
    ivtype='long', ivsize=8, nvtype='double', nvsize=8, Off_t='off_t', lseeksize=8
    alignbytes=8, prototype=define
  Linker and Libraries:
    ld='cc', ldflags =' -L/usr/local/lib'
    libpth=/usr/local/lib /lib/../lib64 /usr/lib/../lib64 /lib /usr/lib /lib64 /usr/lib64 /usr/local/lib64
    libs=-lnsl -lgdbm -ldb -ldl -lm -lcrypt -lutil -lc -lgdbm_compat
    perllibs=-lnsl -ldl -lm -lcrypt -lutil -lc -lgdbm_compat
    libc=libc-2.19.so, so=so, useshrplib=true, libperl=libperl.so
    gnulibc_version='2.19'
  Dynamic Linking:
    dlsrc=dl_dlopen.xs, dlext=so, d_dlsymun=undef, ccdlflags='-Wl,-E -Wl,-rpath,/opt/perlbrew/perls/perl-5.8.9/lib/5.8.9/x86_64-linux/CORE'
    cccdlflags='-fPIC', lddlflags='-shared -O2 -march=native -L/usr/local/lib'


Characteristics of this binary (from libperl): 
  Compile-time options: PERL_MALLOC_WRAP USE_64_BIT_ALL USE_64_BIT_INT
                        USE_FAST_STDIO USE_LARGE_FILES USE_PERLIO
  Built under linux
  Compiled at Nov  3 2014 00:17:35
  %ENV:
    PERL5LIB=""
    PERL5OPT=""
    PERL5_CPANPLUS_IS_RUNNING="13786"
    PERL5_CPAN_IS_RUNNING="13786"
    PERLBREW_BASHRC_VERSION="0.72"
    PERLBREW_HOME="/home/pk/.perlbrew"
    PERLBREW_LIB=""
    PERLBREW_MANPATH="/opt/perlbrew/perls/perl-5.8.9/man"
    PERLBREW_PATH="/opt/perlbrew/bin:/opt/perlbrew/perls/perl-5.8.9/bin"
    PERLBREW_PERL="perl-5.8.9"
    PERLBREW_ROOT="/opt/perlbrew"
    PERLBREW_VERSION="0.72"
    PERL_LOCAL_LIB_ROOT=""
  @INC:
    /opt/perlbrew/perls/perl-5.8.9/lib/5.8.9/x86_64-linux
    /opt/perlbrew/perls/perl-5.8.9/lib/5.8.9
    /opt/perlbrew/perls/perl-5.8.9/lib/site_perl/5.8.9/x86_64-linux
    /opt/perlbrew/perls/perl-5.8.9/lib/site_perl/5.8.9
    .