Back
From: metabase:user:248cae06-bcb6-11df-92df-ceac7053fd13
Subject: PASS Net-RabbitMQ-0.1.8 v5.12.2 GNU/Linux
Date: 2010-10-11T10:24:38Z
This distribution has been tested as part of the CPAN Testers
project, supporting the Perl programming language. See
http://wiki.cpantesters.org/ for more information or email
questions to cpan-testers-discuss@perl.org
--
Dear Theo Schlossnagle,
This is a computer-generated report for Net-RabbitMQ-0.1.8
on perl 5.12.2, created by CPAN-Reporter-1.1803.
Thank you for uploading your work to CPAN. Congratulations!
All tests were successful.
Sections of this report:
* Tester comments
* Program output
* Prerequisites
* Environment and other context
------------------------------
TESTER COMMENTS
------------------------------
Additional comments from tester:
this report is from an automated smoke testing program
and was not reviewed by a human for accuracy
------------------------------
PROGRAM OUTPUT
------------------------------
Output from '/usr/bin/make test':
PERL_DL_NONLAZY=1 /usr/bin/perl "-MExtUtils::Command::MM" "-e" "test_harness(0, 'blib/lib', 'blib/arch')" t/*.t
t/001_declare_exchange.t .. ok
t/002_publish.t ........... ok
t/003_consume.t ........... ok
t/004_selfconsume.t ....... ok
t/005_noack.t ............. ok
t/006_txn.t ............... ok
t/007_get.t ............... ok
t/008_queue_declare.t ..... ok
t/009_delete_exchange.t ... ok
All tests successful.
Files=9, Tests=82, 19 wallclock secs ( 0.11 usr 0.01 sys + 0.53 cusr 0.12 csys = 0.77 CPU)
Result: PASS
------------------------------
PREREQUISITES
------------------------------
Prerequisite modules loaded:
configure_requires:
Module Need Have
------------------- ---- ----
ExtUtils::MakeMaker 0 6.56
------------------------------
ENVIRONMENT AND OTHER CONTEXT
------------------------------
Environment variables:
AUTOMATED_TESTING = 1
LANG = en_US
LC_ALL = C
PATH = /usr/local/sbin:/usr/sbin:/sbin:/usr/local/bin:/usr/bin:/bin:/usr/games:/opt/www/htdig/bin:/usr/lib/java/bin:/usr/lib/java/jre/bin:/usr/lib/java/bin:/usr/lib/java/jre/bin:/usr/lib/java/bin:/usr/lib/java/jre/bin:/usr/lib/qt/bin:/usr/share/texmf/bin
PERL5LIB =
PERL5OPT =
PERL5_CPANPLUS_IS_RUNNING = 2888
PERL5_CPAN_IS_RUNNING = 2888
PERL5_CPAN_IS_RUNNING_IN_RECURSION = 17278,2888
PERL_CR_SMOKER_CURRENT = Net-RabbitMQ-0.1.8
PERL_EXTUTILS_AUTOINSTALL = --defaultdeps
PERL_MM_USE_DEFAULT = 1
SHELL = /bin/bash
TERM = xterm
Perl special variables (and OS-specific diagnostics, for MSWin32):
$^X = /usr/bin/perl
$UID/$EUID = 0 / 0
$GID = 0 0 1 2 3 4 6 10 11 26
$EGID = 0 0 1 2 3 4 6 10 11 26
Perl module toolchain versions installed:
Module Have
------------------- -------
CPAN 1.94_56
Cwd 3.33
ExtUtils::CBuilder 0.2703
ExtUtils::Command 1.16
ExtUtils::Install 1.55
ExtUtils::MakeMaker 6.56
ExtUtils::Manifest 1.58
ExtUtils::ParseXS 2.2206
File::Spec 3.33
Module::Build 0.3607
Module::Signature 0.66
Test::Harness 3.22
Test::More 0.96
YAML 0.72
YAML::Syck 1.15
version 0.82
--
Summary of my perl5 (revision 5 version 12 subversion 2) configuration:
Platform:
osname=linux, osvers=2.6.24.5-smp, archname=i686-linux-thread-multi
uname='linux percheron 2.6.24.5-smp #2 smp wed apr 30 13:41:38 cdt 2008 i686 amd athlon(tm) xp 2700+ authenticamd gnulinux '
config_args=''
hint=recommended, useposix=true, d_sigaction=define
useithreads=define, usemultiplicity=define
useperlio=define, d_sfio=undef, uselargefiles=define, usesocks=undef
use64bitint=undef, use64bitall=undef, uselongdouble=undef
usemymalloc=n, bincompat5005=undef
Compiler:
cc='cc', ccflags ='-D_REENTRANT -D_GNU_SOURCE -fno-strict-aliasing -pipe -fstack-protector -I/usr/local/include -D_LARGEFILE_SOURCE -D_FILE_OFFSET_BITS=64',
optimize='-O2',
cppflags='-D_REENTRANT -D_GNU_SOURCE -fno-strict-aliasing -pipe -fstack-protector -I/usr/local/include'
ccversion='', gccversion='4.2.3', gccosandvers=''
intsize=4, longsize=4, ptrsize=4, doublesize=8, byteorder=1234
d_longlong=define, longlongsize=8, d_longdbl=define, longdblsize=12
ivtype='long', ivsize=4, nvtype='double', nvsize=8, Off_t='off_t', lseeksize=8
alignbytes=4, prototype=define
Linker and Libraries:
ld='cc', ldflags =' -fstack-protector -L/usr/local/lib'
libpth=/usr/local/lib /lib /usr/lib
libs=-lnsl -lgdbm -ldb -ldl -lm -lcrypt -lutil -lpthread -lc
perllibs=-lnsl -ldl -lm -lcrypt -lutil -lpthread -lc
libc=/lib/libc-2.7.so, so=so, useshrplib=false, libperl=libperl.a
gnulibc_version='2.7'
Dynamic Linking:
dlsrc=dl_dlopen.xs, dlext=so, d_dlsymun=undef, ccdlflags='-Wl,-E'
cccdlflags='-fPIC', lddlflags='-shared -O2 -L/usr/local/lib -fstack-protector'
Characteristics of this binary (from libperl):
Compile-time options: MULTIPLICITY PERL_DONT_CREATE_GVSV
PERL_IMPLICIT_CONTEXT PERL_MALLOC_WRAP USE_ITHREADS
USE_LARGE_FILES USE_PERLIO USE_PERL_ATOF
USE_REENTRANT_API
Built under linux
Compiled at Sep 10 2010 15:52:30
%ENV:
PERL5LIB=""
PERL5OPT=""
PERL5_CPANPLUS_IS_RUNNING="2888"
PERL5_CPAN_IS_RUNNING="2888"
PERL5_CPAN_IS_RUNNING_IN_RECURSION="17278,2888"
PERL_CR_SMOKER_CURRENT="Net-RabbitMQ-0.1.8"
PERL_EXTUTILS_AUTOINSTALL="--defaultdeps"
PERL_MM_USE_DEFAULT="1"
@INC:
/usr/lib/perl5/site_perl/5.12.2/i686-linux-thread-multi
/usr/lib/perl5/site_perl/5.12.2
/usr/lib/perl5/5.12.2/i686-linux-thread-multi
/usr/lib/perl5/5.12.2
/usr/lib/perl5/site_perl/5.12.1
/usr/lib/perl5/site_perl/5.10.0
/usr/lib/perl5/site_perl/5.8.9
/usr/lib/perl5/site_perl/5.8.8
/usr/lib/perl5/site_perl
.