Report for Test-WWW-Mechanize-Catalyst-0.53

Back
From: metabase:user:31cd6f96-2aae-11df-837a-5e0a49663a4f
Subject: PASS Test-WWW-Mechanize-Catalyst-0.53 v5.12.2 Mac OS X
Date: 2010-12-24T06:05:05Z

This distribution has been tested as part of the CPAN Testers
project, supporting the Perl programming language.  See
http://wiki.cpantesters.org/ for more information or email
questions to cpan-testers-discuss@perl.org


--
Dear Tomas Doran,

This is a computer-generated report for Test-WWW-Mechanize-Catalyst-0.53
on perl 5.12.2, created by CPAN-Reporter-1.1803.

Thank you for uploading your work to CPAN.  Congratulations!
All tests were successful.

Sections of this report:

    * Tester comments
    * Program output
    * Prerequisites
    * Environment and other context

------------------------------
TESTER COMMENTS
------------------------------

Additional comments from tester:

none provided

------------------------------
PROGRAM OUTPUT
------------------------------

Output from '/usr/bin/make test':

PERL_DL_NONLAZY=1 /Users/schwern/perl5/perlbrew/perls/perl-v5.12.2/bin/perl "-MExtUtils::Command::MM" "-e" "test_harness(0, 'inc', 'blib/lib', 'blib/arch')" t/*.t
t/auth-test.t ........... ok
t/cookies.t ............. ok
# 
# ###################################################################
# Starting an external Catalyst HTTP server on port 7357
# To change the port, please set the TWMC_TEST_PORT env variable.
# (The server will be automatically shut-down right after the tests).
# ###################################################################
t/multi_content_type.t .. ok
t/pod.t ................. ok
t/redirect.t ............ ok
t/simple.t .............. ok
t/two_app.t ............. ok
t/useragent.t ........... ok
t/white_label.t ......... ok
All tests successful.
Files=9, Tests=92, 10 wallclock secs ( 0.06 usr  0.04 sys +  8.57 cusr  0.94 csys =  9.61 CPU)
Result: PASS

------------------------------
PREREQUISITES
------------------------------

Prerequisite modules loaded:

requires:

    Module                                   Need  Have   
    ---------------------------------------- ----- -------
    Catalyst                                 5.00  5.80029
    LWP                                      5.816 5.837  
    Moose                                    0.67  1.15   
    namespace::clean                         0.09  0.18   
    Test::WWW::Mechanize                     1.14  1.30   
    WWW::Mechanize                           1.54  1.66   

build_requires:

    Module                                   Need  Have   
    ---------------------------------------- ----- -------
    Catalyst::Plugin::Session::State::Cookie 0     0.17   
    Catalyst::Plugin::Session::Store::Dummy  0     0      
    ExtUtils::MakeMaker                      6.42  6.57_06
    Test::Exception                          0     0.31   
    Test::More                               0     0.96   

configure_requires:

    Module                                   Need  Have   
    ---------------------------------------- ----- -------
    ExtUtils::MakeMaker                      6.42  6.57_06


------------------------------
ENVIRONMENT AND OTHER CONTEXT
------------------------------

Environment variables:

    LANG = en_US.UTF-8
    LC_CTYPE = en_US.UTF-8
    PATH = /Users/schwern/perl5/perlbrew/bin:/Users/schwern/perl5/perlbrew/perls/current/bin:/Users/schwern/bin:/Users/schwern/devel/git-achievements:/usr/local/bin:/opt/local/bin:/opt/local/sbin:/usr/bin:/bin:/usr/sbin:/sbin:/usr/local/bin:/usr/X11/bin
    PERL5LIB = 
    PERL5OPT = 
    PERL5_CPANPLUS_IS_RUNNING = 65817
    PERL5_CPAN_IS_RUNNING = 65817
    PERL_AUTOINSTALL = --defaultdeps
    SHELL = /bin/bash
    TERM = xterm-color
    TMPDIR = /var/folders/eJ/eJzTVP7oG7GVsKYHJtMprE+++TI/-Tmp-/

Perl special variables (and OS-specific diagnostics, for MSWin32):

    $^X = /Users/schwern/perl5/perlbrew/perls/perl-v5.12.2/bin/perl
    $UID/$EUID = 501 / 501
    $GID = 501 501 404 407 405 402 204 100 98 80 61 12 0 401 403 406
    $EGID = 501 501 404 407 405 402 204 100 98 80 61 12 0 401 403 406

Perl module toolchain versions installed:

    Module              Have   
    ------------------- -------
    CPAN                1.94_56
    Cwd                 3.33   
    ExtUtils::CBuilder  0.2703 
    ExtUtils::Command   1.16   
    ExtUtils::Install   1.55   
    ExtUtils::MakeMaker 6.57_06
    ExtUtils::Manifest  1.58   
    ExtUtils::ParseXS   2.2206 
    File::Spec          3.33   
    Module::Build       0.3607 
    Module::Signature   0.66   
    Test::Harness       3.22   
    Test::More          0.96   
    YAML                0.72   
    YAML::Syck          n/a    
    version             0.82   


--

Summary of my perl5 (revision 5 version 12 subversion 2) configuration:
  Commit id: 7a3b65c9d99f69553fffe01f73d49fe9abf95120
  Platform:
    osname=darwin, osvers=10.4.0, archname=darwin-thread-multi-2level
    uname='darwin windhund.local 10.4.0 darwin kernel version 10.4.0: fri apr 23 18:28:53 pdt 2010; root:xnu-1504.7.4~1release_i386 i386 i386 macbookpro7,1 darwin '
    config_args='-des -Dprefix=/Users/schwern/perl5/perlbrew/perls/perl-v5.12.2 -Duseithreads -Duselargefiles -Dperladmin=schwern@pobox.com -Dcf_email=schwern@pobox.com -Dmyhostname=windhund -Dmydomain=.schwern.org'
    hint=recommended, useposix=true, d_sigaction=define
    useithreads=define, usemultiplicity=define
    useperlio=define, d_sfio=undef, uselargefiles=define, usesocks=undef
    use64bitint=define, use64bitall=define, uselongdouble=undef
    usemymalloc=n, bincompat5005=undef
  Compiler:
    cc='cc', ccflags ='-fno-common -DPERL_DARWIN -no-cpp-precomp -fno-strict-aliasing -pipe -fstack-protector -I/usr/local/include -I/opt/local/include',
    optimize='-O3',
    cppflags='-no-cpp-precomp -fno-common -DPERL_DARWIN -no-cpp-precomp -fno-strict-aliasing -pipe -fstack-protector -I/usr/local/include -I/opt/local/include'
    ccversion='', gccversion='4.2.1 (Apple Inc. build 5664)', gccosandvers=''
    intsize=4, longsize=8, ptrsize=8, doublesize=8, byteorder=12345678
    d_longlong=define, longlongsize=8, d_longdbl=define, longdblsize=16
    ivtype='long', ivsize=8, nvtype='double', nvsize=8, Off_t='off_t', lseeksize=8
    alignbytes=8, prototype=define
  Linker and Libraries:
    ld='env MACOSX_DEPLOYMENT_TARGET=10.3 cc', ldflags =' -fstack-protector -L/usr/local/lib -L/opt/local/lib'
    libpth=/usr/local/lib /opt/local/lib /usr/lib
    libs=-lgdbm -ldbm -ldl -lm -lutil -lc
    perllibs=-ldl -lm -lutil -lc
    libc=/usr/lib/libc.dylib, so=dylib, useshrplib=false, libperl=libperl.a
    gnulibc_version=''
  Dynamic Linking:
    dlsrc=dl_dlopen.xs, dlext=bundle, d_dlsymun=undef, ccdlflags=' '
    cccdlflags=' ', lddlflags=' -bundle -undefined dynamic_lookup -L/usr/local/lib -L/opt/local/lib -fstack-protector'


Characteristics of this binary (from libperl): 
  Compile-time options: MULTIPLICITY PERL_DONT_CREATE_GVSV
                        PERL_IMPLICIT_CONTEXT PERL_MALLOC_WRAP USE_64_BIT_ALL
                        USE_64_BIT_INT USE_ITHREADS USE_LARGE_FILES
                        USE_PERLIO USE_PERL_ATOF USE_REENTRANT_API
  Built under darwin
  Compiled at Sep 28 2010 11:53:44
  %ENV:
    PERL5LIB=""
    PERL5OPT=""
    PERL5_CPANPLUS_IS_RUNNING="65817"
    PERL5_CPAN_IS_RUNNING="65817"
    PERL_AUTOINSTALL="--defaultdeps"
  @INC:
    /Users/schwern/perl5/perlbrew/perls/perl-v5.12.2/lib/site_perl/5.12.2/darwin-thread-multi-2level
    /Users/schwern/perl5/perlbrew/perls/perl-v5.12.2/lib/site_perl/5.12.2
    /Users/schwern/perl5/perlbrew/perls/perl-v5.12.2/lib/5.12.2/darwin-thread-multi-2level
    /Users/schwern/perl5/perlbrew/perls/perl-v5.12.2/lib/5.12.2
    .