Back
From: metabase:user:323dcade-2aae-11df-837a-5e0a49663a4f
Subject: PASS Test-WWW-Mechanize-Catalyst-0.56 v5.15.6 GNU/Linux
Date: 2011-12-23T18:13:02Z
This distribution has been tested as part of the CPAN Testers
project, supporting the Perl programming language. See
http://wiki.cpantesters.org/ for more information or email
questions to cpan-testers-discuss@perl.org
--
Dear Eden Cardim,
This is a computer-generated report for Test-WWW-Mechanize-Catalyst-0.56
on perl 5.15.6, created by CPAN-Reporter-1.2003.
Thank you for uploading your work to CPAN. Congratulations!
All tests were successful.
Sections of this report:
* Tester comments
* Program output
* Prerequisites
* Environment and other context
------------------------------
TESTER COMMENTS
------------------------------
Additional comments from tester:
none provided
------------------------------
PROGRAM OUTPUT
------------------------------
Output from '/usr/bin/make test':
PERL_DL_NONLAZY=1 /usr/local/bin/perl5.15.6d-nt "-MExtUtils::Command::MM" "-e" "test_harness(0, 'inc', 'blib/lib', 'blib/arch')" t/*.t
t/auth-test.t ........... ok
t/cookies.t ............. ok
#
# ###################################################################
# Starting an external Catalyst HTTP server on port 7357
# To change the port, please set the TWMC_TEST_PORT env variable.
# (The server will be automatically shut-down right after the tests).
# ###################################################################
t/multi_content_type.t .. ok
t/pod.t ................. ok
t/redirect.t ............ ok
t/simple.t .............. ok
t/two_app.t ............. ok
t/useragent.t ........... ok
t/white_label.t ......... ok
All tests successful.
Files=9, Tests=93, 13 wallclock secs ( 0.09 usr 0.00 sys + 12.85 cusr 0.31 csys = 13.25 CPU)
Result: PASS
------------------------------
PREREQUISITES
------------------------------
Prerequisite modules loaded:
requires:
Module Need Have
---------------------------------------- -------- --------
Catalyst 5.00 5.90007
LWP 5.816 6.03
Moose 0.67 2.0401
namespace::clean 0.09 0.21
perl 5.008004 5.015006
Test::WWW::Mechanize 1.14 1.38
WWW::Mechanize 1.54 1.71
build_requires:
Module Need Have
---------------------------------------- -------- --------
Catalyst::Plugin::Session::State::Cookie 0 0.17
Catalyst::Plugin::Session::Store::Dummy 0 0
ExtUtils::MakeMaker 6.42 6.63_02
Test::Exception 0 0.31
Test::More 0 0.98
configure_requires:
Module Need Have
---------------------------------------- -------- --------
ExtUtils::MakeMaker 6.42 6.63_02
------------------------------
ENVIRONMENT AND OTHER CONTEXT
------------------------------
Environment variables:
LANG = en_US.utf8
PATH = /home/rurban/bin:/usr/local/bin:/usr/bin:/bin:/usr/local/games:/usr/games
PERL5LIB =
PERL5OPT =
PERL5_CPANPLUS_IS_RUNNING = 23280
PERL5_CPAN_IS_RUNNING = 23280
SHELL = /bin/bash
TERM = xterm
TMPDIR = /home/rurban/tmp
Perl special variables (and OS-specific diagnostics, for MSWin32):
$^X = /usr/local/bin/perl5.15.6d-nt
$UID/$EUID = 1000 / 1000
$GID = 1000 27 124 125 1000
$EGID = 1000 27 124 125 1000
Perl module toolchain versions installed:
Module Have
------------------- --------
CPAN 1.9800
CPAN::Meta 2.112621
Cwd 3.38
ExtUtils::CBuilder 0.280205
ExtUtils::Command 1.17
ExtUtils::Install 1.57
ExtUtils::MakeMaker 6.63_02
ExtUtils::Manifest 1.60
ExtUtils::ParseXS 3.08
File::Spec 3.34
JSON 2.53
JSON::PP 2.27200
Module::Build 0.39_01
Module::Signature 0.68
Parse::CPAN::Meta 1.4401
Test::Harness 3.23
Test::More 0.98
YAML 0.77
YAML::Syck 1.19
version 0.96
--
Summary of my perl5 (revision 5 version 15 subversion 6) configuration:
Platform:
osname=linux, osvers=3.0.0-1-amd64, archname=x86_64-linux-debug
uname='linux reini 3.0.0-1-amd64 #1 smp sun jul 24 02:24:44 utc 2011 x86_64 gnulinux '
config_args='-de -Dusedevel -Dinstallman1dir=none -Dinstallman3dir=none -Dinstallsiteman1dir=none -Dinstallsiteman3dir=none -DEBUGGING -Doptimize=-g3 -Uuseithreads -Accflags='-msse4.2' -Accflags='-march=corei7' -Dcf_email='rurban@cpanel.net' -Dperladmin='rurban@cpanel.net' -Duseshrplib'
hint=recommended, useposix=true, d_sigaction=define
useithreads=undef, usemultiplicity=undef
useperlio=define, d_sfio=undef, uselargefiles=define, usesocks=undef
use64bitint=define, use64bitall=define, uselongdouble=undef
usemymalloc=n, bincompat5005=undef
Compiler:
cc='cc', ccflags ='-msse4.2 -march=corei7 -DDEBUGGING -fno-strict-aliasing -pipe -fstack-protector -I/usr/local/include -D_LARGEFILE_SOURCE -D_FILE_OFFSET_BITS=64',
optimize='-g3',
cppflags='-msse4.2 -march=corei7 -DDEBUGGING -fno-strict-aliasing -pipe -fstack-protector -I/usr/local/include'
ccversion='', gccversion='4.6.1', gccosandvers=''
intsize=4, longsize=8, ptrsize=8, doublesize=8, byteorder=12345678
d_longlong=define, longlongsize=8, d_longdbl=define, longdblsize=16
ivtype='long', ivsize=8, nvtype='double', nvsize=8, Off_t='off_t', lseeksize=8
alignbytes=8, prototype=define
Linker and Libraries:
ld='cc', ldflags =' -fstack-protector -L/usr/local/lib'
libpth=/usr/local/lib /lib /usr/lib /usr/lib/x86_64-linux-gnu /lib64 /usr/lib64
libs=-lnsl -lgdbm -ldb -ldl -lm -lcrypt -lutil -lc -lgdbm_compat
perllibs=-lnsl -ldl -lm -lcrypt -lutil -lc
libc=, so=so, useshrplib=true, libperl=libperl.so
gnulibc_version='2.13'
Dynamic Linking:
dlsrc=dl_dlopen.xs, dlext=so, d_dlsymun=undef, ccdlflags='-Wl,-E -Wl,-rpath,/usr/local/lib/perl5/5.15.6/x86_64-linux-debug/CORE'
cccdlflags='-fPIC', lddlflags='-shared -g3 -L/usr/local/lib -fstack-protector'
Characteristics of this binary (from libperl):
Compile-time options: DEBUGGING HAS_TIMES PERLIO_LAYERS
PERL_DONT_CREATE_GVSV PERL_MALLOC_WRAP
PERL_PRESERVE_IVUV PERL_USE_DEVEL USE_64_BIT_ALL
USE_64_BIT_INT USE_LARGE_FILES USE_LOCALE
USE_LOCALE_COLLATE USE_LOCALE_CTYPE
USE_LOCALE_NUMERIC USE_PERLIO USE_PERL_ATOF
Built under linux
Compiled at Dec 22 2011 16:24:06
%ENV:
PERL5LIB=""
PERL5OPT=""
PERL5_CPANPLUS_IS_RUNNING="23280"
PERL5_CPAN_IS_RUNNING="23280"
@INC:
/usr/local/lib/perl5/site_perl/5.15.6/x86_64-linux-debug
/usr/local/lib/perl5/site_perl/5.15.6
/usr/local/lib/perl5/5.15.6/x86_64-linux-debug
/usr/local/lib/perl5/5.15.6
/usr/local/lib/perl5/site_perl
.