Back
From: metabase:user:322078bc-2aae-11df-837a-5e0a49663a4f
Subject: PASS Test-WWW-Mechanize-Catalyst-0.55 v5.10.1 GNU/Linux
Date: 2011-10-16T20:16:40Z
This distribution has been tested as part of the CPAN Testers
project, supporting the Perl programming language. See
http://wiki.cpantesters.org/ for more information or email
questions to cpan-testers-discuss@perl.org
--
Dear Tomas Doran,
This is a computer-generated error report created automatically by
CPANPLUS, version 0.9111. Testers personal comments may appear
at the end of this report.
MAKE TEST passed: PERL_DL_NONLAZY=1 /opt/perl-5.10.1/bin/perl "-MExtUtils::Command::MM" "-e" "test_harness(0, 'inc', 'blib/lib', 'blib/arch')" t/*.t
t/auth-test.t ........... ok
t/cookies.t ............. ok
#
# ###################################################################
# Starting an external Catalyst HTTP server on port 7357
# To change the port, please set the TWMC_TEST_PORT env variable.
# (The server will be automatically shut-down right after the tests).
# ###################################################################
failed to listen to port 8080: Address already in use at /opt/perl-5.10.1/lib/site_perl/5.10.1/HTTP/Server/PSGI.pm line 101.
t/multi_content_type.t .. ok
t/pod.t ................. ok
t/redirect.t ............ ok
t/simple.t .............. ok
t/two_app.t ............. ok
t/useragent.t ........... ok
t/white_label.t ......... ok
All tests successful.
Files=9, Tests=92, 8 wallclock secs ( 0.07 usr 0.04 sys + 6.96 cusr 0.67 csys = 7.74 CPU)
Result: PASS
[MSG] [Sun Oct 16 20:16:40 2011] Sending test report for 'Test-WWW-Mechanize-Catalyst-0.55'
This report was machine-generated by CPANPLUS::Dist::YACSmoke 0.64.
------------------------------
ENVIRONMENT AND OTHER CONTEXT
------------------------------
Environment variables:
AUTOMATED_TESTING = 1
PATH = /usr/local/sbin:/usr/local/bin:/usr/sbin:/usr/bin:/sbin:/bin
PERL5LIB = :/opt/perl-5.10.1/.cpanplus/5.10.1/build/Test-WWW-Mechanize-Catalyst-0.55/blib/lib:/opt/perl-5.10.1/.cpanplus/5.10.1/build/Test-WWW-Mechanize-Catalyst-0.55/blib/arch
PERL5_CPANPLUS_IS_RUNNING = 5999
PERL5_CPANPLUS_IS_VERSION = 0.9111
PERL_EXTUTILS_AUTOINSTALL = --defaultdeps
PERL_MM_USE_DEFAULT = 1
SHELL = /bin/bash
TERM = screen
Perl special variables (and OS-specific diagnostics, for MSWin32):
Perl: $^X = /opt/perl-5.10.1/bin/perl
UID: $< = 0
EUID: $> = 0
GID: $( = 0 0
EGID: $) = 0 0
-------------------------------
--
Summary of my perl5 (revision 5 version 10 subversion 1) configuration:
Platform:
osname=linux, osvers=2.6.32-linode23, archname=i686-linux
uname='linux cabbage 2.6.32-linode23 #1 smp sat dec 5 16:04:55 utc 2009 i686 gnulinux '
config_args='-de -Dprefix=/opt/perl-5.10.1'
hint=recommended, useposix=true, d_sigaction=define
useithreads=undef, usemultiplicity=undef
useperlio=define, d_sfio=undef, uselargefiles=define, usesocks=undef
use64bitint=undef, use64bitall=undef, uselongdouble=undef
usemymalloc=n, bincompat5005=undef
Compiler:
cc='cc', ccflags ='-fno-strict-aliasing -pipe -fstack-protector -I/usr/local/include -D_LARGEFILE_SOURCE -D_FILE_OFFSET_BITS=64',
optimize='-O2',
cppflags='-fno-strict-aliasing -pipe -fstack-protector -I/usr/local/include'
ccversion='', gccversion='4.4.1', gccosandvers=''
intsize=4, longsize=4, ptrsize=4, doublesize=8, byteorder=1234
d_longlong=define, longlongsize=8, d_longdbl=define, longdblsize=12
ivtype='long', ivsize=4, nvtype='double', nvsize=8, Off_t='off_t', lseeksize=8
alignbytes=4, prototype=define
Linker and Libraries:
ld='cc', ldflags =' -fstack-protector -L/usr/local/lib'
libpth=/usr/local/lib /lib /usr/lib
libs=-lnsl -ldl -lm -lcrypt -lutil -lc
perllibs=-lnsl -ldl -lm -lcrypt -lutil -lc
libc=/lib/libc-2.10.1.so, so=so, useshrplib=false, libperl=libperl.a
gnulibc_version='2.10.1'
Dynamic Linking:
dlsrc=dl_dlopen.xs, dlext=so, d_dlsymun=undef, ccdlflags='-Wl,-E'
cccdlflags='-fPIC', lddlflags='-shared -O2 -L/usr/local/lib -fstack-protector'
Characteristics of this binary (from libperl):
Compile-time options: PERL_DONT_CREATE_GVSV PERL_MALLOC_WRAP
USE_LARGE_FILES USE_PERLIO
Built under linux
Compiled at Jan 15 2010 12:50:23
%ENV:
PERL5LIB=":/opt/perl-5.10.1/.cpanplus/5.10.1/build/Test-WWW-Mechanize-Catalyst-0.55/blib/lib:/opt/perl-5.10.1/.cpanplus/5.10.1/build/Test-WWW-Mechanize-Catalyst-0.55/blib/arch"
PERL5_CPANPLUS_IS_RUNNING="5999"
PERL5_CPANPLUS_IS_VERSION="0.9111"
PERL_EXTUTILS_AUTOINSTALL="--defaultdeps"
PERL_MM_USE_DEFAULT="1"
@INC:
/opt/perl-5.10.1/.cpanplus/5.10.1/build/Test-WWW-Mechanize-Catalyst-0.55/blib/lib
/opt/perl-5.10.1/.cpanplus/5.10.1/build/Test-WWW-Mechanize-Catalyst-0.55/blib/arch
/opt/perl-5.10.1/lib/5.10.1/i686-linux
/opt/perl-5.10.1/lib/5.10.1
/opt/perl-5.10.1/lib/site_perl/5.10.1/i686-linux
/opt/perl-5.10.1/lib/site_perl/5.10.1
.