Report for Swagger2-Markdown-0.12

Back
From: metabase:user:320bfe00-2aae-11df-837a-5e0a49663a4f
Subject: PASS Swagger2-Markdown-0.12 v5.20.3 GNU/Linux
Date: 2017-03-08T16:24:52Z

This distribution has been tested as part of the CPAN Testers
project, supporting the Perl programming language.  See
http://wiki.cpantesters.org/ for more information or email
questions to cpan-testers-discuss@perl.org


--
Dear Lee Johnson,

This is a computer-generated report for Swagger2-Markdown-0.12
on perl 5.20.3, created by CPAN-Reporter-1.2018.

Thank you for uploading your work to CPAN.  Congratulations!
All tests were successful.

Sections of this report:

    * Tester comments
    * Program output
    * Prerequisites
    * Environment and other context

------------------------------
TESTER COMMENTS
------------------------------

Additional comments from tester:

this report is from an automated smoke testing program
and was not reviewed by a human for accuracy

------------------------------
PROGRAM OUTPUT
------------------------------

Output from '/usr/bin/make test':

PERL_DL_NONLAZY=1 "/home/sand/src/perl/repoperls/installed-perls/host/k93msid/v5.20.3/f11c/bin/perl" "-MExtUtils::Command::MM" "-MTest::Harness" "-e" "undef *Test::Harness::Switches; test_harness(0, 'blib/lib', 'blib/arch')" t/*.t
Exiting subroutine via next at t/001_compiles_pod.t line 24.
t/001_compiles_pod.t .... ok
t/003_changes.t ......... ok
https://metacpan.org/pod/Swagger2#DEPRECATION-WARNING at t/010_api_blueprint.t line 13.
t/010_api_blueprint.t ... ok
https://metacpan.org/pod/Swagger2#DEPRECATION-WARNING at t/015_basic_markdown.t line 12.
Use of uninitialized value in join or string at /home/sand/src/perl/repoperls/installed-perls/host/k93msid/v5.20.3/f11c/lib/site_perl/5.20.3/Swagger2/POD.pm line 294.
Use of uninitialized value in join or string at /home/sand/src/perl/repoperls/installed-perls/host/k93msid/v5.20.3/f11c/lib/site_perl/5.20.3/Swagger2/POD.pm line 294.
Use of uninitialized value in join or string at /home/sand/src/perl/repoperls/installed-perls/host/k93msid/v5.20.3/f11c/lib/site_perl/5.20.3/Swagger2/POD.pm line 294.
Use of uninitialized value in join or string at /home/sand/src/perl/repoperls/installed-perls/host/k93msid/v5.20.3/f11c/lib/site_perl/5.20.3/Swagger2/POD.pm line 294.
t/015_basic_markdown.t .. ok
All tests successful.

Test Summary Report
-------------------
t/010_api_blueprint.t (Wstat: 0 Tests: 10 Failed: 0)
  TODO passed:   3
Files=4, Tests=27,  3 wallclock secs ( 0.03 usr  0.04 sys +  1.37 cusr  0.22 csys =  1.66 CPU)
Result: PASS

------------------------------
PREREQUISITES
------------------------------

Prerequisite modules loaded:

requires:

    Module                Need     Have     
    --------------------- -------- ---------
    File::Find            0        1.27     
    File::Slurper         0.006    0.009    
    File::Spec::Functions 0        3.62     
    Moo                   2.001001 2.003001 
    perl                  5.010001 5.020003 
    Pod::Markdown         3.005    3.005    
    Swagger2              0.77     0.89     
    Template              2.26     2.26     
    Test::LongString      0.17     0.17     
    Test::More            0        1.302075 
    Types::Standard       1.000005 1.001_003
    YAML::XS              0.59     0.63_001 

build_requires:

    Module                Need     Have     
    --------------------- -------- ---------
    ExtUtils::MakeMaker   0        7.25_01  

configure_requires:

    Module                Need     Have     
    --------------------- -------- ---------
    ExtUtils::MakeMaker   0        7.25_01  


------------------------------
ENVIRONMENT AND OTHER CONTEXT
------------------------------

Environment variables:

    AUTOMATED_TESTING = 1
    LANG = en_US.UTF-8
    PATH = /home/sand/bin:/usr/local/bin:/usr/bin:/bin:/usr/games:/usr/local/perl/bin:/usr/X11/bin:/sbin:/usr/sbin
    PERL5LIB = 
    PERL5OPT = 
    PERL5_CPANPLUS_IS_RUNNING = 9268
    PERL5_CPAN_IS_RUNNING = 9268
    PERL_CANARY_STABILITY_NOPROMPT = 1
    PERL_MM_USE_DEFAULT = 1
    PERL_USE_UNSAFE_INC = 1
    SHELL = /usr/bin/zsh
    TERM = screen

Perl special variables (and OS-specific diagnostics, for MSWin32):

    $^X = /home/sand/src/perl/repoperls/installed-perls/host/k93msid/v5.20.3/f11c/bin/perl
    $UID/$EUID = 1005 / 1005
    $GID = 1005 1005
    $EGID = 1005 1005

Perl module toolchain versions installed:

    Module              Have    
    ------------------- --------
    CPAN                2.17    
    CPAN::Meta          2.150010
    Cwd                 3.62    
    ExtUtils::CBuilder  0.280224
    ExtUtils::Command   7.25_01 
    ExtUtils::Install   2.04    
    ExtUtils::MakeMaker 7.25_01 
    ExtUtils::Manifest  1.70    
    ExtUtils::ParseXS   3.30    
    File::Spec          3.62    
    JSON                2.91_03 
    JSON::PP            2.91_04 
    Module::Build       0.4220  
    Module::Signature   0.81    
    Parse::CPAN::Meta   2.150010
    Test::Harness       3.37_01 
    Test::More          1.302075
    YAML                1.20    
    YAML::Syck          1.29    
    version             0.9917  


--

Summary of my perl5 (revision 5 version 20 subversion 3) configuration:
  Derived from: b67331aafd6eff33e3fd904c45e811f69cbfb0b2
  Platform:
    osname=linux, osvers=4.8.0-2-amd64, archname=x86_64-linux-thread-multi
    uname='linux k93msid 4.8.0-2-amd64 #1 smp debian 4.8.11-1 (2016-12-02) x86_64 gnulinux '
    config_args='-Dprefix=/home/sand/src/perl/repoperls/installed-perls/host/k93msid/v5.20.3/f11c -Dmyhostname=k93msid -Dinstallusrbinperl=n -Uversiononly -Dusedevel -des -Ui_db -Dlibswanted=cl pthread socket inet nsl gdbm dbm malloc dl ld sun m crypt sec util c cposix posix ucb BSD gdbm_compat -Duseithreads -Uuselongdouble -DDEBUGGING=-g'
    hint=recommended, useposix=true, d_sigaction=define
    useithreads=define, usemultiplicity=define
    use64bitint=define, use64bitall=define, uselongdouble=undef
    usemymalloc=n, bincompat5005=undef
  Compiler:
    cc='cc', ccflags ='-D_REENTRANT -D_GNU_SOURCE -fwrapv -fno-strict-aliasing -pipe -fstack-protector -I/usr/local/include -D_LARGEFILE_SOURCE -D_FILE_OFFSET_BITS=64',
    optimize='-O2 -g',
    cppflags='-D_REENTRANT -D_GNU_SOURCE -fwrapv -fno-strict-aliasing -pipe -fstack-protector -I/usr/local/include'
    ccversion='', gccversion='6.2.1 20161124', gccosandvers=''
    intsize=4, longsize=8, ptrsize=8, doublesize=8, byteorder=12345678
    d_longlong=define, longlongsize=8, d_longdbl=define, longdblsize=16
    ivtype='long', ivsize=8, nvtype='double', nvsize=8, Off_t='off_t', lseeksize=8
    alignbytes=8, prototype=define
  Linker and Libraries:
    ld='cc', ldflags =' -fstack-protector -L/usr/local/lib'
    libpth=/usr/local/lib /usr/lib/gcc/x86_64-linux-gnu/6/include-fixed /usr/include/x86_64-linux-gnu /usr/lib /lib/x86_64-linux-gnu /lib/../lib /usr/lib/x86_64-linux-gnu /usr/lib/../lib /lib
    libs=-lpthread -lnsl -ldl -lm -lcrypt -lutil -lc
    perllibs=-lpthread -lnsl -ldl -lm -lcrypt -lutil -lc
    libc=libc-2.24.so, so=so, useshrplib=false, libperl=libperl.a
    gnulibc_version='2.24'
  Dynamic Linking:
    dlsrc=dl_dlopen.xs, dlext=so, d_dlsymun=undef, ccdlflags='-Wl,-E'
    cccdlflags='-fPIC', lddlflags='-shared -O2 -g -L/usr/local/lib -fstack-protector'


Characteristics of this binary (from libperl): 
  Compile-time options: HAS_TIMES MULTIPLICITY PERLIO_LAYERS
                        PERL_DONT_CREATE_GVSV
                        PERL_HASH_FUNC_ONE_AT_A_TIME_HARD
                        PERL_IMPLICIT_CONTEXT PERL_MALLOC_WRAP
                        PERL_NEW_COPY_ON_WRITE PERL_PRESERVE_IVUV
                        PERL_USE_DEVEL USE_64_BIT_ALL USE_64_BIT_INT
                        USE_ITHREADS USE_LARGE_FILES USE_LOCALE
                        USE_LOCALE_COLLATE USE_LOCALE_CTYPE
                        USE_LOCALE_NUMERIC USE_PERLIO USE_PERL_ATOF
                        USE_REENTRANT_API
  Locally applied patches:
	uncommitted-changes
  Built under linux
  Compiled at Dec 14 2016 20:15:13
  %ENV:
    PERL5LIB=""
    PERL5OPT=""
    PERL5_CPANPLUS_IS_RUNNING="9268"
    PERL5_CPAN_IS_RUNNING="9268"
    PERL_CANARY_STABILITY_NOPROMPT="1"
    PERL_MM_USE_DEFAULT="1"
    PERL_USE_UNSAFE_INC="1"
  @INC:
    /home/sand/src/perl/repoperls/installed-perls/host/k93msid/v5.20.3/f11c/lib/site_perl/5.20.3/x86_64-linux-thread-multi
    /home/sand/src/perl/repoperls/installed-perls/host/k93msid/v5.20.3/f11c/lib/site_perl/5.20.3
    /home/sand/src/perl/repoperls/installed-perls/host/k93msid/v5.20.3/f11c/lib/5.20.3/x86_64-linux-thread-multi
    /home/sand/src/perl/repoperls/installed-perls/host/k93msid/v5.20.3/f11c/lib/5.20.3
    .