Back
From: metabase:user:31718d66-2aae-11df-837a-5e0a49663a4f
Subject: PASS App-Cache-0.37 v5.10.1 Windows (Cygwin)
Date: 2011-05-01T17:28:52Z
This distribution has been tested as part of the CPAN Testers
project, supporting the Perl programming language. See
http://wiki.cpantesters.org/ for more information or email
questions to cpan-testers-discuss@perl.org
--
Dear Leon Brocard,
This is a computer-generated report for App-Cache-0.37
on perl 5.10.1, created by CPAN-Reporter-1.1803.
Thank you for uploading your work to CPAN. Congratulations!
All tests were successful.
Sections of this report:
* Tester comments
* Program output
* Prerequisites
* Environment and other context
------------------------------
TESTER COMMENTS
------------------------------
Additional comments from tester:
none provided
------------------------------
PROGRAM OUTPUT
------------------------------
Output from '/usr/bin/make test':
cp lib/App/Cache.pm blib/lib/App/Cache.pm
PERL_DL_NONLAZY=1 /usr/bin/perl.exe "-MExtUtils::Command::MM" "-e" "test_harness(0, 'blib/lib', 'blib/arch')" t/*.t
t/pod.t ........... ok
t/pod_coverage.t .. ok
t/simple.t ........ ok
All tests successful.
Files=3, Tests=50, 14 wallclock secs ( 0.06 usr 0.08 sys + 1.20 cusr 2.56 csys = 3.90 CPU)
Result: PASS
------------------------------
PREREQUISITES
------------------------------
Prerequisite modules loaded:
requires:
Module Need Have
------------------------------ ---- -----
Class::Accessor::Chained::Fast 0 0
File::Find::Rule 0 0.32
File::HomeDir 0 0.89
File::stat 0 1.01
HTTP::Cookies 0 5.837
LWP::UserAgent 0 5.835
Path::Class 0 0.23
Storable 0 2.21
Test::More 0 0.96
configure_requires:
Module Need Have
------------------------------ ---- -----
ExtUtils::MakeMaker 0 6.56
------------------------------
ENVIRONMENT AND OTHER CONTEXT
------------------------------
Environment variables:
COMSPEC = C:\WINDOWS\system32\cmd.exe
LANG = C.UTF-8
NUMBER_OF_PROCESSORS = 2
PATH = /usr/local/pgplot:/usr/local/pgplot:/home/chm/perl/bin:/usr/lib/qt3/bin:/usr/local/bin:/usr/bin:/bin:/cygdrive/c/WINDOWS/system32:/cygdrive/c/WINDOWS:/cygdrive/c/WINDOWS/System32/Wbem:/cygdrive/c/Program Files/DisplayLink Core Software/:/cygdrive/c/strawberry/c/bin:/cygdrive/c/strawberry/perl/bin:/cygdrive/c/Program Files/QuickTime/QTSystem/:/usr/lib/lapack
PERL5LIB = /home/chm/perl/lib
PERL5OPT =
PERL5_CPANPLUS_IS_RUNNING = 572
PERL5_CPAN_IS_RUNNING = 572
PERLDOC_PAGER = less
PROCESSOR_IDENTIFIER = x86 Family 15 Model 107 Stepping 2, AuthenticAMD
TEMP = /cygdrive/c/DOCUME~1/chm/LOCALS~1/Temp
TERM = xterm
Perl special variables (and OS-specific diagnostics, for MSWin32):
$^X = /usr/bin/perl
$UID/$EUID = 1003 / 1003
$GID = 513 0 544 545 513
$EGID = 513 0 544 545 513
Perl module toolchain versions installed:
Module Have
------------------- ------
CPAN 1.9402
Cwd 3.33
ExtUtils::CBuilder 0.2703
ExtUtils::Command 1.16
ExtUtils::Install 1.52
ExtUtils::MakeMaker 6.56
ExtUtils::Manifest 1.56
ExtUtils::ParseXS 2.2206
File::Spec 3.33
Module::Build 0.3800
Module::Signature 0.61
Test::Harness 3.22
Test::More 0.96
YAML 0.71
YAML::Syck n/a
version 0.88
--
Summary of my perl5 (revision 5 version 10 subversion 1) configuration:
Platform:
osname=cygwin, osvers=1.7.5(0.22553), archname=i686-cygwin-thread-multi-64int
uname='cygwin_nt-5.1 reini 1.7.5(0.22553) 2010-04-12 19:07 i686 cygwin '
config_args='-de -Dlibperl=cygperl5_10.dll -Dcc=gcc-4 -Dld=g++-4 -Dmksymlinks -Dusethreads -Dmad=y -Doptimize=-O3 -Accflags=-g3'
hint=recommended, useposix=true, d_sigaction=define
useithreads=define, usemultiplicity=define
useperlio=define, d_sfio=undef, uselargefiles=define, usesocks=undef
use64bitint=define, use64bitall=undef, uselongdouble=undef
usemymalloc=y, bincompat5005=undef
Compiler:
cc='gcc-4', ccflags ='-DPERL_USE_SAFE_PUTENV -U__STRICT_ANSI__ -g3 -fno-strict-aliasing -pipe -fstack-protector -I/usr/local/include',
optimize='-O3',
cppflags='-DPERL_USE_SAFE_PUTENV -U__STRICT_ANSI__ -g3 -fno-strict-aliasing -pipe -fstack-protector -I/usr/local/include'
ccversion='', gccversion='4.3.4 20090804 (release) 1', gccosandvers=''
intsize=4, longsize=4, ptrsize=4, doublesize=8, byteorder=12345678
d_longlong=define, longlongsize=8, d_longdbl=define, longdblsize=12
ivtype='long long', ivsize=8, nvtype='double', nvsize=8, Off_t='off_t', lseeksize=8
alignbytes=8, prototype=define
Linker and Libraries:
ld='g++-4', ldflags =' -Wl,--enable-auto-import -Wl,--export-all-symbols -Wl,--stack,8388608 -Wl,--enable-auto-image-base -fstack-protector -L/usr/local/lib'
libpth=/usr/local/lib /usr/lib /lib
libs=-lgdbm -ldb -ldl -lcrypt -lgdbm_compat
perllibs=-ldl -lcrypt
libc=/usr/lib/libc.a, so=dll, useshrplib=true, libperl=cygperl5_10.dll
gnulibc_version=''
Dynamic Linking:
dlsrc=dl_dlopen.xs, dlext=dll, d_dlsymun=undef, ccdlflags=' '
cccdlflags=' ', lddlflags=' --shared -Wl,--enable-auto-import -Wl,--export-all-symbols -Wl,--stack,8388608 -Wl,--enable-auto-image-base -L/usr/local/lib -fstack-protector'
Characteristics of this binary (from libperl):
Compile-time options: MULTIPLICITY MYMALLOC PERL_DONT_CREATE_GVSV
PERL_IMPLICIT_CONTEXT PERL_MAD PERL_USE_SAFE_PUTENV
USE_64_BIT_INT USE_ITHREADS USE_LARGE_FILES
USE_PERLIO USE_REENTRANT_API
Locally applied patches:
CYG11 no-bs
CYG12 no archlib in otherlibdirs
CYG14 Dynaloader
CYG15 static-Win32CORE
CYG17 utf8-paths
CYG21 LibList-Kid.patch
CYG22 cygwin-1.7 hints
CYG23 544-stat
CYG24 build man pages
CYG25 rebase_privlib
Module-Build-0.36_13
Bug#55162 CYG18 File::Spec::case_tolerant performance
disable ExtUtils::MakeMaker::Coverage in Sys-Syslog
Built under cygwin
Compiled at Aug 28 2010 20:17:29
%ENV:
PERL5LIB="/home/chm/perl/lib"
PERL5OPT=""
PERL5_CPANPLUS_IS_RUNNING="572"
PERL5_CPAN_IS_RUNNING="572"
PERLDOC_PAGER="less"
CYGWIN=""
@INC:
/home/chm/perl/lib/i686-cygwin-thread-multi-64int
/home/chm/perl/lib
/usr/lib/perl5/5.10/i686-cygwin
/usr/lib/perl5/5.10
/usr/lib/perl5/site_perl/5.10/i686-cygwin
/usr/lib/perl5/site_perl/5.10
/usr/lib/perl5/vendor_perl/5.10/i686-cygwin
/usr/lib/perl5/vendor_perl/5.10
/usr/lib/perl5/vendor_perl/5.10
/usr/lib/perl5/site_perl/5.8
/usr/lib/perl5/vendor_perl/5.8
.