Report for Task-Git-LongList1-0.03

Back
From: metabase:user:8286d1fc-3d52-11e2-9ec4-cb9cdd236785
Subject: PASS Task-Git-LongList1-0.03 v5.19.10 GNU/Linux
Date: 2014-04-20T11:13:21Z

This distribution has been tested as part of the CPAN Testers
project, supporting the Perl programming language.  See
http://wiki.cpantesters.org/ for more information or email
questions to cpan-testers-discuss@perl.org


--
Dear Kevin William Henwood,

This is a computer-generated report for Task-Git-LongList1-0.03
on perl 5.19.10, created by CPAN-Reporter-1.2011.

Thank you for uploading your work to CPAN.  Congratulations!
All tests were successful.

Sections of this report:

    * Tester comments
    * Program output
    * Prerequisites
    * Environment and other context

------------------------------
TESTER COMMENTS
------------------------------

Additional comments from tester:

none provided

------------------------------
PROGRAM OUTPUT
------------------------------

Output from '/usr/local/bin/make test':

PERL_DL_NONLAZY=1 /opt/perl444-27-O0-5.19.10/bin/perl "-MExtUtils::Command::MM" "-MTest::Harness" "-e" "undef *Test::Harness::Switches; test_harness(0, 'inc', 'blib/lib', 'blib/arch')" t/00-Git-Code-Review.t t/000-prereqs.t t/000_standard__pod.t t/000_standard__pod_coverage.t t/001-Exporter_require.t t/002-Carp_require.t t/003-Pod-Escapes_require.t t/004-Pod-Simple_require.t t/005-Test-Pod_require.t t/006-ExtUtils-Manifest_require.t t/007-Module-CoreList_require.t t/008-Compress-Raw-Zlib_require.t t/009-Pod-Man_require.t t/011-File-Spec_require.t t/012-Data-Dumper_require.t t/013-ExtUtils-MakeMaker_require.t t/014-Compress-Raw-Bzip2_require.t t/015-Scalar-Util_require.t t/016-Compress-Zlib_require.t t/017-Devel-Symdump_require.t t/018-Pod-Parser_require.t t/019-Test-More_require.t t/020-Test-Pod-Coverage_require.t t/021-File-Temp_require.t t/022-Text-ParseWords_require.t t/023-IO-Handle_require.t t/024-JSON-PP_require.t t/025-Getopt-Long_require.t t/026-lib_require.t t/027-CPAN-Meta-YAML_require.t t/028-parent_require.t t/029-version_require.t t/030-ExtUtils-CBuilder_require.t t/031-ExtUtils-ParseXS_require.t t/032-XSLoader_require.t t/033-Time-HiRes_require.t t/034-constant_require.t t/035-Test-Harness_require.t t/036-Text-Abbrev_require.t t/037-Encode_require.t t/038-Parse-CPAN-Meta_require.t t/039-Perl-OSType_require.t t/040-CPAN-Meta-Requirements_require.t t/041-CPAN-Meta_require.t t/042-File-Path_require.t t/043-AutoLoader_require.t t/044-ExtUtils-Installed_require.t t/045-Module-Metadata_require.t t/046-Module-Build_require.t t/047-Text-Glob_require.t t/048-Number-Compare_require.t t/049-File-Find-Rule_require.t t/050-Test-Distribution_require.t t/051-Test_require.t t/052-threads_require.t t/053-threads-shared_require.t t/054-Test-Tester_require.t t/055-Email-Address_require.t t/056-Config-Tiny_require.t t/057-List-MoreUtils_require.t t/058-Task-Weaken_require.t t/059-Hook-LexWrap_require.t t/060-Test-SubCalls_require.t t/061-Digest-MD5_require.t t/062-Clone_require.t t/063-Params-Util_require.t t/064-Test-NoWarnings_require.t t/065-Test-Object_require.t t/066-IO-String_require.t t/067-File-Remove_require.t t/068-PPI_require.t t/069-PPIx-Regexp_require.t t/070-Module-Pluggable_require.t t/071-String-Format_require.t t/072-Perl-Tidy_require.t t/073-File-ShareDir-Install_require.t t/074-File-ShareDir_require.t t/075-Path-IsDev_require.t t/076-Path-FindDev_require.t t/077-IPC-Run3_require.t t/078-Probe-Perl_require.t t/079-Test-Script_require.t t/080-File-Which_require.t t/081-File-HomeDir_require.t t/082-Digest-SHA_require.t t/083-Digest-base_require.t t/085-Path-Tiny_require.t t/086-Module-Runtime_require.t t/087-Try-Tiny_require.t t/088-Test-Fatal_require.t t/089-Role-Tiny_require.t t/090-Sub-Install_require.t t/091-Data-OptList_require.t t/092-Sub-Exporter_require.t t/093-File-ShareDir-ProjectDistDir_require.t t/094-Class-Tiny_require.t t/095-Lingua-EN-Inflect_require.t t/096-Text-Wrap_require.t t/097-Class-Data-Inheritable_require.t t/098-Devel-StackTrace_require.t t/099-Exception-Class_require.t t/100-Readonly_require.t t/101-Readonly-XS_require.t t/102-PPIx-Utilities-Statement_require.t t/103-Test-Deep_require.t t/104-Pod-Spell_require.t t/105-B-Keywords_require.t t/106-Pod-PlainText_require.t t/107-Storable_require.t t/108-Perl-Critic_require.t t/109-Test-Perl-Critic_require.t t/110-Test-EOL_require.t t/111-Test-Exception_require.t t/113-Data-Dump_require.t t/114-Text-Balanced_require.t t/115-Parse-RecDescent_require.t t/116-Filter-Util-Call_require.t t/117-Inline-Files_require.t t/118-Capture-Tiny_require.t t/119-Test-FailWarnings_require.t t/120-Locale-Maketext_require.t t/121-Locale-Maketext-Simple_require.t t/123-Module-Load_require.t t/124-Module-Load-Conditional_require.t t/125-Params-Check_require.t t/126-Socket_require.t t/127-Sub-Uplevel_require.t t/128-Data-Validate-Type_require.t t/129-Test-Type_require.t t/130-IO-Pty_require.t t/131-Test-CPAN-Meta_require.t t/132-Perl-MinimumVersion_require.t t/133-Test-MinimumVersion_require.t t/134-IPC-Run_require.t t/135-System-Command_require.t t/136-Git-Repository_require.t t/137-Git-Repository-Plugin-Log_require.t t/138-ExtUtils-Config_require.t t/139-ExtUtils-InstallPaths_require.t t/140-ExtUtils-Helpers_require.t t/141-TAP-Harness-Env_require.t t/142-Module-Build-Tiny_require.t t/143-Sub-Name_require.t t/144-Dist-CheckConflicts_require.t t/145-Module-Implementation_require.t t/146-Package-Stash_require.t t/147-Class-Load_require.t t/148-Perl6-Slurp_require.t t/149-Git-Repository-Plugin-Blame_require.t t/150-Term-ReadLine-Gnu_require.t t/151-Term-ReadLine_require.t t/152-Memoize_require.t t/153-Text-Reform_require.t t/154-Text-Autoformat_require.t t/155-HTML-Entities_require.t t/156-Term-ANSIColor_require.t t/157-Git-Deploy_require.t t/158-URI-escape_require.t t/159-WWW-RobotRules_require.t t/160-Time-Local_require.t t/161-HTTP-Date_require.t t/162-HTTP-Headers-Util_require.t t/163-HTTP-Cookies_require.t t/164-Net-HTTP_require.t t/165-Log-Agent_require.t t/166-HTTP-Daemon_require.t t/167-HTTP-Negotiate_require.t t/168-File-Listing_require.t t/169-IO-HTML_require.t t/170-Encode-Locale_require.t t/171-MIME-Base64_require.t t/172-LWP-UserAgent_require.t t/173-YAML-Syck_require.t t/174-Net-Ping_require.t t/175-IO-Zlib_require.t t/176-Net-FTP_require.t t/177-Term-Readkey_require.t t/178-Socket_require.t t/179-Archive-Tar_require.t t/180-HTTP-Tiny_require.t t/181-Archive-Zip_require.t t/182-YAML_require.t t/183-Socket-GetAddrInfo_require.t t/184-IO-Socket-INET6_require.t t/185-IO-Socket-IP_require.t t/186-Digest-SHA1_require.t t/187-Digest-SHA-PurePerl_require.t t/188-Digest-SHA256_require.t t/189-Crypt-CBC_require.t t/190-Crypt-DES_require.t t/191-Crypt-Blowfish_require.t t/192-Crypt-RIPEMD160_require.t t/193-Tie-EncryptedHash_require.t t/194-Class-Loader_require.t t/195-Convert-ASCII-Armour_require.t t/196-Data-Buffer_require.t t/197-Digest-MD2_require.t t/198-Crypt-DES_EDE3_require.t t/199-Math-BigInt_require.t t/200-Class-ErrorHandler_require.t t/201-Convert-PEM_require.t t/202-Crypt-DSA_require.t t/203-Convert-ASN1_require.t t/204-Sort-Versions_require.t t/205-Crypt-Twofish_require.t t/206-Test-Synopsis_require.t t/207-GnuPG-require.t t/208-Module-Signature_require.t t/209-Safe_require.t t/210-CPAN_require.t t/211-Git-CPAN-Hook_require.t t/212-File-Slurp_require.t t/213-Pod-Usage_require.t t/214-IO-CaptureOutput_require.t t/215-Devel-CheckLib_require.t t/216-Git-Raw_require.t t/217-Config-GitLike_require.t t/218-Getopt-Long-Descriptive_require.t t/219-App-Cmd-Setup_require.t t/220-CLI-Helpers_require.t t/221-PerlIO-utf8_strict_require.t t/222-Mixin-Linewise-Readers_require.t t/223-Pod-Eventual-Simple_require.t t/224-Pod-Coverage-TrustPod_require.t t/225-Git-Code-Review_require.t t/Task-Git-LongList1.t
/bin/tar: Read 1536 bytes from -
t/00-Git-Code-Review.t ........................ ok
# Prerequisite Report:
#     Version Module                        
#   --------- ------------------------------
#       0.323 App::Cmd::Setup               
#        1.96 Archive::Tar                  
#        1.37 Archive::Zip                  
#        5.74 AutoLoader                    
#        1.13 B::Keywords                   
#         0.4 CLI::Helpers                  
#        2.00 CPAN                          
#    2.140640 CPAN::Meta                    
#       2.125 CPAN::Meta::Requirements      
#       0.012 CPAN::Meta::YAML              
#        0.24 Capture::Tiny                 
#      1.3301 Carp                          
#        0.08 Class::Data::Inheritable      
#        0.03 Class::ErrorHandler           
#        1.28 Class::Inspector              
#        0.21 Class::Load                   
#        2.03 Class::Loader                 
#       0.014 Class::Tiny                   
#        0.36 Clone                         
#       2.064 Compress::Raw::Bzip2          
#       2.065 Compress::Raw::Zlib           
#       2.064 Compress::Zlib                
#        1.12 Config::GitLike               
#        2.20 Config::Tiny                  
#         1.4 Convert::ASCII::Armour        
#        0.26 Convert::ASN1                 
#        0.08 Convert::PEM                  
#        2.14 Crypt::Blowfish               
#        2.33 Crypt::CBC                    
#        2.07 Crypt::DES                    
#        0.01 Crypt::DES_EDE3               
#        1.17 Crypt::DSA                    
#        0.05 Crypt::RIPEMD160              
#        2.17 Crypt::Twofish                
#        0.04 Data::Buffer                  
#        1.22 Data::Dump                    
#       2.151 Data::Dumper                  
#       0.109 Data::OptList                 
#       1.4.2 Data::Validate::Type          
#        1.01 Devel::CheckLib               
#        1.31 Devel::StackTrace             
#        2.11 Devel::Symdump                
#        2.03 Digest::MD2                   
#        2.53 Digest::MD5                   
#        5.88 Digest::SHA                   
#        2.13 Digest::SHA1                  
#        5.88 Digest::SHA::PurePerl         
#        1.16 Digest::base                  
#        0.11 Dist::CheckConflicts          
#       1.903 Email::Address                
#        2.59 Encode                        
#        1.03 Encode::Locale                
#        1.37 Exception::Class              
#        5.70 Exporter                      
#    0.280216 ExtUtils::CBuilder            
#       0.007 ExtUtils::Config              
#       0.022 ExtUtils::Helpers             
#       0.010 ExtUtils::InstallPaths        
#    1.999005 ExtUtils::Installed           
#        6.96 ExtUtils::MakeMaker           
#        1.63 ExtUtils::Manifest            
#        3.24 ExtUtils::ParseXS             
#        0.33 File::Find::Rule              
#        1.00 File::HomeDir                 
#        6.04 File::Listing                 
#        2.09 File::Path                    
#        1.52 File::Remove                  
#        1.03 File::ShareDir                
#        0.08 File::ShareDir::Install       
#    1.000001 File::ShareDir::ProjectDistDir
#     9999.19 File::Slurp                   
#        3.40 File::Spec                    
#      0.2304 File::Temp                    
#        1.09 File::Which                   
#        1.49 Filter::Util::Call            
#        2.42 Getopt::Long                  
#       0.097 Getopt::Long::Descriptive     
#         0.2 Git::Code::Review             
#        6.01 Git::Deploy                   
#        0.32 Git::Raw                      
#       1.311 Git::Repository               
#       1.2.0 Git::Repository::Plugin::Blame
#       1.310 Git::Repository::Plugin::Log  
#        0.19 GnuPG                         
#        3.69 HTML::Entities                
#        3.20 HTML::Tagset                  
#        6.01 HTTP::Cookies                 
#        6.01 HTTP::Daemon                  
#        6.02 HTTP::Date                    
#        6.03 HTTP::Headers::Util           
#        6.01 HTTP::Negotiate               
#       0.043 HTTP::Tiny                    
#        0.24 Hook::LexWrap                 
#      1.1103 IO::CaptureOutput             
#        1.00 IO::HTML                      
#        1.28 IO::Handle                    
#        1.10 IO::Pty                       
#        2.72 IO::Socket::INET6             
#        0.29 IO::Socket::IP                
#        1.08 IO::String                    
#        1.10 IO::Zlib                      
#        0.92 IPC::Run                      
#       0.048 IPC::Run3                     
#        0.68 Inline::Files                 
#     2.27203 JSON::PP                      
#        6.02 LWP::MediaTypes               
#        6.05 LWP::UserAgent                
#       1.895 Lingua::EN::Inflect           
#        0.33 List::MoreUtils               
#        1.25 Locale::Maketext              
#        1.00 Locale::Maketext::Lexicon     
#        0.21 Locale::Maketext::Simple      
#       1.000 Log::Agent                    
#        3.14 MIME::Base64                  
#      1.9993 Math::BigInt                  
#        1.03 Memoize                       
#       0.106 Mixin::Linewise::Readers      
#      0.4205 Module::Build                 
#       0.035 Module::Build::Tiny           
#        3.09 Module::CoreList              
#        0.07 Module::Implementation        
#        0.32 Module::Load                  
#        0.62 Module::Load::Conditional     
#    1.000019 Module::Metadata              
#         5.1 Module::Pluggable             
#       0.014 Module::Runtime               
#        0.73 Module::Signature             
#        2.79 Net::FTP                      
#        6.06 Net::HTTP                     
#        2.43 Net::Ping                     
#        0.03 Number::Compare               
#       1.215 PPI                           
#       0.036 PPIx::Regexp                  
#    1.001000 PPIx::Utilities::Statement    
#        0.36 Package::Stash                
#        0.38 Params::Check                 
#        1.07 Params::Util                  
#      1.4414 Parse::CPAN::Meta             
#    1.967009 Parse::RecDescent             
#       0.5.0 Path::FindDev                 
#    1.001000 Path::IsDev                   
#       0.052 Path::Tiny                    
#    0.051005 Perl6::Slurp                  
#       1.121 Perl::Critic                  
#        1.32 Perl::MinimumVersion          
#       1.007 Perl::OSType                  
#    20140328 Perl::Tidy                    
#       0.004 PerlIO::utf8_strict           
#    0.100003 Pod::Coverage::TrustPod       
#        1.06 Pod::Escapes                  
#    0.094001 Pod::Eventual::Simple         
#        2.28 Pod::Man                      
#        1.62 Pod::Parser                   
#        2.06 Pod::PlainText                
#        3.28 Pod::Simple                   
#        1.15 Pod::Spell                    
#        1.63 Pod::Usage                    
#        0.03 Probe::Perl                   
#        1.04 Readonly                      
#        1.05 Readonly::XS                  
#    1.003003 Role::Tiny                    
#        2.37 Safe                          
#        1.38 Scalar::Util                  
#       2.013 Socket                        
#        0.25 Socket6                       
#        0.22 Socket::GetAddrInfo           
#         1.5 Sort::Versions                
#        2.45 Storable                      
#        1.17 String::Format                
#       0.987 Sub::Exporter                 
#       0.927 Sub::Install                  
#        0.05 Sub::Name                     
#        0.24 Sub::Uplevel                  
#       1.108 System::Command               
#        3.30 TAP::Harness::Env             
#        1.04 Task::Weaken                  
#        4.03 Term::ANSIColor               
#        2.31 Term::ReadKey                 
#        1.14 Term::ReadLine                
#        1.24 Term::ReadLine::Gnu           
#        1.26 Test                          
#       0.371 Test::Aggregate               
#        0.23 Test::CPAN::Meta              
#       0.112 Test::Deep                    
#       1.012 Test::DistManifest            
#        2.00 Test::Distribution            
#         1.5 Test::EOL                     
#        0.32 Test::Exception               
#       0.008 Test::FailWarnings            
#       0.013 Test::Fatal                   
#        3.30 Test::Harness                 
#    0.101081 Test::MinimumVersion          
#    1.001003 Test::More                    
#        1.04 Test::NoWarnings              
#        0.07 Test::Object                  
#        1.02 Test::Perl::Critic            
#        1.48 Test::Pod                     
#        1.08 Test::Pod::Coverage           
#        0.07 Test::Requires                
#        1.07 Test::Script                  
#        1.09 Test::SubCalls                
#        0.10 Test::Synopsis                
#       0.109 Test::Tester                  
#       1.1.2 Test::Type                    
#        1.02 Text::Abbrev                  
#    1.669004 Text::Autoformat              
#        2.02 Text::Balanced                
#        0.09 Text::Glob                    
#        3.29 Text::ParseWords              
#        1.20 Text::Reform                  
#   2013.0523 Text::Wrap                    
#         1.8 Tie::EncryptedHash            
#      1.9726 Time::HiRes                   
#      1.2300 Time::Local                   
#        0.21 Try::Tiny                     
#        3.31 URI::Escape                   
#        6.02 WWW::RobotRules               
#        0.16 XSLoader                      
#        0.90 YAML                          
#        1.27 YAML::Syck                    
#        1.27 constant                      
#      0.0601 if                            
#        0.63 lib                           
#       0.228 parent                        
#        1.92 threads                       
#        1.46 threads::shared               
#      0.9908 version                       
t/000-prereqs.t ............................... ok
t/000_standard__pod.t ......................... ok
t/000_standard__pod_coverage.t ................ ok
t/001-Exporter_require.t ...................... ok
t/002-Carp_require.t .......................... ok
t/003-Pod-Escapes_require.t ................... ok
t/004-Pod-Simple_require.t .................... ok
t/005-Test-Pod_require.t ...................... ok
t/006-ExtUtils-Manifest_require.t ............. ok
t/007-Module-CoreList_require.t ............... ok
t/008-Compress-Raw-Zlib_require.t ............. ok
t/009-Pod-Man_require.t ....................... ok
t/011-File-Spec_require.t ..................... ok
t/012-Data-Dumper_require.t ................... ok
t/013-ExtUtils-MakeMaker_require.t ............ ok
t/014-Compress-Raw-Bzip2_require.t ............ ok
t/015-Scalar-Util_require.t ................... ok
t/016-Compress-Zlib_require.t ................. ok
t/017-Devel-Symdump_require.t ................. ok
t/018-Pod-Parser_require.t .................... ok
t/019-Test-More_require.t ..................... ok
t/020-Test-Pod-Coverage_require.t ............. ok
t/021-File-Temp_require.t ..................... ok
t/022-Text-ParseWords_require.t ............... ok
t/023-IO-Handle_require.t ..................... ok
t/024-JSON-PP_require.t ....................... ok
t/025-Getopt-Long_require.t ................... ok
t/026-lib_require.t ........................... ok
t/027-CPAN-Meta-YAML_require.t ................ ok
t/028-parent_require.t ........................ ok
t/029-version_require.t ....................... ok
t/030-ExtUtils-CBuilder_require.t ............. ok
t/031-ExtUtils-ParseXS_require.t .............. ok
t/032-XSLoader_require.t ...................... ok
t/033-Time-HiRes_require.t .................... ok
t/034-constant_require.t ...................... ok
t/035-Test-Harness_require.t .................. ok
t/036-Text-Abbrev_require.t ................... ok
t/037-Encode_require.t ........................ ok
t/038-Parse-CPAN-Meta_require.t ............... ok
t/039-Perl-OSType_require.t ................... ok
t/040-CPAN-Meta-Requirements_require.t ........ ok
t/041-CPAN-Meta_require.t ..................... ok
t/042-File-Path_require.t ..................... ok
t/043-AutoLoader_require.t .................... ok
t/044-ExtUtils-Installed_require.t ............ ok
t/045-Module-Metadata_require.t ............... ok
t/046-Module-Build_require.t .................. ok
t/047-Text-Glob_require.t ..................... ok
t/048-Number-Compare_require.t ................ ok
t/049-File-Find-Rule_require.t ................ ok
t/050-Test-Distribution_require.t ............. ok
t/051-Test_require.t .......................... ok
t/052-threads_require.t ....................... ok
t/053-threads-shared_require.t ................ ok
t/054-Test-Tester_require.t ................... ok
t/055-Email-Address_require.t ................. ok
t/056-Config-Tiny_require.t ................... ok
t/057-List-MoreUtils_require.t ................ ok
t/058-Task-Weaken_require.t ................... ok
t/059-Hook-LexWrap_require.t .................. ok
t/060-Test-SubCalls_require.t ................. ok
t/061-Digest-MD5_require.t .................... ok
t/062-Clone_require.t ......................... ok
t/063-Params-Util_require.t ................... ok
t/064-Test-NoWarnings_require.t ............... ok
t/065-Test-Object_require.t ................... ok
t/066-IO-String_require.t ..................... ok
t/067-File-Remove_require.t ................... ok
t/068-PPI_require.t ........................... ok
t/069-PPIx-Regexp_require.t ................... ok
t/070-Module-Pluggable_require.t .............. ok
t/071-String-Format_require.t ................. ok
t/072-Perl-Tidy_require.t ..................... ok
t/073-File-ShareDir-Install_require.t ......... ok
t/074-File-ShareDir_require.t ................. ok
t/075-Path-IsDev_require.t .................... ok
t/076-Path-FindDev_require.t .................. ok
t/077-IPC-Run3_require.t ...................... ok
t/078-Probe-Perl_require.t .................... ok
t/079-Test-Script_require.t ................... ok
t/080-File-Which_require.t .................... ok
t/081-File-HomeDir_require.t .................. ok
t/082-Digest-SHA_require.t .................... ok
t/083-Digest-base_require.t ................... ok
t/085-Path-Tiny_require.t ..................... ok
t/086-Module-Runtime_require.t ................ ok
t/087-Try-Tiny_require.t ...................... ok
t/088-Test-Fatal_require.t .................... ok
t/089-Role-Tiny_require.t ..................... ok
t/090-Sub-Install_require.t ................... ok
t/091-Data-OptList_require.t .................. ok
t/092-Sub-Exporter_require.t .................. ok
t/093-File-ShareDir-ProjectDistDir_require.t .. ok
t/094-Class-Tiny_require.t .................... ok
t/095-Lingua-EN-Inflect_require.t ............. ok
t/096-Text-Wrap_require.t ..................... ok
t/097-Class-Data-Inheritable_require.t ........ ok
t/098-Devel-StackTrace_require.t .............. ok
t/099-Exception-Class_require.t ............... ok
t/100-Readonly_require.t ...................... ok
t/101-Readonly-XS_require.t ................... ok
t/102-PPIx-Utilities-Statement_require.t ...... ok
t/103-Test-Deep_require.t ..................... ok
t/104-Pod-Spell_require.t ..................... ok
t/105-B-Keywords_require.t .................... ok
t/106-Pod-PlainText_require.t ................. ok
t/107-Storable_require.t ...................... ok
t/108-Perl-Critic_require.t ................... ok
t/109-Test-Perl-Critic_require.t .............. ok
t/110-Test-EOL_require.t ...................... ok
t/111-Test-Exception_require.t ................ ok
t/113-Data-Dump_require.t ..................... ok
t/114-Text-Balanced_require.t ................. ok
t/115-Parse-RecDescent_require.t .............. ok
t/116-Filter-Util-Call_require.t .............. ok
t/117-Inline-Files_require.t .................. ok
t/118-Capture-Tiny_require.t .................. ok
t/119-Test-FailWarnings_require.t ............. ok
t/120-Locale-Maketext_require.t ............... ok
t/121-Locale-Maketext-Simple_require.t ........ ok
t/123-Module-Load_require.t ................... ok
t/124-Module-Load-Conditional_require.t ....... ok
t/125-Params-Check_require.t .................. ok
t/126-Socket_require.t ........................ ok
t/127-Sub-Uplevel_require.t ................... ok
t/128-Data-Validate-Type_require.t ............ ok
t/129-Test-Type_require.t ..................... ok
t/130-IO-Pty_require.t ........................ ok
t/131-Test-CPAN-Meta_require.t ................ ok
t/132-Perl-MinimumVersion_require.t ........... ok
t/133-Test-MinimumVersion_require.t ........... ok
t/134-IPC-Run_require.t ....................... ok
t/135-System-Command_require.t ................ ok
t/136-Git-Repository_require.t ................ ok
t/137-Git-Repository-Plugin-Log_require.t ..... ok
t/138-ExtUtils-Config_require.t ............... ok
t/139-ExtUtils-InstallPaths_require.t ......... ok
t/140-ExtUtils-Helpers_require.t .............. ok
t/141-TAP-Harness-Env_require.t ............... ok
t/142-Module-Build-Tiny_require.t ............. ok
t/143-Sub-Name_require.t ...................... ok
t/144-Dist-CheckConflicts_require.t ........... ok
t/145-Module-Implementation_require.t ......... ok
t/146-Package-Stash_require.t ................. ok
t/147-Class-Load_require.t .................... ok
t/148-Perl6-Slurp_require.t ................... ok
t/149-Git-Repository-Plugin-Blame_require.t ... ok
t/150-Term-ReadLine-Gnu_require.t ............. ok
t/151-Term-ReadLine_require.t ................. ok
t/152-Memoize_require.t ....................... ok
t/153-Text-Reform_require.t ................... ok
t/154-Text-Autoformat_require.t ............... ok
t/155-HTML-Entities_require.t ................. ok
t/156-Term-ANSIColor_require.t ................ ok
t/157-Git-Deploy_require.t .................... ok
t/158-URI-escape_require.t .................... ok
t/159-WWW-RobotRules_require.t ................ ok
t/160-Time-Local_require.t .................... ok
t/161-HTTP-Date_require.t ..................... ok
t/162-HTTP-Headers-Util_require.t ............. ok
t/163-HTTP-Cookies_require.t .................. ok
t/164-Net-HTTP_require.t ...................... ok
t/165-Log-Agent_require.t ..................... ok
t/166-HTTP-Daemon_require.t ................... ok
t/167-HTTP-Negotiate_require.t ................ ok
t/168-File-Listing_require.t .................. ok
t/169-IO-HTML_require.t ....................... ok
t/170-Encode-Locale_require.t ................. ok
t/171-MIME-Base64_require.t ................... ok
t/172-LWP-UserAgent_require.t ................. ok
t/173-YAML-Syck_require.t ..................... ok
t/174-Net-Ping_require.t ...................... ok
t/175-IO-Zlib_require.t ....................... ok
t/176-Net-FTP_require.t ....................... ok
t/177-Term-Readkey_require.t .................. ok
t/178-Socket_require.t ........................ ok
t/179-Archive-Tar_require.t ................... ok
t/180-HTTP-Tiny_require.t ..................... ok
t/181-Archive-Zip_require.t ................... ok
t/182-YAML_require.t .......................... ok
t/183-Socket-GetAddrInfo_require.t ............ ok
t/184-IO-Socket-INET6_require.t ............... ok
t/185-IO-Socket-IP_require.t .................. ok
t/186-Digest-SHA1_require.t ................... ok
t/187-Digest-SHA-PurePerl_require.t ........... ok
t/188-Digest-SHA256_require.t ................. ok
t/189-Crypt-CBC_require.t ..................... ok
t/190-Crypt-DES_require.t ..................... ok
t/191-Crypt-Blowfish_require.t ................ ok
t/192-Crypt-RIPEMD160_require.t ............... ok
t/193-Tie-EncryptedHash_require.t ............. ok
t/194-Class-Loader_require.t .................. ok
t/195-Convert-ASCII-Armour_require.t .......... ok
t/196-Data-Buffer_require.t ................... ok
t/197-Digest-MD2_require.t .................... ok
t/198-Crypt-DES_EDE3_require.t ................ ok
t/199-Math-BigInt_require.t ................... ok
t/200-Class-ErrorHandler_require.t ............ ok
t/201-Convert-PEM_require.t ................... ok
t/202-Crypt-DSA_require.t ..................... ok
t/203-Convert-ASN1_require.t .................. ok
t/204-Sort-Versions_require.t ................. ok
t/205-Crypt-Twofish_require.t ................. ok
t/206-Test-Synopsis_require.t ................. ok
t/207-GnuPG-require.t ......................... ok
t/208-Module-Signature_require.t .............. ok
t/209-Safe_require.t .......................... ok
t/210-CPAN_require.t .......................... ok
/bin/tar: Ignoring unknown extended header keyword `SCHILY.dev'
/bin/tar: Ignoring unknown extended header keyword `SCHILY.ino'
/bin/tar: Ignoring unknown extended header keyword `SCHILY.nlink'
/bin/tar: Ignoring unknown extended header keyword `SCHILY.dev'
/bin/tar: Ignoring unknown extended header keyword `SCHILY.ino'
/bin/tar: Ignoring unknown extended header keyword `SCHILY.nlink'
/bin/tar: Ignoring unknown extended header keyword `SCHILY.dev'
/bin/tar: Ignoring unknown extended header keyword `SCHILY.ino'
/bin/tar: Ignoring unknown extended header keyword `SCHILY.nlink'
/bin/tar: Ignoring unknown extended header keyword `SCHILY.dev'
/bin/tar: Ignoring unknown extended header keyword `SCHILY.ino'
/bin/tar: Ignoring unknown extended header keyword `SCHILY.nlink'
/bin/tar: Ignoring unknown extended header keyword `SCHILY.dev'
/bin/tar: Ignoring unknown extended header keyword `SCHILY.ino'
/bin/tar: Ignoring unknown extended header keyword `SCHILY.nlink'
/bin/tar: Ignoring unknown extended header keyword `SCHILY.dev'
/bin/tar: Ignoring unknown extended header keyword `SCHILY.ino'
/bin/tar: Ignoring unknown extended header keyword `SCHILY.nlink'
/bin/tar: Read 2560 bytes from -
/bin/tar: Error exit delayed from previous errors
/bin/tar: Ignoring unknown extended header keyword `SCHILY.dev'
/bin/tar: Ignoring unknown extended header keyword `SCHILY.ino'
/bin/tar: Ignoring unknown extended header keyword `SCHILY.nlink'
/bin/tar: Ignoring unknown extended header keyword `SCHILY.dev'
/bin/tar: Ignoring unknown extended header keyword `SCHILY.ino'
/bin/tar: Ignoring unknown extended header keyword `SCHILY.nlink'
/bin/tar: Ignoring unknown extended header keyword `SCHILY.dev'
/bin/tar: Ignoring unknown extended header keyword `SCHILY.ino'
/bin/tar: Ignoring unknown extended header keyword `SCHILY.nlink'
/bin/tar: Ignoring unknown extended header keyword `SCHILY.dev'
/bin/tar: Ignoring unknown extended header keyword `SCHILY.ino'
/bin/tar: Ignoring unknown extended header keyword `SCHILY.nlink'
/bin/tar: Ignoring unknown extended header keyword `SCHILY.dev'
/bin/tar: Ignoring unknown extended header keyword `SCHILY.ino'
/bin/tar: Ignoring unknown extended header keyword `SCHILY.nlink'
/bin/tar: Ignoring unknown extended header keyword `SCHILY.dev'
/bin/tar: Ignoring unknown extended header keyword `SCHILY.ino'
/bin/tar: Ignoring unknown extended header keyword `SCHILY.nlink'
/bin/tar: Error exit delayed from previous errors
t/211-Git-CPAN-Hook_require.t ................. ok
t/212-File-Slurp_require.t .................... ok
t/213-Pod-Usage_require.t ..................... ok
t/214-IO-CaptureOutput_require.t .............. ok
t/215-Devel-CheckLib_require.t ................ ok
t/216-Git-Raw_require.t ....................... ok
t/217-Config-GitLike_require.t ................ ok
t/218-Getopt-Long-Descriptive_require.t ....... ok
t/219-App-Cmd-Setup_require.t ................. ok
t/220-CLI-Helpers_require.t ................... ok
t/221-PerlIO-utf8_strict_require.t ............ ok
t/222-Mixin-Linewise-Readers_require.t ........ ok
t/223-Pod-Eventual-Simple_require.t ........... ok
t/224-Pod-Coverage-TrustPod_require.t ......... ok
t/225-Git-Code-Review_require.t ............... ok
t/Task-Git-LongList1.t ........................ ok
All tests successful.
Files=226, Tests=2990, 367 wallclock secs ( 4.03 usr  0.61 sys + 254.92 cusr 23.56 csys = 283.12 CPU)
Result: PASS

------------------------------
PREREQUISITES
------------------------------

Prerequisite modules loaded:

requires:

    Module                         Need  Have     
    ------------------------------ ----- ---------
    App::Cmd::Setup                0     0.323    
    Archive::Tar                   0     1.96     
    Archive::Zip                   0     1.37     
    AutoLoader                     0     5.74     
    B::Keywords                    0     1.13     
    Capture::Tiny                  0     0.24     
    Carp                           0     1.3301   
    Class::Data::Inheritable       0     0.08     
    Class::ErrorHandler            0     0.03     
    Class::Inspector               0     1.28     
    Class::Load                    0     0.21     
    Class::Loader                  0     2.03     
    Class::Tiny                    0     0.014    
    CLI::Helpers                   0     0.4      
    Clone                          0     0.36     
    Compress::Raw::Bzip2           0     2.064    
    Compress::Raw::Zlib            0     2.065    
    Compress::Zlib                 0     2.064    
    Config::GitLike                0     1.12     
    Config::Tiny                   0     2.20     
    constant                       0     1.27     
    Convert::ASCII::Armour         0     1.4      
    Convert::ASN1                  0     0.26     
    Convert::PEM                   0     0.08     
    CPAN                           0     2.05     
    CPAN::Meta                     0     2.140640 
    CPAN::Meta::Requirements       0     2.125    
    CPAN::Meta::YAML               0     0.012    
    Crypt::Blowfish                0     2.14     
    Crypt::CBC                     0     2.33     
    Crypt::DES                     0     2.07     
    Crypt::DES_EDE3                0     0.01     
    Crypt::DSA                     0     1.17     
    Crypt::RIPEMD160               0     0.05     
    Crypt::Twofish                 0     2.17     
    Data::Buffer                   0     0.04     
    Data::Dump                     0     1.22     
    Data::Dumper                   0     2.151    
    Data::OptList                  0     0.109    
    Data::Validate::Type           0     1.4.2    
    Devel::CheckLib                0     1.01     
    Devel::StackTrace              0     1.31     
    Devel::Symdump                 0     2.11     
    Digest::base                   0     1.16     
    Digest::MD2                    0     2.03     
    Digest::MD5                    0     2.53     
    Digest::SHA                    0     5.88     
    Digest::SHA1                   0     2.13     
    Digest::SHA::PurePerl          0     5.88     
    Dist::CheckConflicts           0     0.11     
    Email::Address                 0     1.903    
    Encode                         0     2.59     
    Encode::Locale                 0     1.03     
    Exception::Class               0     1.37     
    Exporter                       0     5.70     
    ExtUtils::CBuilder             0     0.280216 
    ExtUtils::Config               0     0.007    
    ExtUtils::Helpers              0     0.022    
    ExtUtils::Installed            0     1.999005 
    ExtUtils::InstallPaths         0     0.010    
    ExtUtils::MakeMaker            0     6.96     
    ExtUtils::Manifest             0     1.63     
    ExtUtils::ParseXS              0     3.24     
    File::Find::Rule               0     0.33     
    File::HomeDir                  0     1.00     
    File::Listing                  0     6.04     
    File::Path                     0     2.09     
    File::Remove                   0     1.52     
    File::ShareDir                 0     1.03     
    File::ShareDir::Install        0     0.08     
    File::ShareDir::ProjectDistDir 0     1.000001 
    File::Slurp                    0     9999.19  
    File::Spec                     0     3.40     
    File::Temp                     0     0.2304   
    File::Which                    0     1.09     
    Filter::Util::Call             0     1.49     
    Getopt::Long                   0     2.42     
    Getopt::Long::Descriptive      0     0.097    
    Git::Code::Review              0     0.2      
    Git::Deploy                    0     6.01     
    Git::Raw                       0     0.32     
    Git::Repository                0     1.311    
    Git::Repository::Plugin::Blame 0     1.2.0    
    Git::Repository::Plugin::Log   0     1.310    
    GnuPG                          0     0.19     
    Hook::LexWrap                  0     0.24     
    HTML::Entities                 0     3.69     
    HTML::Tagset                   0     3.20     
    HTTP::Cookies                  0     6.01     
    HTTP::Daemon                   0     6.01     
    HTTP::Date                     0     6.02     
    HTTP::Headers::Util            0     6.03     
    HTTP::Negotiate                0     6.01     
    HTTP::Tiny                     0     0.043    
    if                             0     0.0601   
    Inline::Files                  0     0.68     
    IO::CaptureOutput              0     1.1103   
    IO::Handle                     0     1.28     
    IO::HTML                       0     1.00     
    IO::Pty                        0     1.10     
    IO::Socket::INET6              0     2.72     
    IO::Socket::IP                 0     0.29     
    IO::String                     0     1.08     
    IO::Zlib                       0     1.10     
    IPC::Run                       0     0.92     
    IPC::Run3                      0     0.048    
    JSON::PP                       0     2.27203  
    lib                            0     0.63     
    Lingua::EN::Inflect            0     1.895    
    List::MoreUtils                0     0.33     
    Locale::Maketext               0     1.25     
    Locale::Maketext::Lexicon      0     1.00     
    Locale::Maketext::Simple       0     0.21     
    Log::Agent                     0     1.000    
    LWP::MediaTypes                0     6.02     
    LWP::UserAgent                 0     6.05     
    Math::BigInt                   0     1.9993   
    Memoize                        0     1.03     
    MIME::Base64                   0     3.14     
    Mixin::Linewise::Readers       0     0.106    
    Module::Build                  0     0.4205   
    Module::Build::Tiny            0     0.035    
    Module::CoreList               0     3.09     
    Module::Implementation         0     0.07     
    Module::Load                   0     0.32     
    Module::Load::Conditional      0     0.62     
    Module::Metadata               0     1.000019 
    Module::Pluggable              0     5.1      
    Module::Runtime                0     0.014    
    Module::Signature              0     0.73     
    Net::FTP                       0     2.79     
    Net::HTTP                      0     6.06     
    Net::Ping                      0     2.43     
    Number::Compare                0     0.03     
    Package::Stash                 0     0.36     
    Params::Check                  0     0.38     
    Params::Util                   0     1.07     
    parent                         0     0.228    
    Parse::CPAN::Meta              0     1.4414   
    Parse::RecDescent              0     1.967009 
    Path::FindDev                  0     0.5.0    
    Path::IsDev                    0     1.001000 
    Path::Tiny                     0     0.052    
    perl                           5.005 5.019010 
    Perl6::Slurp                   0     0.051005 
    Perl::Critic                   0     1.121    
    Perl::MinimumVersion           0     1.32     
    Perl::OSType                   0     1.007    
    Perl::Tidy                     0     20140328 
    PerlIO::utf8_strict            0     0.004    
    Pod::Coverage::TrustPod        0     0.100003 
    Pod::Escapes                   0     1.06     
    Pod::Eventual::Simple          0     0.094001 
    Pod::Man                       0     2.28     
    Pod::Parser                    0     1.62     
    Pod::PlainText                 0     2.06     
    Pod::Simple                    0     3.28     
    Pod::Spell                     0     1.15     
    Pod::Usage                     0     1.63     
    PPI                            0     1.215    
    PPIx::Regexp                   0     0.036    
    PPIx::Utilities::Statement     0     1.001000 
    Probe::Perl                    0     0.03     
    Readonly                       0     1.04     
    Readonly::XS                   0     1.05     
    Role::Tiny                     0     1.003003 
    Safe                           0     2.37     
    Scalar::Util                   0     1.38     
    Socket                         0     2.013    
    Socket6                        0     0.25     
    Socket::GetAddrInfo            0     0.22     
    Sort::Versions                 0     1.5      
    Storable                       0     2.45     
    String::Format                 0     1.17     
    Sub::Exporter                  0     0.987    
    Sub::Install                   0     0.927    
    Sub::Name                      0     0.05     
    Sub::Uplevel                   0     0.24     
    System::Command                0     1.108    
    TAP::Harness::Env              0     3.30     
    Task::Weaken                   0     1.04     
    Term::ANSIColor                0     4.03     
    Term::ReadKey                  0     2.31     
    Term::ReadLine                 0     1.14     
    Term::ReadLine::Gnu            0     1.24     
    Test                           0     1.26     
    Test::Aggregate                0     0.371    
    Test::CPAN::Meta               0     0.23     
    Test::Deep                     0     0.112    
    Test::DistManifest             0     1.012    
    Test::Distribution             0     2.00     
    Test::EOL                      0     1.5      
    Test::Exception                0     0.32     
    Test::FailWarnings             0     0.008    
    Test::Fatal                    0     0.013    
    Test::Harness                  0     3.30     
    Test::MinimumVersion           0     0.101081 
    Test::More                     0     1.001003 
    Test::NoWarnings               0     1.04     
    Test::Object                   0     0.07     
    Test::Perl::Critic             0     1.02     
    Test::Pod                      0     1.48     
    Test::Pod::Coverage            0     1.08     
    Test::Requires                 0     0.07     
    Test::Script                   0     1.07     
    Test::SubCalls                 0     1.09     
    Test::Synopsis                 0     0.10     
    Test::Tester                   0     0.109    
    Test::Type                     0     1.1.2    
    Text::Abbrev                   0     1.02     
    Text::Autoformat               0     1.669004 
    Text::Balanced                 0     2.02     
    Text::Glob                     0     0.09     
    Text::ParseWords               0     3.29     
    Text::Reform                   0     1.20     
    Text::Wrap                     0     2013.0523
    threads                        0     1.92     
    threads::shared                0     1.46     
    Tie::EncryptedHash             0     1.8      
    Time::HiRes                    0     1.9726   
    Time::Local                    0     1.2300   
    Try::Tiny                      0     0.21     
    URI::Escape                    0     3.31     
    version                        0     0.9908   
    WWW::RobotRules                0     6.02     
    XSLoader                       0     0.16     
    YAML                           0     0.90     
    YAML::Syck                     0     1.27     

build_requires:

    Module                         Need  Have     
    ------------------------------ ----- ---------
    ExtUtils::MakeMaker            6.36  6.96     
    Test::Aggregate                0     0.371    

configure_requires:

    Module                         Need  Have     
    ------------------------------ ----- ---------
    ExtUtils::MakeMaker            6.36  6.96     


------------------------------
ENVIRONMENT AND OTHER CONTEXT
------------------------------

Environment variables:

    LANG = en_US.UTF-8
    LD_LIBRARY_PATH = /usr/local/lib
    PATH = /usr/lib/qt-3.3/bin:/usr/kerberos/sbin:/usr/kerberos/bin:/usr/lib/ccache:/usr/local/sbin:/usr/local/bin:/sbin:/bin:/usr/sbin:/usr/bin:/usr/X11R6/bin:/usr/lib/alliance/bin:/opt/real/RealPlayer:/root/bin:/usr/lib/alliance/bin:/opt/real/RealPlayer
    PERL5LIB = 
    PERL5OPT = 
    PERL5_CPANPLUS_IS_RUNNING = 18873
    PERL5_CPAN_IS_RUNNING = 18873
    SHELL = /bin/bash
    TERM = xterm

Perl special variables (and OS-specific diagnostics, for MSWin32):

    $^X = /opt/perl444-27-O0-5.19.10/bin/perl
    $UID/$EUID = 0 / 0
    $GID = 0 0 1 2 3 4 6 10
    $EGID = 0 0 1 2 3 4 6 10

Perl module toolchain versions installed:

    Module              Have    
    ------------------- --------
    CPAN                2.05    
    CPAN::Meta          2.140640
    Cwd                 3.40    
    ExtUtils::CBuilder  0.280216
    ExtUtils::Command   1.18    
    ExtUtils::Install   1.66    
    ExtUtils::MakeMaker 6.96    
    ExtUtils::Manifest  1.63    
    ExtUtils::ParseXS   3.24    
    File::Spec          3.40    
    JSON                2.90    
    JSON::PP            2.27203 
    Module::Build       0.4205  
    Module::Signature   0.73    
    Parse::CPAN::Meta   1.4414  
    Test::Harness       3.30    
    Test::More          1.001003
    YAML                0.90    
    YAML::Syck          1.27    
    version             0.9908  


--

Summary of my perl5 (revision 5 version 19 subversion 10) configuration:
   
  Platform:
    osname=linux, osvers=2.6.27-repin.1, archname=i686-linux-thread-multi-64int-ld
    uname='linux localhost.localdomain 2.6.27-repin.1 #1 smp tue jan 25 20:07:21 msk 2011 i686 i686 i386 gnulinux '
    config_args='-Dcc=/opt/444/bin/gcc -Dprefix=/opt/perl444-27-O0-5.19.10'
    hint=recommended, useposix=true, d_sigaction=define
    useithreads=define, usemultiplicity=define
    use64bitint=define, use64bitall=undef, uselongdouble=define
    usemymalloc=y, bincompat5005=undef
  Compiler:
    cc='/opt/444/bin/gcc', ccflags ='-D_REENTRANT -D_GNU_SOURCE -fno-strict-aliasing -pipe -fstack-protector -I/usr/local/include -I/opt/gnu/include -D_LARGEFILE_SOURCE -D_FILE_OFFSET_BITS=64',
    optimize='-O0',
    cppflags='-D_REENTRANT -D_GNU_SOURCE -fno-strict-aliasing -pipe -fstack-protector -I/usr/local/include -I/opt/gnu/include'
    ccversion='', gccversion='4.4.4', gccosandvers=''
    intsize=4, longsize=4, ptrsize=4, doublesize=8, byteorder=12345678
    d_longlong=define, longlongsize=8, d_longdbl=define, longdblsize=12
    ivtype='long long', ivsize=8, nvtype='long double', nvsize=12, Off_t='off_t', lseeksize=8
    alignbytes=4, prototype=define
  Linker and Libraries:
    ld='/opt/444/bin/gcc', ldflags =' -fstack-protector -L/usr/local/lib'
    libpth=/usr/local/lib /opt/444/lib /opt/444/lib/gcc/i686-pc-linux-gnu/4.4.4/include-fixed /usr/lib /lib
    libs=-lnsl -lgdbm -ldb -ldl -lm -lcrypt -lutil -lpthread -lc
    perllibs=-lnsl -ldl -lm -lcrypt -lutil -lpthread -lc
    libc=libc-2.5.so, so=so, useshrplib=true, libperl=libperl.so
    gnulibc_version='2.5'
  Dynamic Linking:
    dlsrc=dl_dlopen.xs, dlext=so, d_dlsymun=undef, ccdlflags='-Wl,-E -Wl,-rpath,/opt/perl444-27-O0-5.19.10/lib/5.19.10/i686-linux-thread-multi-64int-ld/CORE'
    cccdlflags='-fPIC', lddlflags='-shared -O0 -L/usr/local/lib -fstack-protector'


Characteristics of this binary (from libperl): 
  Compile-time options: HAS_TIMES MULTIPLICITY MYMALLOC PERLIO_LAYERS
                        PERL_DONT_CREATE_GVSV
                        PERL_HASH_FUNC_ONE_AT_A_TIME_HARD
                        PERL_IMPLICIT_CONTEXT PERL_MAD PERL_MALLOC_WRAP
                        PERL_NEW_COPY_ON_WRITE PERL_PRESERVE_IVUV
                        USE_64_BIT_INT USE_FAST_STDIO USE_ITHREADS
                        USE_LARGE_FILES USE_LOCALE USE_LOCALE_COLLATE
                        USE_LOCALE_CTYPE USE_LOCALE_NUMERIC USE_LONG_DOUBLE
                        USE_PERLIO USE_PERL_ATOF USE_REENTRANT_API
  Built under linux
  Compiled at Apr  5 2014 19:02:33
  %ENV:
    PERL5LIB=""
    PERL5OPT=""
    PERL5_CPANPLUS_IS_RUNNING="18873"
    PERL5_CPAN_IS_RUNNING="18873"
  @INC:
    /opt/perl444-27-O0-5.19.10/lib/site_perl/5.19.10/i686-linux-thread-multi-64int-ld
    /opt/perl444-27-O0-5.19.10/lib/site_perl/5.19.10
    /opt/perl444-27-O0-5.19.10/lib/5.19.10/i686-linux-thread-multi-64int-ld
    /opt/perl444-27-O0-5.19.10/lib/5.19.10
    .