Report for Test-WWW-Mechanize-Catalyst-0.60

Back
From: metabase:user:68a9c4ac-1ec7-11e0-bf29-9c4bfeb2ac3f
Subject: PASS Test-WWW-Mechanize-Catalyst-0.60 v5.22.0 GNU/Linux
Date: 2015-08-03T14:20:25Z

This distribution has been tested as part of the CPAN Testers
project, supporting the Perl programming language.  See
http://wiki.cpantesters.org/ for more information or email
questions to cpan-testers-discuss@perl.org


--
Dear John Napiorkowski,

This is a computer-generated report for Test-WWW-Mechanize-Catalyst-0.60
on perl 5.22.0, created by CPAN-Reporter-1.2014.

Thank you for uploading your work to CPAN.  Congratulations!
All tests were successful.

Sections of this report:

    * Tester comments
    * Program output
    * Prerequisites
    * Environment and other context

------------------------------
TESTER COMMENTS
------------------------------

Additional comments from tester:

none provided

------------------------------
PROGRAM OUTPUT
------------------------------

Output from '/usr/bin/make test':

PERL_DL_NONLAZY=1 "/home/rwstauner/perl5/plenv/versions/5.22.0/bin/perl5.22.0" "-MExtUtils::Command::MM" "-MTest::Harness" "-e" "undef *Test::Harness::Switches; test_harness(0, 'inc', 'blib/lib', 'blib/arch')" t/*.t
t/auth-test.t ........... ok
t/cookies.t ............. ok
t/decoded_content.t ..... ok
# 
# ###################################################################
# Starting an external Catalyst HTTP server on port 7357
# To change the port, please set the TWMC_TEST_PORT env variable.
# (The server will be automatically shut-down right after the tests).
# ###################################################################
HTTP::Server::PSGI: Accepting connections at http://0:7357/
t/multi_content_type.t .. ok
t/redirect.t ............ ok
Term::Size::Any is not installed, can't autodetect terminal column width
Trouble trying to detect your terminal size, looking at $ENV{COLUMNS}
Cannot determine desired terminal width, using default of 80 columns
t/simple.t .............. ok
t/two_app.t ............. ok
t/useragent.t ........... ok
t/utf8.t ................ ok
t/white_label.t ......... ok
All tests successful.
Files=10, Tests=108, 19 wallclock secs ( 0.07 usr  0.02 sys +  8.41 cusr  0.47 csys =  8.97 CPU)
Result: PASS

------------------------------
PREREQUISITES
------------------------------

Prerequisite modules loaded:

requires:

    Module                                   Need     Have    
    ---------------------------------------- -------- --------
    Catalyst                                 5.90     5.90097 
    Class::Load                              0.19     0.23    
    LWP                                      5.816    6.13    
    Moose                                    0.67     2.1600  
    namespace::clean                         0.09     0.25    
    perl                                     5.008004 5.022000
    Test::WWW::Mechanize                     1.14     1.44    
    WWW::Mechanize                           1.54     1.75    

build_requires:

    Module                                   Need     Have    
    ---------------------------------------- -------- --------
    Catalyst::Plugin::Session::State::Cookie 0        0.17    
    Catalyst::Plugin::Session::Store::Dummy  0        0       
    ExtUtils::MakeMaker                      6.59     7.04_01 
    Test::Exception                          0        0.40    
    Test::More                               0.88     1.001014
    Test::utf8                               0        1.01    

configure_requires:

    Module                                   Need     Have    
    ---------------------------------------- -------- --------
    ExtUtils::MakeMaker                      6.59     7.04_01 


------------------------------
ENVIRONMENT AND OTHER CONTEXT
------------------------------

Environment variables:

    HARNESS_SUBCLASS = TAP::Harness::Restricted
    LANG = en_US.UTF-8
    LANGUAGE = en_US.UTF-8
    LC_ALL = en_US.UTF-8
    LC_CTYPE = en_US.UTF-8
    NONINTERACTIVE_TESTING = 1
    PATH = /home/rwstauner/perl5/plenv/versions/5.22.0/bin:/home/rwstauner/perl5/plenv/libexec:/home/rwstauner/perl5/plenv/plugins/perl-build/bin:/home/rwstauner/perl5/plenv/plugins/plenv-contrib/bin:/home/rwstauner/data/devel/linux:/home/rwstauner/ruby/rbenv/shims:/home/rwstauner/ruby/rbenv/bin:/home/rwstauner/python/venv/2.7.6/bin:/home/rwstauner/perl5/plenv/shims:/home/rwstauner/perl5/plenv/bin:/home/rwstauner/node/global/bin:/home/rwstauner/usr/iojs/bin:/home/rwstauner/java/home/bin:/home/rwstauner/bin:/home/rwstauner/usr/bin:/usr/local/sbin:/usr/local/bin:/usr/sbin:/usr/bin:/sbin:/bin:/usr/games:/usr/local/games
    PERL5LIB = 
    PERL5OPT = 
    PERL5_CPANPLUS_IS_RUNNING = 24449
    PERL5_CPAN_IS_RUNNING = 24449
    PERL_MM_USE_DEFAULT = 1
    SHELL = /bin/zsh
    TERM = screen-256color

Perl special variables (and OS-specific diagnostics, for MSWin32):

    $^X = /home/rwstauner/perl5/plenv/versions/5.22.0/bin/perl5.22.0
    $UID/$EUID = 1000 / 1000
    $GID = 1000 4 24 27 30 46 106 108 124 999 1000
    $EGID = 1000 4 24 27 30 46 106 108 124 999 1000

Perl module toolchain versions installed:

    Module              Have    
    ------------------- --------
    CPAN                2.11    
    CPAN::Meta          2.150005
    Cwd                 3.56    
    ExtUtils::CBuilder  0.280223
    ExtUtils::Command   1.20    
    ExtUtils::Install   2.04    
    ExtUtils::MakeMaker 7.04_01 
    ExtUtils::Manifest  1.70    
    ExtUtils::ParseXS   3.28    
    File::Spec          3.56    
    JSON                2.90    
    JSON::PP            2.27300 
    Module::Build       0.4214  
    Module::Signature   0.79    
    Parse::CPAN::Meta   1.4417  
    Test::Harness       3.35    
    Test::More          1.001014
    YAML                1.15    
    YAML::Syck          1.29    
    version             0.9912  


--

Summary of my perl5 (revision 5 version 22 subversion 0) configuration:
   
  Platform:
    osname=linux, osvers=3.13.0-61-generic, archname=x86_64-linux
    uname='linux raptor 3.13.0-61-generic #100-ubuntu smp wed jul 29 11:21:34 utc 2015 x86_64 x86_64 x86_64 gnulinux '
    config_args='-Dprefix=/home/rwstauner/perl5/plenv/versions/5.22.0 -de -Dusedevel -A'eval:scriptdir=/home/rwstauner/perl5/plenv/versions/5.22.0/bin''
    hint=recommended, useposix=true, d_sigaction=define
    useithreads=undef, usemultiplicity=undef
    use64bitint=define, use64bitall=define, uselongdouble=undef
    usemymalloc=n, bincompat5005=undef
  Compiler:
    cc='cc', ccflags ='-fwrapv -fno-strict-aliasing -pipe -fstack-protector -I/usr/local/include -D_LARGEFILE_SOURCE -D_FILE_OFFSET_BITS=64',
    optimize='-O2',
    cppflags='-fwrapv -fno-strict-aliasing -pipe -fstack-protector -I/usr/local/include'
    ccversion='', gccversion='4.8.4', gccosandvers=''
    intsize=4, longsize=8, ptrsize=8, doublesize=8, byteorder=12345678, doublekind=3
    d_longlong=define, longlongsize=8, d_longdbl=define, longdblsize=16, longdblkind=3
    ivtype='long', ivsize=8, nvtype='double', nvsize=8, Off_t='off_t', lseeksize=8
    alignbytes=8, prototype=define
  Linker and Libraries:
    ld='cc', ldflags =' -fstack-protector -L/usr/local/lib'
    libpth=/usr/local/lib /usr/lib/gcc/x86_64-linux-gnu/4.8/include-fixed /usr/include/x86_64-linux-gnu /usr/lib /lib/x86_64-linux-gnu /lib/../lib /usr/lib/x86_64-linux-gnu /usr/lib/../lib /lib
    libs=-lpthread -lnsl -lgdbm -ldb -ldl -lm -lcrypt -lutil -lc -lgdbm_compat
    perllibs=-lpthread -lnsl -ldl -lm -lcrypt -lutil -lc
    libc=libc-2.19.so, so=so, useshrplib=false, libperl=libperl.a
    gnulibc_version='2.19'
  Dynamic Linking:
    dlsrc=dl_dlopen.xs, dlext=so, d_dlsymun=undef, ccdlflags='-Wl,-E'
    cccdlflags='-fPIC', lddlflags='-shared -O2 -L/usr/local/lib -fstack-protector'


Characteristics of this binary (from libperl): 
  Compile-time options: HAS_TIMES PERLIO_LAYERS PERL_DONT_CREATE_GVSV
                        PERL_HASH_FUNC_ONE_AT_A_TIME_HARD PERL_MALLOC_WRAP
                        PERL_NEW_COPY_ON_WRITE PERL_PRESERVE_IVUV
                        PERL_USE_DEVEL USE_64_BIT_ALL USE_64_BIT_INT
                        USE_LARGE_FILES USE_LOCALE USE_LOCALE_COLLATE
                        USE_LOCALE_CTYPE USE_LOCALE_NUMERIC USE_LOCALE_TIME
                        USE_PERLIO USE_PERL_ATOF
  Locally applied patches:
	Devel::PatchPerl 1.30
  Built under linux
  Compiled at Aug  2 2015 19:36:37
  %ENV:
    PERL5LIB=""
    PERL5OPT=""
    PERL5_CPANPLUS_IS_RUNNING="24449"
    PERL5_CPAN_IS_RUNNING="24449"
    PERL_MM_USE_DEFAULT="1"
  @INC:
    /home/rwstauner/perl5/plenv/versions/5.22.0/lib/site_perl/5.22.0/x86_64-linux
    /home/rwstauner/perl5/plenv/versions/5.22.0/lib/site_perl/5.22.0
    /home/rwstauner/perl5/plenv/versions/5.22.0/lib/5.22.0/x86_64-linux
    /home/rwstauner/perl5/plenv/versions/5.22.0/lib/5.22.0
    .