Convert-Binary-C v0.79_01 Perl 5 v5.20.1 MSWin32-x86-multi-thread-64int
- Status
- Fail
- From
- Alexandr Ciornii (CHORNY)
- Dist
-
Convert-Binary-C v0.79_01
- Platform
- Perl 5 v5.20.1 MSWin32-x86-multi-thread-64int
- Date
- 2020-11-17 14:49:04
- ID
- ca564ebf-6bfa-1014-a40e-24bec07d0dba
This distribution has been tested as part of the CPAN Testers
project, supporting the Perl programming language. See
http://wiki.cpantesters.org/ for more information or email
questions to cpan-testers-discuss@perl.org
--
Dear Marcus Holland-Moritz,
This is a computer-generated report for Convert-Binary-C-0.79_01
on perl 5.20.1, created by CPAN-Reporter-1.2014.
Thank you for uploading your work to CPAN. However, there was a problem
testing your distribution.
If you think this report is invalid, please consult the CPAN Testers Wiki
for suggestions on how to avoid getting FAIL reports for missing library
or binary dependencies, unsupported operating systems, and so on:
http://wiki.cpantesters.org/wiki/CPANAuthorNotes
Sections of this report:
* Tester comments
* Program output
* Prerequisites
* Environment and other context
------------------------------
TESTER COMMENTS
------------------------------
Additional comments from tester:
this report is from an automated smoke testing program
and was not reviewed by a human for accuracy
------------------------------
PROGRAM OUTPUT
------------------------------
Output from 'C:\STRAWB~1\c\bin\dmake.exe test':
"C:\Strawberry201\perl\bin\perl.exe" "-Iblib\lib" "-Iblib\arch" test.pl
Can't find string terminator "'" anywhere before EOF at -e line 1.
Argument "" isn't numeric in numeric ge (>=) at test.pl line 31.
tests/001_init............ok
tests/101_basic...........ok
tests/201_config..........ok
1/2070 skipped: no debugging
tests/202_misc............ok
tests/203_warnings........ok
tests/204_enum............ok
tests/205_pack............ok
tests/206_parse...........ok
42/116 skipped: no debugging
tests/207_typedef.........ok
tests/208_float...........ok
tests/209_sourcify........ok
tests/210_depend..........ok
tests/211_clone...........ok
tests/212_clean...........ok
tests/213_string..........ok
tests/214_cache...........ok
tests/215_local...........ok
tests/216_language........ok
tests/217_preproc.........ok
tests/218_member..........ok
tests/219_def.............ok
tests/220_new.............ok
tests/221_asm.............ok
tests/222_ieee............ok
tests/223_initializer.....ok
tests/224_typeof..........ok
tests/225_magic...........ok
tests/226_indexed.........ok
tests/227_flexarray.......ok
tests/228_hooks...........ok
tests/229_substr..........ok
tests/230_compiler........ok
tests/231_align...........ok
tests/232_native..........ok
tests/233_tags............ok
tests/234_format..........ok
tests/235_basic...........ok
tests/236_typeinfo........ok
tests/237_parser..........ok
tests/238_byteorder.......ok
tests/239_macros..........ok
tests/240_offsetof........ok
tests/241_sizeof..........ok
tests/242_dimension.......ok
tests/243_parser..........ok
tests/501_bfsimple........ok
tests/502_bfmicrosoft.....ok
tests/503_bfgeneric.......ok
tests/601_speed...........ok
tests/602_threads.........# Test 1 got: "incorrect number of enum identifiers" (tests/602_threads.t at line 51)
# Expected: "" (thread failed)
# tests/602_threads.t line 51 is: $have_threads ? $_->join : $_, '', "thread failed") for @t;
# Test 2 got: "[buffer], line 1: file 'EXTERN.h' not found at tests/602_threads.t line 78.\n" (tests/602_threads.t at line 51 fail #2)
# Expected: "" (thread failed)
# Test 3 got: "incorrect number of enum identifiers" (tests/602_threads.t at line 51 fail #3)
# Expected: "" (thread failed)
# Test 4 got: "[buffer], line 1: file 'EXTERN.h' not found at tests/602_threads.t line 78.\n" (tests/602_threads.t at line 51 fail #4)
# Expected: "" (thread failed)
FAILED tests 1-4
Failed 4/4 tests, 0.00% okay
tests/603_complex.........ok
80/6080 skipped: no debug support
tests/701_debug...........ok
tests/702_env.............ok
tests/703_bugs............ok
tests/801_examples........ok
tests/802_pod.............ok
tests/803_pod_coverage....ok
tests/901_memory..........ok
396/397 skipped: no debugging
Failed Test Stat Wstat Total Fail List of Failed
-------------------------------------------------------------------------------
tests/602_threads.t 4 4 1-4
519 subtests skipped.
Failed 1/58 test scripts. 4/48545 subtests failed.
Files=58, Tests=48545, 68 wallclock secs ( 0.00 cusr + 0.00 csys = 0.00 CPU)
Failed 1/58 test programs. 4/48545 subtests failed.
dmake.exe: Error code 255, while making 'test_dynamic'
------------------------------
PREREQUISITES
------------------------------
Prerequisite modules loaded:
build_requires:
Module Need Have
------------------- ---- ----
ExtUtils::MakeMaker 0 7.04
configure_requires:
Module Need Have
------------------- ---- ----
ExtUtils::MakeMaker 0 7.04
------------------------------
ENVIRONMENT AND OTHER CONTEXT
------------------------------
Environment variables:
AUTOMATED_TESTING = 1
COMSPEC = C:\WINDOWS\system32\cmd.exe
NUMBER_OF_PROCESSORS = 1
PATH = C:\WINDOWS\system32;C:\WINDOWS;C:\WINDOWS\System32\Wbem;C:\Strawberry201\c\bin;C:\Strawberry201\perl\site\bin;C:\Strawberry201\perl\bin;C:\Git\cmd
PERL5LIB =
PERL5OPT =
PERL5_CPANPLUS_IS_RUNNING = 1100
PERL5_CPAN_IS_RUNNING = 1100
PERL5_CPAN_IS_RUNNING_IN_RECURSION = 1772,1100
PERL_CR_SMOKER_CURRENT = Convert-Binary-C-0.79_01
PERL_CR_SMOKER_RUNONCE = 1
PERL_EXTUTILS_AUTOINSTALL = --defaultdeps
PERL_MM_USE_DEFAULT = 1
PROCESSOR_IDENTIFIER = x86 Family 16 Model 5 Stepping 3, AuthenticAMD
TEMP = C:\DOCUME~1\c\LOCALS~1\Temp
Perl special variables (and OS-specific diagnostics, for MSWin32):
$^X = C:\Strawberry201\perl\bin\perl.exe
$UID/$EUID = 0 / 0
$GID = 0
$EGID = 0
Win32::GetOSName = WinXP/.Net
Win32::GetOSVersion = Service Pack 3, 5, 1, 2600, 2, 3, 0, 256, 1
Win32::FsType = NTFS
Win32::IsAdminUser = 1
Perl module toolchain versions installed:
Module Have
------------------- --------
CPAN 2.05
CPAN::Meta 2.142060
Cwd 3.48
ExtUtils::CBuilder 0.280219
ExtUtils::Command 1.18
ExtUtils::Install 1.68
ExtUtils::MakeMaker 7.04
ExtUtils::Manifest 1.66
ExtUtils::ParseXS 3.24
File::Spec 3.48
JSON 2.90
JSON::PP 2.27203
Module::Build 0.4211
Module::Signature 0.78
Parse::CPAN::Meta 1.4414
Test::Harness 3.33
Test::More 1.001006
YAML 1.15
YAML::Syck 1.29
version 0.9909
--
Summary of my perl5 (revision 5 version 20 subversion 1) configuration:
Platform:
osname=MSWin32, osvers=6.3, archname=MSWin32-x86-multi-thread-64int
uname='Win32 strawberry-perl 5.20.1.1 #1 Mon Sep 15 18:25:23 2014 i386'
config_args='undef'
hint=recommended, useposix=true, d_sigaction=undef
useithreads=define, usemultiplicity=define
use64bitint=define, use64bitall=undef, uselongdouble=undef
usemymalloc=n, bincompat5005=undef
Compiler:
cc='gcc', ccflags =' -s -O2 -DWIN32 -DPERL_TEXTMODE_SCRIPTS -DPERL_IMPLICIT_CONTEXT -DPERL_IMPLICIT_SYS -DUSE_PERLIO -fwrapv -fno-strict-aliasing -mms-bitfields',
optimize='-s -O2',
cppflags='-DWIN32'
ccversion='', gccversion='4.8.3', gccosandvers=''
intsize=4, longsize=4, ptrsize=4, doublesize=8, byteorder=12345678
d_longlong=define, longlongsize=8, d_longdbl=define, longdblsize=12
ivtype='long long', ivsize=8, nvtype='double', nvsize=8, Off_t='long long', lseeksize=8
alignbytes=8, prototype=define
Linker and Libraries:
ld='g++', ldflags ='-s -L"C:\STRAWB~1\perl\lib\CORE" -L"C:\STRAWB~1\c\lib"'
libpth=C:\STRAWB~1\c\lib C:\STRAWB~1\c\i686-w64-mingw32\lib C:\STRAWB~1\c\lib\gcc\i686-w64-mingw32\4.8.3
libs=-lmoldname -lkernel32 -luser32 -lgdi32 -lwinspool -lcomdlg32 -ladvapi32 -lshell32 -lole32 -loleaut32 -lnetapi32 -luuid -lws2_32 -lmpr -lwinmm -lversion -lodbc32 -lodbccp32 -lcomctl32
perllibs=-lmoldname -lkernel32 -luser32 -lgdi32 -lwinspool -lcomdlg32 -ladvapi32 -lshell32 -lole32 -loleaut32 -lnetapi32 -luuid -lws2_32 -lmpr -lwinmm -lversion -lodbc32 -lodbccp32 -lcomctl32
libc=, so=dll, useshrplib=true, libperl=libperl520.a
gnulibc_version=''
Dynamic Linking:
dlsrc=dl_win32.xs, dlext=xs.dll, d_dlsymun=undef, ccdlflags=' '
cccdlflags=' ', lddlflags='-mdll -s -L"C:\STRAWB~1\perl\lib\CORE" -L"C:\STRAWB~1\c\lib"'
Characteristics of this binary (from libperl):
Compile-time options: HAS_TIMES HAVE_INTERP_INTERN MULTIPLICITY
PERLIO_LAYERS PERL_DONT_CREATE_GVSV
PERL_HASH_FUNC_ONE_AT_A_TIME_HARD
PERL_IMPLICIT_CONTEXT PERL_IMPLICIT_SYS
PERL_MALLOC_WRAP PERL_NEW_COPY_ON_WRITE
PERL_PRESERVE_IVUV USE_64_BIT_INT USE_ITHREADS
USE_LARGE_FILES USE_LOCALE USE_LOCALE_COLLATE
USE_LOCALE_CTYPE USE_LOCALE_NUMERIC USE_PERLIO
USE_PERL_ATOF
Built under MSWin32
Compiled at Sep 15 2014 18:29:20
%ENV:
PERL5_CPANPLUS_IS_RUNNING="1100"
PERL5_CPAN_IS_RUNNING="1100"
PERL5_CPAN_IS_RUNNING_IN_RECURSION="1772,1100"
PERL_CR_SMOKER_CURRENT="Convert-Binary-C-0.79_01"
PERL_CR_SMOKER_RUNONCE="1"
PERL_EXTUTILS_AUTOINSTALL="--defaultdeps"
PERL_MM_USE_DEFAULT="1"
@INC:
C:/Strawberry201/perl/site/lib
C:/Strawberry201/perl/vendor/lib
C:/Strawberry201/perl/lib
.