Net-APNs-Extended v0.14 Perl 5 v5.24.2 amd64-netbsd

Status
Pass
From
Chris Williams (BINGOS)
Dist
Net-APNs-Extended v0.14
Platform
Perl 5 v5.24.2 amd64-netbsd
Date
2019-03-22T02:18:33
ID
ca7fd218-4c48-11e9-86e3-404589cf513b
This distribution has been tested as part of the CPAN Testers
project, supporting the Perl programming language.  See
http://wiki.cpantesters.org/ for more information or email
questions to cpan-testers-discuss@perl.org


--

Dear OMOHAYUI,

This is a computer-generated error report created automatically by
CPANPLUS, version 0.9176. Testers personal comments may appear
at the end of this report.


Thank you for uploading your work to CPAN.  Congratulations!
All tests were successful.

TEST RESULTS:

Below is the error stack from stage 'make test':

t/00_compile.t .................... ok
t/01_new.t ........................ ok
t/02_send.t ....................... ok
t/03_send_multi.t ................. ok
t/04_create_send_data.t ........... ok
t/05_retrieve_error.t ............. ok
t/06_constants.t .................. ok
t/base/00_compile.t ............... ok
t/base/01_new.t ................... ok
t/base/02_accessors.t ............. ok
t/base/03_hostname.t .............. ok
t/feedback/01_new.t ............... ok
t/feedback/02_retrive_feedback.t .. ok
All tests successful.
Files=13, Tests=69,  2 wallclock secs ( 0.06 usr  0.03 sys +  1.57 cusr  0.39 csys =  2.05 CPU)
Result: PASS


PREREQUISITES:

Here is a list of prerequisites you specified and versions we
managed to load:

	  Module Name                        Have     Want
	  Class::Accessor::Lite              0.08        0
	  JSON::XS                           4.02        0
	  Net::SSLeay                        1.85        0
	  Test::Mock::Guard                  0.10     0.08
	  Test::More                     1.302141     0.98
	  parent                            0.234        0

Perl module toolchain versions installed:
	Module Name                        Have
	CPANPLUS                         0.9176
	CPANPLUS::Dist::Build              0.90
	Cwd                                3.75
	ExtUtils::CBuilder             0.280230
	ExtUtils::Command                  7.34
	ExtUtils::Install                  2.14
	ExtUtils::MakeMaker                7.34
	ExtUtils::Manifest                 1.71
	ExtUtils::ParseXS                  3.35
	File::Spec                         3.75
	Module::Build                    0.4224
	Pod::Parser                        1.63
	Pod::Simple                        3.32
	Test2                          1.302141
	Test::Harness                      3.42
	Test::More                     1.302141
	version                          0.9924

******************************** NOTE ********************************
The comments above are created mechanically, possibly without manual
checking by the sender.  As there are many people performing automatic
tests on each upload to CPAN, it is likely that you will receive
identical messages about the same problem.

If you believe that the message is mistaken, please reply to the first
one with correction and/or additional informations, and do not take
it personally.  We appreciate your patience. :)
**********************************************************************

Additional comments:


This report was machine-generated by CPANPLUS::Dist::YACSmoke 1.06.
Powered by minismokebox version 0.68

------------------------------
ENVIRONMENT AND OTHER CONTEXT
------------------------------

Environment variables:

    AUTOMATED_TESTING = 1
    NONINTERACTIVE_TESTING = 1
    PATH = /home/cpan/bin:/bin:/sbin:/usr/bin:/usr/sbin:/usr/X11R7/bin:/usr/X11R6/bin:/usr/pkg/bin:/usr/pkg/sbin:/usr/games:/usr/local/bin:/usr/local/sbin
    PERL5LIB = /home/cpan/pit/jail/K6lbG0HrEP/lib/perl5:/home/cpan/pit/bare/conf/perl-5.24.2/.cpanplus/5.24.2/build/Y6IqTpLIQF/Test-Mock-Guard-0.10/blib/lib:/home/cpan/pit/bare/conf/perl-5.24.2/.cpanplus/5.24.2/build/Y6IqTpLIQF/Test-Mock-Guard-0.10/blib/arch:/home/cpan/pit/bare/conf/perl-5.24.2/.cpanplus/5.24.2/build/UUdyvIxcJT/Net-APNs-Extended-0.14/blib/lib:/home/cpan/pit/bare/conf/perl-5.24.2/.cpanplus/5.24.2/build/UUdyvIxcJT/Net-APNs-Extended-0.14/blib/arch
    PERL5_CPANPLUS_IS_RUNNING = 15966
    PERL5_CPANPLUS_IS_VERSION = 0.9176
    PERL5_MINISMOKEBOX = 0.68
    PERL5_YACSMOKE_BASE = /home/cpan/pit/bare/conf/perl-5.24.2
    PERL_EXTUTILS_AUTOINSTALL = --defaultdeps
    PERL_LOCAL_LIB_ROOT = /home/cpan/pit/jail/K6lbG0HrEP
    PERL_MB_OPT = --install_base "/home/cpan/pit/jail/K6lbG0HrEP"
    PERL_MM_OPT = INSTALL_BASE=/home/cpan/pit/jail/K6lbG0HrEP
    PERL_MM_USE_DEFAULT = 1
    SHELL = /usr/pkg/bin/bash
    TERM = screen

Perl special variables (and OS-specific diagnostics, for MSWin32):

    Perl: $^X = /home/cpan/pit/bare/perl-5.24.2/bin/perl
    UID:  $<  = 1002
    EUID: $>  = 1002
    GID:  $(  = 100 100
    EGID: $)  = 100 100


-------------------------------


--

Summary of my perl5 (revision 5 version 24 subversion 2) configuration:
   
  Platform:
    osname=netbsd, osvers=6.1.4, archname=amd64-netbsd
    uname='netbsd naboo.bingosnet.co.uk 6.1.4 netbsd 6.1.4 (generic) amd64 '
    config_args='-des -Dprefix=/home/cpan/pit/bare/perl-5.24.2'
    hint=recommended, useposix=true, d_sigaction=define
    useithreads=undef, usemultiplicity=undef
    use64bitint=define, use64bitall=define, uselongdouble=undef
    usemymalloc=n, bincompat5005=undef
  Compiler:
    cc='cc', ccflags ='-fwrapv -fno-strict-aliasing -pipe -fstack-protector -I/usr/pkg/include -D_FORTIFY_SOURCE=2',
    optimize='-O',
    cppflags='-fwrapv -fno-strict-aliasing -pipe -fstack-protector -I/usr/pkg/include'
    ccversion='', gccversion='4.5.3', gccosandvers=''
    intsize=4, longsize=8, ptrsize=8, doublesize=8, byteorder=12345678, doublekind=3
    d_longlong=define, longlongsize=8, d_longdbl=define, longdblsize=16, longdblkind=3
    ivtype='long', ivsize=8, nvtype='double', nvsize=8, Off_t='off_t', lseeksize=8
    alignbytes=8, prototype=define
  Linker and Libraries:
    ld='cc', ldflags =' -Wl,-rpath,/usr/pkg/lib -Wl,-rpath,/usr/local/lib -fstack-protector -L/usr/pkg/lib'
    libpth=/usr/include/gcc-4.5 /usr/lib /usr/pkg/lib /lib
    libs=-lpthread -lgdbm -lm -lcrypt -lutil -lc -lposix
    perllibs=-lpthread -lm -lcrypt -lutil -lc -lposix
    libc=/lib/libc.so, so=so, useshrplib=false, libperl=libperl.a
    gnulibc_version=''
  Dynamic Linking:
    dlsrc=dl_dlopen.xs, dlext=so, d_dlsymun=undef, ccdlflags='-Wl,-E '
    cccdlflags='-DPIC -fPIC ', lddlflags='--whole-archive -shared  -L/usr/pkg/lib -fstack-protector'


Characteristics of this binary (from libperl): 
  Compile-time options: HAS_TIMES PERLIO_LAYERS PERL_COPY_ON_WRITE
                        PERL_DONT_CREATE_GVSV
                        PERL_HASH_FUNC_ONE_AT_A_TIME_HARD PERL_MALLOC_WRAP
                        PERL_PRESERVE_IVUV USE_64_BIT_ALL USE_64_BIT_INT
                        USE_LARGE_FILES USE_LOCALE USE_LOCALE_COLLATE
                        USE_LOCALE_CTYPE USE_LOCALE_NUMERIC USE_LOCALE_TIME
                        USE_PERLIO USE_PERL_ATOF
  Locally applied patches:
	Devel::PatchPerl 1.48
  Built under netbsd
  Compiled at Jul 16 2017 20:38:19
  %ENV:
    PERL5LIB="/home/cpan/pit/jail/K6lbG0HrEP/lib/perl5:/home/cpan/pit/bare/conf/perl-5.24.2/.cpanplus/5.24.2/build/Y6IqTpLIQF/Test-Mock-Guard-0.10/blib/lib:/home/cpan/pit/bare/conf/perl-5.24.2/.cpanplus/5.24.2/build/Y6IqTpLIQF/Test-Mock-Guard-0.10/blib/arch:/home/cpan/pit/bare/conf/perl-5.24.2/.cpanplus/5.24.2/build/UUdyvIxcJT/Net-APNs-Extended-0.14/blib/lib:/home/cpan/pit/bare/conf/perl-5.24.2/.cpanplus/5.24.2/build/UUdyvIxcJT/Net-APNs-Extended-0.14/blib/arch"
    PERL5_CPANPLUS_IS_RUNNING="15966"
    PERL5_CPANPLUS_IS_VERSION="0.9176"
    PERL5_MINISMOKEBOX="0.68"
    PERL5_YACSMOKE_BASE="/home/cpan/pit/bare/conf/perl-5.24.2"
    PERL_EXTUTILS_AUTOINSTALL="--defaultdeps"
    PERL_LOCAL_LIB_ROOT="/home/cpan/pit/jail/K6lbG0HrEP"
    PERL_MB_OPT="--install_base "/home/cpan/pit/jail/K6lbG0HrEP""
    PERL_MM_OPT="INSTALL_BASE=/home/cpan/pit/jail/K6lbG0HrEP"
    PERL_MM_USE_DEFAULT="1"
  @INC:
    /home/cpan/pit/jail/K6lbG0HrEP/lib/perl5/5.24.2/amd64-netbsd
    /home/cpan/pit/jail/K6lbG0HrEP/lib/perl5/5.24.2
    /home/cpan/pit/jail/K6lbG0HrEP/lib/perl5/amd64-netbsd
    /home/cpan/pit/jail/K6lbG0HrEP/lib/perl5
    /home/cpan/pit/bare/conf/perl-5.24.2/.cpanplus/5.24.2/build/Y6IqTpLIQF/Test-Mock-Guard-0.10/blib/lib
    /home/cpan/pit/bare/conf/perl-5.24.2/.cpanplus/5.24.2/build/Y6IqTpLIQF/Test-Mock-Guard-0.10/blib/arch
    /home/cpan/pit/bare/conf/perl-5.24.2/.cpanplus/5.24.2/build/UUdyvIxcJT/Net-APNs-Extended-0.14/blib/lib
    /home/cpan/pit/bare/conf/perl-5.24.2/.cpanplus/5.24.2/build/UUdyvIxcJT/Net-APNs-Extended-0.14/blib/arch
    /home/cpan/pit/bare/perl-5.24.2/lib/site_perl/5.24.2/amd64-netbsd
    /home/cpan/pit/bare/perl-5.24.2/lib/site_perl/5.24.2
    /home/cpan/pit/bare/perl-5.24.2/lib/5.24.2/amd64-netbsd
    /home/cpan/pit/bare/perl-5.24.2/lib/5.24.2
    .