Back
From: metabase:user:a0e144f2-373b-11e6-8edd-c6848980b093
Subject: PASS Sys-SigAction-0.23 v5.26.0 GNU/Linux
Date: 2017-04-06T12:37:28Z
This distribution has been tested as part of the CPAN Testers
project, supporting the Perl programming language. See
http://wiki.cpantesters.org/ for more information or email
questions to cpan-testers-discuss@perl.org
--
Dear Lincoln A Baxter,
This is a computer-generated report for Sys-SigAction-0.23
on perl 5.26.0, created by CPAN-Reporter-1.2018.
Thank you for uploading your work to CPAN. Congratulations!
All tests were successful.
Sections of this report:
* Tester comments
* Program output
* Prerequisites
* Environment and other context
------------------------------
TESTER COMMENTS
------------------------------
Additional comments from tester:
this report is from an automated smoke testing program
and was not reviewed by a human for accuracy
------------------------------
PROGRAM OUTPUT
------------------------------
Output from '/usr/bin/make test':
PERL_DL_NONLAZY=1 "/home/cpan4/install/bin/perl" "-MExtUtils::Command::MM" "-MTest::Harness" "-e" "undef *Test::Harness::Switches; test_harness(0, 'blib/lib', 'blib/arch')" t/*.t
t/alternatives.t ...... ok
t/inline_nested.t ..... ok
t/name.t .............. ok
t/number.t ............ ok
NOTE: Setting safe=>1... with masked signals does not seem to work.
The problem is that the masked signals are not masked when safe=>1.
When safe=>0 they are.
If you have an application for safe=>1 and can come up with a patch
for this module that gets this test working, or a patch to the test
that shows how to fix it, please send it to me.
See the block below this one... which if executed would test safe mode
with masked signals... it is a clone of part of mask.t that proves this
is broken.
This test can be executed from the command line as follows:
SAFE_T=1 perl -Ilib t/safe.t
Lincoln
t/safe.t .............. ok
t/recursive_nested.t .. ok
# delta time was 0.100287, timer was for 0.1 secconds
t/mask.t .............. ok
t/timeout.t ........... ok
All tests successful.
Files=8, Tests=87, 5 wallclock secs ( 0.05 usr 0.02 sys + 0.78 cusr 0.04 csys = 0.89 CPU)
Result: PASS
------------------------------
PREREQUISITES
------------------------------
Prerequisite modules loaded:
requires:
Module Need Have
------------------- -------- --------
perl 5.006000 5.026000
POSIX 0 1.76
Test::More 0 1.302079
build_requires:
Module Need Have
------------------- -------- --------
ExtUtils::MakeMaker 0 7.25_01
configure_requires:
Module Need Have
------------------- -------- --------
ExtUtils::MakeMaker 0 7.25_01
------------------------------
ENVIRONMENT AND OTHER CONTEXT
------------------------------
Environment variables:
AUTOMATED_TESTING = 1
HARNESS_OPTIONS = j3
LANG = en_US.UTF-8
PATH = /usr/local/bin:/usr/bin:/bin:/usr/local/games:/usr/games
PERL5LIB =
PERL5OPT =
PERL5_CPANPLUS_IS_RUNNING = 11427
PERL5_CPAN_IS_RUNNING = 11427
PERL5_CPAN_IS_RUNNING_IN_RECURSION = 13578,11427
PERL_CR_SMOKER_CURRENT = Sys-SigAction-0.23
PERL_CR_SMOKER_RUNONCE = 1
PERL_EXTUTILS_AUTOINSTALL = --defaultdeps
PERL_MM_USE_DEFAULT = 1
PERL_USE_UNSAFE_INC = 0
SHELL = /bin/bash
TERM = putty-256color
Perl special variables (and OS-specific diagnostics, for MSWin32):
$^X = /home/cpan4/install/bin/perl
$UID/$EUID = 1005 / 1005
$GID = 1005 1005
$EGID = 1005 1005
Perl module toolchain versions installed:
Module Have
------------------- --------
CPAN 2.16
CPAN::Meta 2.150010
Cwd 3.67
ExtUtils::CBuilder 0.280225
ExtUtils::Command 7.25_01
ExtUtils::Install 2.04
ExtUtils::MakeMaker 7.25_01
ExtUtils::Manifest 1.70
ExtUtils::ParseXS 3.34
File::Spec 3.67
JSON 2.91_04
JSON::PP 2.91_04
Module::Build 0.4222
Module::Signature n/a
Parse::CPAN::Meta 2.150010
Test::Harness 3.38
Test::More 1.302079
YAML 1.23
YAML::Syck 1.29
version 0.9917
--
Summary of my perl5 (revision 5 version 26 subversion 0) configuration:
Commit id: 5fc389563644287b3e5f448616ce62dd0ce4e7a6
Platform:
osname=linux
osvers=3.16.0-4-amd64
archname=x86_64-linux-thread-multi
uname='linux digitalis 3.16.0-4-amd64 #1 smp debian 3.16.36-1+deb8u2 (2016-10-19) x86_64 gnulinux '
config_args='-Dusedevel -DDEBUGGING -Dusethreads -Dprefix=/home/cpan4/install -Uversiononly -des'
hint=recommended
useposix=true
d_sigaction=define
useithreads=define
usemultiplicity=define
use64bitint=define
use64bitall=define
uselongdouble=undef
usemymalloc=n
default_inc_excludes_dot=define
bincompat5005=undef
Compiler:
cc='cc'
ccflags ='-D_REENTRANT -D_GNU_SOURCE -fwrapv -DDEBUGGING -fno-strict-aliasing -pipe -fstack-protector-strong -I/usr/local/include -D_LARGEFILE_SOURCE -D_FILE_OFFSET_BITS=64 -D_FORTIFY_SOURCE=2'
optimize='-O2 -g'
cppflags='-D_REENTRANT -D_GNU_SOURCE -fwrapv -DDEBUGGING -fno-strict-aliasing -pipe -fstack-protector-strong -I/usr/local/include'
ccversion=''
gccversion='4.9.2'
gccosandvers=''
intsize=4
longsize=8
ptrsize=8
doublesize=8
byteorder=12345678
doublekind=3
d_longlong=define
longlongsize=8
d_longdbl=define
longdblsize=16
longdblkind=3
ivtype='long'
ivsize=8
nvtype='double'
nvsize=8
Off_t='off_t'
lseeksize=8
alignbytes=8
prototype=define
Linker and Libraries:
ld='cc'
ldflags =' -fstack-protector-strong -L/usr/local/lib'
libpth=/usr/local/lib /usr/lib/gcc/x86_64-linux-gnu/4.9/include-fixed /usr/include/x86_64-linux-gnu /usr/lib /lib/x86_64-linux-gnu /lib/../lib /usr/lib/x86_64-linux-gnu /usr/lib/../lib /lib /lib64 /usr/lib64
libs=-lpthread -lnsl -ldl -lm -lcrypt -lutil -lc
perllibs=-lpthread -lnsl -ldl -lm -lcrypt -lutil -lc
libc=libc-2.19.so
so=so
useshrplib=false
libperl=libperl.a
gnulibc_version='2.19'
Dynamic Linking:
dlsrc=dl_dlopen.xs
dlext=so
d_dlsymun=undef
ccdlflags='-Wl,-E'
cccdlflags='-fPIC'
lddlflags='-shared -O2 -g -L/usr/local/lib -fstack-protector-strong'
Characteristics of this binary (from libperl):
Compile-time options:
DEBUGGING
HAS_TIMES
MULTIPLICITY
PERLIO_LAYERS
PERL_COPY_ON_WRITE
PERL_DONT_CREATE_GVSV
PERL_IMPLICIT_CONTEXT
PERL_MALLOC_WRAP
PERL_OP_PARENT
PERL_PRESERVE_IVUV
PERL_TRACK_MEMPOOL
PERL_USE_DEVEL
USE_64_BIT_ALL
USE_64_BIT_INT
USE_ITHREADS
USE_LARGE_FILES
USE_LOCALE
USE_LOCALE_COLLATE
USE_LOCALE_CTYPE
USE_LOCALE_NUMERIC
USE_LOCALE_TIME
USE_PERLIO
USE_PERL_ATOF
USE_REENTRANT_API
Built under linux
Compiled at Apr 4 2017 17:17:49
%ENV:
PERL5LIB=""
PERL5OPT=""
PERL5_CPANPLUS_IS_RUNNING="11427"
PERL5_CPAN_IS_RUNNING="11427"
PERL5_CPAN_IS_RUNNING_IN_RECURSION="13578,11427"
PERL_CR_SMOKER_CURRENT="Sys-SigAction-0.23"
PERL_CR_SMOKER_RUNONCE="1"
PERL_EXTUTILS_AUTOINSTALL="--defaultdeps"
PERL_MM_USE_DEFAULT="1"
PERL_USE_UNSAFE_INC="0"
@INC:
/home/cpan4/install/lib/perl5/site_perl/5.26.0/x86_64-linux-thread-multi
/home/cpan4/install/lib/perl5/site_perl/5.26.0
/home/cpan4/install/lib/perl5/5.26.0/x86_64-linux-thread-multi
/home/cpan4/install/lib/perl5/5.26.0