Gnome2-VFS v1.084 Perl 5 v5.24.2 amd64-freebsd

Status
Unknown
From
Slaven Rezić
Dist
Gnome2-VFS v1.084
Platform
Perl 5 v5.24.2 amd64-freebsd
Date
2021-01-07T15:12:49
ID
ce1284b2-50fa-11eb-9ae5-4a251f24ea8f
This distribution has been tested as part of the CPAN Testers
project, supporting the Perl programming language.  See
http://wiki.cpantesters.org/ for more information or email
questions to cpan-testers-discuss@perl.org


--
Dear Brian Manning,

This is a computer-generated report for Gnome2-VFS-1.084
on perl 5.24.2, created by CPAN-Reporter-1.2018.

Thank you for uploading your work to CPAN.  However, attempting to
test your distribution gave an inconclusive result.

This could be because your distribution had an error during the make/build
stage, did not define tests, tests could not be found, because your tests were
interrupted before they finished, or because the results of the tests could not
be parsed.  You may wish to consult the CPAN Testers Wiki:

http://wiki.cpantesters.org/wiki/CPANAuthorNotes

Sections of this report:

    * Tester comments
    * Program output
    * Prerequisites
    * Environment and other context

------------------------------
TESTER COMMENTS
------------------------------

Additional comments from tester:

none provided

------------------------------
PROGRAM OUTPUT
------------------------------

Output from '/usr/bin/make test':

Running Mkbootstrap for Gnome2::VFS ()
chmod 644 "VFS.bs"
PERL_DL_NONLAZY=1 "/usr/perl5.24.2p/bin/perl" "-MExtUtils::Command::MM" "-MTest::Harness" "-e" "undef *Test::Harness::Switches; test_harness(0, 'blib/lib', 'blib/arch')" t/*.t
t/GnomeVFS.t ........... skipped: You have no ~/.gnome
t/GnomeVFSAddress.t .... skipped: You have no ~/.gnome
t/GnomeVFSDirectory.t .. skipped: You have no ~/.gnome
t/GnomeVFSFileInfo.t ... skipped: You have no ~/.gnome
t/GnomeVFSOps.t ........ skipped: You have no ~/.gnome
t/GnomeVFSResolve.t .... skipped: You have no ~/.gnome
t/GnomeVFSURI.t ........ skipped: You have no ~/.gnome
t/GnomeVFSUtils.t ...... skipped: You have no ~/.gnome
t/GnomeVFSXfer.t ....... skipped: You have no ~/.gnome
Files=9, Tests=0,  1 wallclock secs ( 0.00 usr  0.04 sys +  0.07 cusr  0.52 csys =  0.63 CPU)
Result: NOTESTS

------------------------------
PREREQUISITES
------------------------------

Prerequisite modules loaded:

requires:

    Module              Need  Have   
    ------------------- ----- -------
    ExtUtils::Depends   0.20  0.405  
    ExtUtils::PkgConfig 1.03  1.16   
    Glib                1.120 1.3293 

build_requires:

    Module              Need  Have   
    ------------------- ----- -------
    ExtUtils::MakeMaker 0     7.10_02

configure_requires:

    Module              Need  Have   
    ------------------- ----- -------
    ExtUtils::MakeMaker 0     7.10_02


------------------------------
ENVIRONMENT AND OTHER CONTEXT
------------------------------

Environment variables:

    LC_ALL = de_DE.ISO8859-1
    PATH = /usr/local/bin:/usr/bin:/bin:/usr/local/sbin:/usr/sbin:/sbin:/home/cpansand/bin/freebsd10.3:/home/cpansand/bin/sh:/home/cpansand/bin:/usr/games:/home/cpansand/devel:/home/eserte/src/srezic-misc/scripts
    PERL5LIB = /home/cpansand/.cpan/build/2021010714/Gnome2-Canvas-1.006-XuqLto/blib/arch:/home/cpansand/.cpan/build/2021010714/Gnome2-Canvas-1.006-XuqLto/blib/lib:/home/cpansand/.cpan/build/2021010714/Gtk2-1.24993-k1Wo97/blib/arch:/home/cpansand/.cpan/build/2021010714/Gtk2-1.24993-k1Wo97/blib/lib:/home/cpansand/.cpan/build/2021010714/Pango-1.227-HUcU5J/blib/arch:/home/cpansand/.cpan/build/2021010714/Pango-1.227-HUcU5J/blib/lib:/home/cpansand/.cpan/build/2021010714/Cairo-1.108-tdeiKg/blib/arch:/home/cpansand/.cpan/build/2021010714/Cairo-1.108-tdeiKg/blib/lib:/home/cpansand/.cpan/build/2021010714/Glib-1.3293-K_asV2/blib/arch:/home/cpansand/.cpan/build/2021010714/Glib-1.3293-K_asV2/blib/lib
    PERL5OPT = 
    PERL5_CPANPLUS_IS_RUNNING = 39951
    PERL5_CPAN_IS_RUNNING = 39951
    PERL5_CPAN_IS_RUNNING_IN_RECURSION = 99713,39951
    PERLDOC = -MPod::Perldoc::ToTextOverstrike
    PERL_BATCH = yes
    PERL_CANARY_STABILITY_NOPROMPT = 1
    PERL_CPAN_REPORTER_CONFIG = /var/tmp/cpansmoker-1023/2021010710/cpanreporter_000_config.ini
    PERL_EXTUTILS_AUTOINSTALL = --defaultdeps
    SHELL = /usr/local/bin/zsh
    TERM = screen
    TMPDIR = /var/tmp/cpansmoker-1023/2021010710

Perl special variables (and OS-specific diagnostics, for MSWin32):

    $^X = /usr/perl5.24.2p/bin/perl
    $UID/$EUID = 1023 / 1023
    $GID = 1023 1023
    $EGID = 1023 1023

Perl module toolchain versions installed:

    Module              Have      
    ------------------- ----------
    CPAN                2.11_01   
    CPAN::Meta          2.150010  
    Cwd                 3.75      
    ExtUtils::CBuilder  0.280225  
    ExtUtils::Command   7.10_02   
    ExtUtils::Install   2.04      
    ExtUtils::MakeMaker 7.10_02   
    ExtUtils::Manifest  1.71      
    ExtUtils::ParseXS   3.31      
    File::Spec          3.75      
    JSON                2.94      
    JSON::PP            2.27300_01
    Module::Build       0.4224    
    Module::Signature   n/a       
    Parse::CPAN::Meta   2.150010  
    Test::Harness       3.36_01   
    Test::More          1.302140  
    YAML                1.23      
    YAML::Syck          1.30      
    version             0.9924    


--

Summary of my perl5 (revision 5 version 24 subversion 2) configuration:
   
  Platform:
    osname=freebsd, osvers=10.3-release-p11, archname=amd64-freebsd
    uname='freebsd cvrsnica-freebsd-101.herceg.de 10.3-release-p11 freebsd 10.3-release-p11 #0: mon oct 24 18:49:24 utc 2016 root@amd64-builder.daemonology.net:usrobjusrsrcsysgeneric amd64 '
    config_args='-ds -e -Dprefix=/usr/perl5.24.2p -Dcf_email=srezic@cpan.org -Doptimize=-O2 -pipe'
    hint=recommended, useposix=true, d_sigaction=define
    useithreads=undef, usemultiplicity=undef
    use64bitint=define, use64bitall=define, uselongdouble=undef
    usemymalloc=n, bincompat5005=undef
  Compiler:
    cc='cc', ccflags ='-DHAS_FPSETMASK -DHAS_FLOATINGPOINT_H -fno-strict-aliasing -pipe -fstack-protector -I/usr/local/include -D_FORTIFY_SOURCE=2',
    optimize='-O2 -pipe',
    cppflags='-DHAS_FPSETMASK -DHAS_FLOATINGPOINT_H -fno-strict-aliasing -pipe -fstack-protector -I/usr/local/include'
    ccversion='', gccversion='4.2.1 Compatible FreeBSD Clang 3.4.1 (tags/RELEASE_34/dot1-final 208032)', gccosandvers=''
    intsize=4, longsize=8, ptrsize=8, doublesize=8, byteorder=12345678, doublekind=3
    d_longlong=define, longlongsize=8, d_longdbl=define, longdblsize=16, longdblkind=3
    ivtype='long', ivsize=8, nvtype='double', nvsize=8, Off_t='off_t', lseeksize=8
    alignbytes=8, prototype=define
  Linker and Libraries:
    ld='cc', ldflags ='-pthread -Wl,-E  -fstack-protector -L/usr/local/lib'
    libpth=/usr/lib /usr/local/lib /usr/include/clang/3.4.1 /usr/lib
    libs=-lpthread -lgdbm -lm -lcrypt -lutil -lc
    perllibs=-lpthread -lm -lcrypt -lutil -lc
    libc=, so=so, useshrplib=false, libperl=libperl.a
    gnulibc_version=''
  Dynamic Linking:
    dlsrc=dl_dlopen.xs, dlext=so, d_dlsymun=undef, ccdlflags=' '
    cccdlflags='-DPIC -fPIC', lddlflags='-shared  -L/usr/local/lib -fstack-protector'


Characteristics of this binary (from libperl): 
  Compile-time options: HAS_TIMES PERLIO_LAYERS PERL_COPY_ON_WRITE
                        PERL_DONT_CREATE_GVSV
                        PERL_HASH_FUNC_ONE_AT_A_TIME_HARD PERL_MALLOC_WRAP
                        PERL_PRESERVE_IVUV USE_64_BIT_ALL USE_64_BIT_INT
                        USE_LARGE_FILES USE_LOCALE USE_LOCALE_COLLATE
                        USE_LOCALE_CTYPE USE_LOCALE_NUMERIC USE_LOCALE_TIME
                        USE_PERLIO USE_PERL_ATOF
  Built under freebsd
  Compiled at Jul 29 2017 11:20:18
  %ENV:
    PERL5LIB="/home/cpansand/.cpan/build/2021010714/Gnome2-Canvas-1.006-XuqLto/blib/arch:/home/cpansand/.cpan/build/2021010714/Gnome2-Canvas-1.006-XuqLto/blib/lib:/home/cpansand/.cpan/build/2021010714/Gtk2-1.24993-k1Wo97/blib/arch:/home/cpansand/.cpan/build/2021010714/Gtk2-1.24993-k1Wo97/blib/lib:/home/cpansand/.cpan/build/2021010714/Pango-1.227-HUcU5J/blib/arch:/home/cpansand/.cpan/build/2021010714/Pango-1.227-HUcU5J/blib/lib:/home/cpansand/.cpan/build/2021010714/Cairo-1.108-tdeiKg/blib/arch:/home/cpansand/.cpan/build/2021010714/Cairo-1.108-tdeiKg/blib/lib:/home/cpansand/.cpan/build/2021010714/Glib-1.3293-K_asV2/blib/arch:/home/cpansand/.cpan/build/2021010714/Glib-1.3293-K_asV2/blib/lib"
    PERL5OPT=""
    PERL5_CPANPLUS_IS_RUNNING="39951"
    PERL5_CPAN_IS_RUNNING="39951"
    PERL5_CPAN_IS_RUNNING_IN_RECURSION="99713,39951"
    PERLDOC="-MPod::Perldoc::ToTextOverstrike"
    PERL_BATCH="yes"
    PERL_CANARY_STABILITY_NOPROMPT="1"
    PERL_CPAN_REPORTER_CONFIG="/var/tmp/cpansmoker-1023/2021010710/cpanreporter_000_config.ini"
    PERL_EXTUTILS_AUTOINSTALL="--defaultdeps"
  @INC:
    /home/cpansand/.cpan/build/2021010714/Gnome2-Canvas-1.006-XuqLto/blib/arch
    /home/cpansand/.cpan/build/2021010714/Gnome2-Canvas-1.006-XuqLto/blib/lib
    /home/cpansand/.cpan/build/2021010714/Gtk2-1.24993-k1Wo97/blib/arch
    /home/cpansand/.cpan/build/2021010714/Gtk2-1.24993-k1Wo97/blib/lib
    /home/cpansand/.cpan/build/2021010714/Pango-1.227-HUcU5J/blib/arch
    /home/cpansand/.cpan/build/2021010714/Pango-1.227-HUcU5J/blib/lib
    /home/cpansand/.cpan/build/2021010714/Cairo-1.108-tdeiKg/blib/arch
    /home/cpansand/.cpan/build/2021010714/Cairo-1.108-tdeiKg/blib/lib
    /home/cpansand/.cpan/build/2021010714/Glib-1.3293-K_asV2/blib/arch
    /home/cpansand/.cpan/build/2021010714/Glib-1.3293-K_asV2/blib/lib
    /usr/perl5.24.2p/lib/site_perl/5.24.2/amd64-freebsd
    /usr/perl5.24.2p/lib/site_perl/5.24.2
    /usr/perl5.24.2p/lib/5.24.2/amd64-freebsd
    /usr/perl5.24.2p/lib/5.24.2
    .