CGI v4.57 Perl 5 v5.39.2 armv7l-linux

Status
Pass
From
John SJ Anderson
Dist
CGI v4.57
Platform
Perl 5 v5.39.2 armv7l-linux
Date
2023-08-21 21:58:05
ID
ce3aab4e-406d-11ee-86c2-16e71e1f9e58
This distribution has been tested as part of the CPAN Testers
project, supporting the Perl programming language.  See
http://wiki.cpantesters.org/ for more information or email
questions to cpan-testers-discuss@perl.org


--
Dear LEEJO,

This is a computer-generated report for CGI-4.57
on perl 5.39.2, created by App::cpanminus::reporter 0.21 (1.7047).

Thank you for uploading your work to CPAN.  Congratulations!
All tests were successful.

Sections of this report:

    * Tester comments
    * Program output
    * Prerequisites
    * Environment and other context

------------------------------
TESTER COMMENTS
------------------------------

Additional comments from tester:

none provided

------------------------------
PROGRAM OUTPUT
------------------------------

Output from '':

Building and testing CGI-4.57
cp lib/Fh.pm blib/lib/Fh.pm
cp lib/CGI/Push.pm blib/lib/CGI/Push.pm
cp lib/CGI/HTML/Functions.pm blib/lib/CGI/HTML/Functions.pm
cp lib/CGI/HTML/Functions.pod blib/lib/CGI/HTML/Functions.pod
cp lib/CGI.pod blib/lib/CGI.pod
cp lib/CGI.pm blib/lib/CGI.pm
cp lib/CGI/Util.pm blib/lib/CGI/Util.pm
cp lib/CGI/File/Temp.pm blib/lib/CGI/File/Temp.pm
cp lib/CGI/Pretty.pm blib/lib/CGI/Pretty.pm
cp lib/CGI/Cookie.pm blib/lib/CGI/Cookie.pm
cp lib/CGI/Carp.pm blib/lib/CGI/Carp.pm
Manifying 7 pod documents
PERL_DL_NONLAZY=1 "/opt/plenv/versions/5.39.2/bin/perl5.39.2" "-MExtUtils::Command::MM" "-MTest::Harness" "-e" "undef *Test::Harness::Switches; test_harness(0, 'blib/lib', 'blib/arch')" t/*.t t/headers/*.t
t/append_query.t ............ ok
t/arbitrary_handles.t ....... ok
t/autoescape.t .............. ok
t/can.t ..................... ok
[Mon Aug 21 13:49:41 2023] carp.t: foo at /home/genehack/.cpanm/work/1692643283.1303/CGI-4.57/blib/lib/CGI/Carp.pm line 360.
t/carp.t .................... ok
# cgi-lib.pl routines
private_tempfiles has been deprecated at /home/genehack/.cpanm/work/1692643283.1303/CGI-4.57/blib/lib/CGI.pm line 3238.
t/cgi.t ..................... ok
t/changes.t ................. skipped: Test::CPAN::Changes required for this test
t/charset.t ................. ok
t/checkbox_group.t .......... ok
t/command_line.t ............ ok
t/compiles_pod.t ............ ok
t/cookie.t .................. ok
t/delete.t .................. ok
t/Dump.t .................... ok
t/end_form.t ................ ok
t/form.t .................... ok
t/function.t ................ ok
t/gh-155.t .................. ok
t/headers.t ................. ok
t/headers/attachment.t ...... ok
t/headers/charset.t ......... ok
t/headers/cookie.t .......... ok
t/headers/default.t ......... ok
t/headers/nph.t ............. ok
t/headers/p3p.t ............. ok
t/headers/target.t .......... ok
t/headers/type.t ............ ok
t/hidden.t .................. ok
t/html.t .................... ok
t/html_functions.t .......... ok
t/http.t .................... ok
t/init.t .................... ok
t/multipart_globals.t ....... ok
t/multipart_init.t .......... ok
t/multipart_start.t ......... ok
t/no_tabindex.t ............. ok
t/param_fetch.t ............. ok
t/param_list_context.t ...... ok
t/popup_menu.t .............. ok
t/postdata.t ................ ok
CGI::Pretty is DEPRECATED and will be removed in a future release. Please see https://github.com/leejo/CGI.pm/issues/162 for more information at /home/genehack/.cpanm/work/1692643283.1303/CGI-4.57/blib/lib/CGI/Pretty.pm line 20.
t/pretty.t .................. ok
t/push.t .................... ok
t/query_string.t ............ ok
t/redirect_query_string.t ... ok
t/request.t ................. ok
t/rt-31107.t ................ ok
t/rt-52469.t ................ ok
t/rt-57524.t ................ ok
t/rt-75628.t ................ ok
t/rt-84767.t ................ ok
t/save_read_roundtrip.t ..... ok
t/sorted.t .................. ok
t/start_end_asterisk.t ...... ok
t/start_end_end.t ........... ok
t/start_end_start.t ......... ok
t/unescapeHTML.t ............ ok
t/upload.t .................. ok
t/upload_quoted_unquoted.t .. ok
t/uploadInfo.t .............. ok
t/url.t ..................... ok
t/user_agent.t .............. ok
t/utf8.t .................... ok
t/util-58.t ................. ok
t/util.t .................... ok
All tests successful.
Files=64, Tests=1588, 23 wallclock secs ( 0.62 usr  0.26 sys + 14.44 cusr  2.28 csys = 17.60 CPU)
Result: PASS

------------------------------
PREREQUISITES
------------------------------

Prerequisite modules loaded:

runtime:

    Module              Need     Have    
    ------------------- -------- --------
    Carp                0        1.54    
    Config              0        5.039002
    Encode              0        3.19    
    Exporter            0        5.77    
    File::Spec          0.82     3.90    
    File::Temp          0.17     0.2311  
    HTML::Entities      3.69     3.81    
    if                  0        0.0610  
    overload            0        1.37    
    parent              0.225    0.241   
    perl                5.008001 5.039002
    strict              0        1.13    
    utf8                0        1.25    
    warnings            0        1.67    

build:

    Module              Need     Have    
    ------------------- -------- --------
    ExtUtils::MakeMaker 0        7.70    

configure:

    Module              Need     Have    
    ------------------- -------- --------
    ExtUtils::MakeMaker 0        7.70    


------------------------------
ENVIRONMENT AND OTHER CONTEXT
------------------------------

Environment variables:

    LANG = en_US.UTF-8
    LC_ALL = en_US.UTF-8
    LC_TERMINAL = iTerm2
    LC_TERMINAL_VERSION = 3.4.19
    PATH = /opt/plenv/versions/5.39.2/bin:/opt/plenv/libexec:/opt/plenv/plugins/Perl-Build/bin:/opt/plenv/shims:/home/genehack/bin:/opt/plenv/shims:/opt/plenv/bin:/opt/git/bin:/opt/emacs/bin:/opt/local/bin:/usr/local/bin:/usr/bin:/bin:/usr/games
    PERL_CPANM_OPT = --skip-installed --prompt
    SHELL = /bin/zsh
    TERM = screen-256color

Perl special variables (and OS-specific diagnostics, for MSWin32):

    EGID = 1001 27 1001
    EUID = 1000
    EXECUTABLE_NAME = /opt/plenv/versions/5.39.2/bin/perl5.39.2
    GID = 1001 27 1001
    UID = 1000

Perl module toolchain versions installed:

    Module              Have    
    ------------------- --------
    CPAN                2.36    
    CPAN::Meta          2.150010
    Cwd                 3.90    
    ExtUtils::CBuilder  0.280239
    ExtUtils::Command   7.70    
    ExtUtils::Install   2.22    
    ExtUtils::MakeMaker 7.70    
    ExtUtils::Manifest  1.75    
    ExtUtils::ParseXS   3.51    
    File::Spec          3.90    
    JSON                4.10    
    JSON::PP            4.16    
    Module::Build       0.4234  
    Module::Signature   n/a     
    Parse::CPAN::Meta   2.150010
    Test::Harness       3.47    
    Test::More          1.302195
    YAML                1.30    
    YAML::Syck          n/a     
    version             0.9929  


--

Summary of my perl5 (revision 5 version 39 subversion 2) configuration:
   
  Platform:
    osname=linux
    osvers=5.10.52-v7l+
    archname=armv7l-linux
    uname='linux weefree 5.10.52-v7l+ #1441 smp tue aug 3 18:11:56 bst 2021 armv7l gnulinux '
    config_args='-Dprefix=/opt/plenv/versions/5.39.2 -de -Dversiononly -Dusedevel -A'eval:scriptdir=/opt/plenv/versions/5.39.2/bin''
    hint=recommended
    useposix=true
    d_sigaction=define
    useithreads=undef
    usemultiplicity=undef
    use64bitint=undef
    use64bitall=undef
    uselongdouble=undef
    usemymalloc=n
    default_inc_excludes_dot=define
  Compiler:
    cc='cc'
    ccflags ='-fwrapv -fno-strict-aliasing -pipe -fstack-protector-strong -I/usr/local/include -D_LARGEFILE_SOURCE -D_FILE_OFFSET_BITS=64 -D_FORTIFY_SOURCE=2'
    optimize='-O2'
    cppflags='-fwrapv -fno-strict-aliasing -pipe -fstack-protector-strong -I/usr/local/include'
    ccversion=''
    gccversion='10.2.1 20210110'
    gccosandvers=''
    intsize=4
    longsize=4
    ptrsize=4
    doublesize=8
    byteorder=1234
    doublekind=3
    d_longlong=define
    longlongsize=8
    d_longdbl=define
    longdblsize=8
    longdblkind=0
    ivtype='long'
    ivsize=4
    nvtype='double'
    nvsize=8
    Off_t='off_t'
    lseeksize=8
    alignbytes=8
    prototype=define
  Linker and Libraries:
    ld='cc'
    ldflags =' -fstack-protector-strong -L/usr/local/lib'
    libpth=/usr/local/lib /usr/lib/arm-linux-gnueabihf /usr/lib /lib/arm-linux-gnueabihf /lib
    libs=-lpthread -ldl -lm -lcrypt -lutil -lc
    perllibs=-lpthread -ldl -lm -lcrypt -lutil -lc
    libc=libc-2.31.so
    so=so
    useshrplib=false
    libperl=libperl.a
    gnulibc_version='2.31'
  Dynamic Linking:
    dlsrc=dl_dlopen.xs
    dlext=so
    d_dlsymun=undef
    ccdlflags='-Wl,-E'
    cccdlflags='-fPIC'
    lddlflags='-shared -O2 -L/usr/local/lib -fstack-protector-strong'


Characteristics of this binary (from libperl): 
  Compile-time options:
    HAS_LONG_DOUBLE
    HAS_STRTOLD
    HAS_TIMES
    PERLIO_LAYERS
    PERL_COPY_ON_WRITE
    PERL_DONT_CREATE_GVSV
    PERL_HASH_FUNC_ZAPHOD32
    PERL_HASH_USE_SBOX32
    PERL_MALLOC_WRAP
    PERL_OP_PARENT
    PERL_PRESERVE_IVUV
    PERL_USE_DEVEL
    PERL_USE_SAFE_PUTENV
    USE_LARGE_FILES
    USE_LOCALE
    USE_LOCALE_COLLATE
    USE_LOCALE_CTYPE
    USE_LOCALE_NUMERIC
    USE_LOCALE_TIME
    USE_PERLIO
    USE_PERL_ATOF
  Built under linux
  Compiled at Aug 21 2023 10:51:00
  %ENV:
    PERL_CPANM_OPT="--skip-installed --prompt"
  @INC:
    /opt/plenv/versions/5.39.2/lib/perl5/site_perl/5.39.2/armv7l-linux
    /opt/plenv/versions/5.39.2/lib/perl5/site_perl/5.39.2
    /opt/plenv/versions/5.39.2/lib/perl5/5.39.2/armv7l-linux
    /opt/plenv/versions/5.39.2/lib/perl5/5.39.2