Report for Test-WWW-Mechanize-Catalyst-0.54

Back
From: metabase:user:54e0c0aa-1dbf-11e0-954a-ebd05a6ea7f6
Subject: PASS Test-WWW-Mechanize-Catalyst-0.54 v5.14.1 GNU/Linux
Date: 2011-08-02T10:40:16Z

This distribution has been tested as part of the CPAN Testers
project, supporting the Perl programming language.  See
http://wiki.cpantesters.org/ for more information or email
questions to cpan-testers-discuss@perl.org


--
Dear Tomas Doran,

This is a computer-generated report for Test-WWW-Mechanize-Catalyst-0.54
on perl 5.14.1, created by CPAN-Reporter-1.1902.

Thank you for uploading your work to CPAN.  Congratulations!
All tests were successful.

Sections of this report:

    * Tester comments
    * Program output
    * Prerequisites
    * Environment and other context

------------------------------
TESTER COMMENTS
------------------------------

Additional comments from tester:

none provided

------------------------------
PROGRAM OUTPUT
------------------------------

Output from '/usr/bin/make test':

PERL_DL_NONLAZY=1 /home/mauke/usr/local/bin/perl "-MExtUtils::Command::MM" "-e" "test_harness(0, 'inc', 'blib/lib', 'blib/arch')" t/*.t
t/auth-test.t ........... ok
t/cookies.t ............. ok
# 
# ###################################################################
# Starting an external Catalyst HTTP server on port 7357
# To change the port, please set the TWMC_TEST_PORT env variable.
# (The server will be automatically shut-down right after the tests).
# ###################################################################
t/multi_content_type.t .. ok
t/pod.t ................. ok
t/redirect.t ............ ok
t/simple.t .............. ok
t/two_app.t ............. ok
t/useragent.t ........... ok
t/white_label.t ......... ok
All tests successful.
Files=9, Tests=92, 10 wallclock secs ( 0.06 usr  0.01 sys +  8.82 cusr  0.61 csys =  9.50 CPU)
Result: PASS

------------------------------
PREREQUISITES
------------------------------

Prerequisite modules loaded:

requires:

    Module                                   Need     Have    
    ---------------------------------------- -------- --------
    Catalyst                                 5.00     5.80033 
    LWP                                      5.816    6.02    
    Moose                                    0.67     2.0202  
    namespace::clean                         0.09     0.20    
    perl                                     5.008004 5.014001
    Test::WWW::Mechanize                     1.14     1.34    
    WWW::Mechanize                           1.54     1.68    

build_requires:

    Module                                   Need     Have    
    ---------------------------------------- -------- --------
    Catalyst::Plugin::Session::State::Cookie 0        0.17    
    Catalyst::Plugin::Session::Store::Dummy  0        0       
    ExtUtils::MakeMaker                      6.42     6.58    
    Test::Exception                          0        0.31    
    Test::More                               0        0.98    

configure_requires:

    Module                                   Need     Have    
    ---------------------------------------- -------- --------
    ExtUtils::MakeMaker                      6.42     6.58    


------------------------------
ENVIRONMENT AND OTHER CONTEXT
------------------------------

Environment variables:

    LANG = en_US.UTF-8
    LC_COLLATE = POSIX
    LD_LIBRARY_PATH = /home/mauke/usr/local/lib
    PATH = /home/mauke/usr/local/bin:/usr/local/bin:/usr/bin:/bin:/opt/bin:/usr/i686-pc-linux-gnu/gcc-bin/4.4.5:/opt/sun-jdk-1.4.2.13/bin:/opt/sun-jdk-1.4.2.13/jre/bin:/opt/sun-jdk-1.4.2.13/jre/javaws:/opt/dmd/bin:/usr/games/bin
    PERL5LIB = 
    PERL5OPT = 
    PERL5_CPANPLUS_IS_RUNNING = 22859
    PERL5_CPAN_IS_RUNNING = 22859
    PERL_UNICODE = SAL
    SHELL = /bin/bash
    TERM = tmux

Perl special variables (and OS-specific diagnostics, for MSWin32):

    $^X = /home/mauke/usr/local/bin/perl
    $UID/$EUID = 1000 / 1000
    $GID = 100 5 7 10 11 16 18 19 27 35 70 85 100 250 407 1006
    $EGID = 100 5 7 10 11 16 18 19 27 35 70 85 100 250 407 1006

Perl module toolchain versions installed:

    Module              Have    
    ------------------- --------
    CPAN                1.9600  
    Cwd                 3.36    
    ExtUtils::CBuilder  0.280203
    ExtUtils::Command   1.17    
    ExtUtils::Install   1.56    
    ExtUtils::MakeMaker 6.58    
    ExtUtils::Manifest  1.58    
    ExtUtils::ParseXS   2.2210  
    File::Spec          3.33    
    Module::Build       0.3800  
    Module::Signature   n/a     
    Test::Harness       3.23    
    Test::More          0.98    
    YAML                0.73    
    YAML::Syck          n/a     
    version             0.93    


--

Summary of my perl5 (revision 5 version 14 subversion 1) configuration:
   
  Platform:
    osname=linux, osvers=2.6.37-gentoo-r4, archname=i686-linux
    uname='linux nora 2.6.37-gentoo-r4 #3 preempt thu may 5 20:36:24 cest 2011 i686 amd athlon(tm) 64 processor 3200+ authenticamd gnulinux '
    config_args=''
    hint=recommended, useposix=true, d_sigaction=define
    useithreads=undef, usemultiplicity=undef
    useperlio=define, d_sfio=undef, uselargefiles=define, usesocks=undef
    use64bitint=undef, use64bitall=undef, uselongdouble=undef
    usemymalloc=n, bincompat5005=undef
  Compiler:
    cc='gcc', ccflags ='-fno-strict-aliasing -pipe -fstack-protector -I/usr/local/include -D_LARGEFILE_SOURCE -D_FILE_OFFSET_BITS=64',
    optimize='-O2',
    cppflags='-fno-strict-aliasing -pipe -fstack-protector -I/usr/local/include'
    ccversion='', gccversion='4.6.0', gccosandvers=''
    intsize=4, longsize=4, ptrsize=4, doublesize=8, byteorder=1234
    d_longlong=define, longlongsize=8, d_longdbl=define, longdblsize=12
    ivtype='long', ivsize=4, nvtype='double', nvsize=8, Off_t='off_t', lseeksize=8
    alignbytes=4, prototype=define
  Linker and Libraries:
    ld='gcc', ldflags =' -fstack-protector -L/usr/local/lib'
    libpth=/usr/local/lib /lib /usr/lib
    libs=-lnsl -lgdbm -ldb -ldl -lm -lcrypt -lutil -lc -lgdbm_compat
    perllibs=-lnsl -ldl -lm -lcrypt -lutil -lc
    libc=/lib/libc-2.12.2.so, so=so, useshrplib=false, libperl=libperl.a
    gnulibc_version='2.12.2'
  Dynamic Linking:
    dlsrc=dl_dlopen.xs, dlext=so, d_dlsymun=undef, ccdlflags='-Wl,-E'
    cccdlflags='-fPIC', lddlflags='-shared -O2 -L/usr/local/lib -fstack-protector'


Characteristics of this binary (from libperl): 
  Compile-time options: PERL_DONT_CREATE_GVSV PERL_MALLOC_WRAP
                        PERL_PRESERVE_IVUV USE_LARGE_FILES USE_PERLIO
                        USE_PERL_ATOF
  Locally applied patches:
	SAVEARGV0 - disable magic open in <ARGV>
  Built under linux
  Compiled at Jun 22 2011 02:16:28
  %ENV:
    PERL5LIB=""
    PERL5OPT=""
    PERL5_CPANPLUS_IS_RUNNING="22859"
    PERL5_CPAN_IS_RUNNING="22859"
    PERL_UNICODE="SAL"
  @INC:
    /home/mauke/usr/local/lib/perl5/site_perl/5.14.1/i686-linux
    /home/mauke/usr/local/lib/perl5/site_perl/5.14.1
    /home/mauke/usr/local/lib/perl5/5.14.1/i686-linux
    /home/mauke/usr/local/lib/perl5/5.14.1
    /home/mauke/usr/local/lib/perl5/site_perl/5.14.0/i686-linux
    /home/mauke/usr/local/lib/perl5/site_perl/5.14.0
    /home/mauke/usr/local/lib/perl5/site_perl
    .