Test-WWW-Mechanize-Catalyst v0.62 Perl 5 v5.31.2 darwin-2level
- Status
- Pass
- From
- Carlos Guevara
- Dist
-
Test-WWW-Mechanize-Catalyst v0.62
- Platform
- Perl 5 v5.31.2 darwin-2level
- Date
- 2019-06-23 00:49:54
- ID
- d0d78056-9550-11e9-8ff3-154f693264fb
This distribution has been tested as part of the CPAN Testers
project, supporting the Perl programming language. See
http://wiki.cpantesters.org/ for more information or email
questions to cpan-testers-discuss@perl.org
--
Dear Matt S Trout,
This is a computer-generated report for Test-WWW-Mechanize-Catalyst-0.62
on perl 5.31.2, created by CPAN-Reporter-1.2018.
Thank you for uploading your work to CPAN. Congratulations!
All tests were successful.
Sections of this report:
* Tester comments
* Program output
* Prerequisites
* Environment and other context
------------------------------
TESTER COMMENTS
------------------------------
Additional comments from tester:
none provided
------------------------------
PROGRAM OUTPUT
------------------------------
Output from '/usr/bin/make test':
PERL_DL_NONLAZY=1 "/Users/cpan/bin/perl-blead/bin/perl5.31.2" "-MExtUtils::Command::MM" "-MTest::Harness" "-e" "undef *Test::Harness::Switches; test_harness(0, 'inc', 'blib/lib', 'blib/arch')" t/*.t
t/auth-test.t ........... ok
t/cookies.t ............. ok
t/decoded_content.t ..... ok
#
# ###################################################################
# Starting an external Catalyst HTTP server on port 7357
# To change the port, please set the TWMC_TEST_PORT env variable.
# (The server will be automatically shut-down right after the tests).
# ###################################################################
HTTP::Server::PSGI: Accepting connections at http://0:7357/
t/multi_content_type.t .. ok
t/pod.t ................. ok
t/redirect.t ............ ok
Term::Size::Any is not installed, can't autodetect terminal column width
Trouble trying to detect your terminal size, looking at $ENV{COLUMNS}
Cannot determine desired terminal width, using default of 80 columns
t/simple.t .............. ok
t/two_app.t ............. ok
t/useragent.t ........... ok
t/utf8.t ................ ok
t/white_label.t ......... ok
All tests successful.
Files=11, Tests=109, 18 wallclock secs ( 0.04 usr 0.02 sys + 6.74 cusr 0.66 csys = 7.46 CPU)
Result: PASS
------------------------------
PREREQUISITES
------------------------------
Prerequisite modules loaded:
requires:
Module Need Have
---------------------------------------- -------- --------
Catalyst 5.90 5.90124
Class::Load 0.19 0.25
LWP 5.816 6.39
Moose 0.67 2.2011
namespace::clean 0.09 0.27
perl 5.008004 5.031002
Test::WWW::Mechanize 1.14 1.52
WWW::Mechanize 1.54 1.91
build_requires:
Module Need Have
---------------------------------------- -------- --------
Catalyst::Plugin::Session::State::Cookie 0 0.17
Catalyst::Plugin::Session::Store::Dummy 0 0
ExtUtils::MakeMaker 6.59 7.36
Test::Exception 0 0.43
Test::More 0.88 1.302164
Test::utf8 0 1.01
configure_requires:
Module Need Have
---------------------------------------- -------- --------
ExtUtils::MakeMaker 6.59 7.36
------------------------------
ENVIRONMENT AND OTHER CONTEXT
------------------------------
Environment variables:
LC_ALL = C
NONINTERACTIVE_TESTING = 1
PATH = /Users/cpan/bin/perl-blead/bin:/Users/cpan/bin/perl-blead/bin:/Users/cpan/bin:/Users/cpan/bin/perl-blead/bin:/Users/cpan/bin:/usr/local/bin:/usr/bin:/bin:/usr/sbin:/sbin
PERL5LIB =
PERL5OPT =
PERL5_CPANPLUS_IS_RUNNING = 64761
PERL5_CPAN_IS_RUNNING = 64761
PERL_MM_USE_DEFAULT = 1
PERL_USE_UNSAFE_INC = 1
PERL_VERSION = blead
SHELL = /bin/bash
TERM = screen
TMPDIR = /Users/cpan/tmp
Perl special variables (and OS-specific diagnostics, for MSWin32):
$^X = /Users/cpan/bin/perl-blead/bin/perl5.31.2
$UID/$EUID = 503 / 503
$GID = 20 20 12 61 399 701 702 703 100
$EGID = 20 20 12 61 399 701 702 703 100
Perl module toolchain versions installed:
Module Have
------------------- --------
CPAN 2.27
CPAN::Meta 2.150010
Cwd 3.78
ExtUtils::CBuilder 0.280232
ExtUtils::Command 7.36
ExtUtils::Install 2.14
ExtUtils::MakeMaker 7.36
ExtUtils::Manifest 1.72
ExtUtils::ParseXS 3.40
File::Spec 3.78
JSON 4.02
JSON::PP 4.02
Module::Build 0.4229
Module::Signature n/a
Parse::CPAN::Meta 2.150010
Test::Harness 3.42
Test::More 1.302164
YAML 1.29
YAML::Syck 1.31
version 0.9924
--
Summary of my perl5 (revision 5 version 31 subversion 2) configuration:
Commit id: f6c49686d30d066bfb0eb583cbbfeb243f65a727
Platform:
osname=darwin
osvers=18.6.0
archname=darwin-2level
uname='darwin cjg-mac.local 18.6.0 darwin kernel version 18.6.0: thu apr 25 23:16:27 pdt 2019; root:xnu-4903.261.4~2release_x86_64 x86_64 '
config_args='-des -Dprefix=~/bin/perl-blead -Dscriptdir=~/bin/perl-blead/bin -Dusedevel -Duse64bitall'
hint=recommended
useposix=true
d_sigaction=define
useithreads=undef
usemultiplicity=undef
use64bitint=define
use64bitall=define
uselongdouble=undef
usemymalloc=n
default_inc_excludes_dot=define
bincompat5005=undef
Compiler:
cc='cc'
ccflags ='-fno-common -DPERL_DARWIN -mmacosx-version-min=10.14 -arch x86_64 -fno-strict-aliasing -pipe -fstack-protector-strong -DPERL_USE_SAFE_PUTENV'
optimize='-O3'
cppflags='-arch x86_64 -fno-common -DPERL_DARWIN -mmacosx-version-min=10.14 -arch x86_64 -fno-strict-aliasing -pipe -fstack-protector-strong'
ccversion=''
gccversion='4.2.1 Compatible Apple LLVM 10.0.1 (clang-1001.0.46.4)'
gccosandvers=''
intsize=4
longsize=8
ptrsize=8
doublesize=8
byteorder=12345678
doublekind=3
d_longlong=define
longlongsize=8
d_longdbl=define
longdblsize=16
longdblkind=3
ivtype='long'
ivsize=8
nvtype='double'
nvsize=8
Off_t='off_t'
lseeksize=8
alignbytes=8
prototype=define
Linker and Libraries:
ld='cc -arch x86_64'
ldflags =' -mmacosx-version-min=10.14 -arch x86_64 -fstack-protector-strong'
libpth=/Applications/Xcode.app/Contents/Developer/Toolchains/XcodeDefault.xctoolchain/usr/lib/clang/10.0.1/lib /Applications/Xcode.app/Contents/Developer/Toolchains/XcodeDefault.xctoolchain/usr/lib /Applications/Xcode.app/Contents/Developer/Platforms/MacOSX.platform/Developer/SDKs/MacOSX10.14.sdk/usr/lib /usr/lib
libs=-lpthread -ldbm -ldl -lm -lutil -lc
perllibs=-lpthread -ldl -lm -lutil -lc
libc=
so=dylib
useshrplib=false
libperl=libperl.a
gnulibc_version=''
Dynamic Linking:
dlsrc=dl_dlopen.xs
dlext=bundle
d_dlsymun=undef
ccdlflags=' '
cccdlflags=' '
lddlflags=' -mmacosx-version-min=10.14 -bundle -undefined dynamic_lookup -fstack-protector-strong'
Characteristics of this binary (from libperl):
Compile-time options:
HAS_TIMES
PERLIO_LAYERS
PERL_COPY_ON_WRITE
PERL_DONT_CREATE_GVSV
PERL_MALLOC_WRAP
PERL_OP_PARENT
PERL_PRESERVE_IVUV
PERL_USE_DEVEL
PERL_USE_SAFE_PUTENV
USE_64_BIT_ALL
USE_64_BIT_INT
USE_LARGE_FILES
USE_LOCALE
USE_LOCALE_COLLATE
USE_LOCALE_CTYPE
USE_LOCALE_NUMERIC
USE_LOCALE_TIME
USE_PERLIO
USE_PERL_ATOF
Built under darwin
Compiled at Jun 22 2019 15:18:40
%ENV:
PERL5LIB=""
PERL5OPT=""
PERL5_CPANPLUS_IS_RUNNING="64761"
PERL5_CPAN_IS_RUNNING="64761"
PERL_MM_USE_DEFAULT="1"
PERL_USE_UNSAFE_INC="1"
PERL_VERSION="blead"
@INC:
/Users/cpan/bin/perl-blead/lib/site_perl/5.31.2/darwin-2level
/Users/cpan/bin/perl-blead/lib/site_perl/5.31.2
/Users/cpan/bin/perl-blead/lib/5.31.2/darwin-2level
/Users/cpan/bin/perl-blead/lib/5.31.2
.