Report for Test-WWW-Mechanize-Catalyst-0.54

Back
From: metabase:user:323dcade-2aae-11df-837a-5e0a49663a4f
Subject: PASS Test-WWW-Mechanize-Catalyst-0.54 v5.14.2 Mac OS X
Date: 2011-09-27T23:02:48Z

This distribution has been tested as part of the CPAN Testers
project, supporting the Perl programming language.  See
http://wiki.cpantesters.org/ for more information or email
questions to cpan-testers-discuss@perl.org


--
Dear Tomas Doran,

This is a computer-generated report for Test-WWW-Mechanize-Catalyst-0.54
on perl 5.14.2, created by CPAN-Reporter-1.2002.

Thank you for uploading your work to CPAN.  Congratulations!
All tests were successful.

Sections of this report:

    * Tester comments
    * Program output
    * Prerequisites
    * Environment and other context

------------------------------
TESTER COMMENTS
------------------------------

Additional comments from tester:

none provided

------------------------------
PROGRAM OUTPUT
------------------------------

Output from '/usr/bin/make test':

PERL_DL_NONLAZY=1 /usr/local/bin/perl5.14.2d "-MExtUtils::Command::MM" "-e" "test_harness(0, 'inc', 'blib/lib', 'blib/arch')" t/*.t
t/auth-test.t ........... ok
t/cookies.t ............. ok
# 
# ###################################################################
# Starting an external Catalyst HTTP server on port 7357
# To change the port, please set the TWMC_TEST_PORT env variable.
# (The server will be automatically shut-down right after the tests).
# ###################################################################
t/multi_content_type.t .. ok
t/pod.t ................. ok
t/redirect.t ............ ok
t/simple.t .............. ok
t/two_app.t ............. ok
t/useragent.t ........... ok
t/white_label.t ......... ok
All tests successful.
Files=9, Tests=92, 30 wallclock secs ( 0.17 usr  0.05 sys + 27.34 cusr  1.58 csys = 29.14 CPU)
Result: PASS

------------------------------
PREREQUISITES
------------------------------

Prerequisite modules loaded:

requires:

    Module                                   Need     Have    
    ---------------------------------------- -------- --------
    Catalyst                                 5.00     5.90002 
    LWP                                      5.816    6.02    
    Moose                                    0.67     2.0205  
    namespace::clean                         0.09     0.21    
    perl                                     5.008004 5.014002
    Test::WWW::Mechanize                     1.14     1.34    
    WWW::Mechanize                           1.54     1.70    

build_requires:

    Module                                   Need     Have    
    ---------------------------------------- -------- --------
    Catalyst::Plugin::Session::State::Cookie 0        0.17    
    Catalyst::Plugin::Session::Store::Dummy  0        0       
    ExtUtils::MakeMaker                      6.42     6.59    
    Test::Exception                          0        0.31    
    Test::More                               0        0.98    

configure_requires:

    Module                                   Need     Have    
    ---------------------------------------- -------- --------
    ExtUtils::MakeMaker                      6.42     6.59    


------------------------------
ENVIRONMENT AND OTHER CONTEXT
------------------------------

Environment variables:

    LANG = en_US.UTF-8
    LC_CTYPE = en_US.UTF-8
    PATH = /opt/local/libexec/gnubin:/opt/local/bin:/opt/local/sbin:/usr/bin:/bin:/usr/sbin:/sbin:/usr/local/bin:/usr/X11/bin:/Users/rurban/bin
    PERL5LIB = 
    PERL5OPT = 
    PERL5_CPANPLUS_IS_RUNNING = 96811
    PERL5_CPAN_IS_RUNNING = 96811
    SHELL = /bin/bash
    TERM = xterm
    TMPDIR = /var/folders/Yu/YuMCqKeSFma5w4rE+2pCb++++TI/-Tmp-/

Perl special variables (and OS-specific diagnostics, for MSWin32):

    $^X = /usr/local/bin/perl5.14.2d
    $UID/$EUID = 501 / 501
    $GID = 20 20 204 100 98 81 80 79 61 12 401 402
    $EGID = 20 20 204 100 98 81 80 79 61 12 401 402

Perl module toolchain versions installed:

    Module              Have    
    ------------------- --------
    CPAN                1.9800  
    CPAN::Meta          2.112150
    Cwd                 3.36    
    ExtUtils::CBuilder  0.280203
    ExtUtils::Command   1.17    
    ExtUtils::Install   1.56    
    ExtUtils::MakeMaker 6.59    
    ExtUtils::Manifest  1.60    
    ExtUtils::ParseXS   3.04    
    File::Spec          3.33    
    JSON                2.53    
    JSON::PP            2.27105 
    Module::Build       0.3800  
    Module::Signature   0.68    
    Parse::CPAN::Meta   1.4401  
    Test::Harness       3.23    
    Test::More          0.98    
    YAML                0.73    
    YAML::Syck          1.17    
    version             0.94    


--

Summary of my perl5 (revision 5 version 14 subversion 2) configuration:
   
  Platform:
    osname=darwin, osvers=10.8.0, archname=darwin-thread-debug-multi
    uname='darwin air.local 10.8.0 darwin kernel version 10.8.0: tue jun 7 16:33:36 pdt 2011; root:xnu-1504.15.3~1release_i386 i386 '
    config_args='-de -Dusedtrace -Dmksymlinks -DEBUGGING -Doptimize=-g3 -Duseithreads -Dcc=gcc-mp-4.6 -Accflags=-m64 -Duseshrplib -Dld=gcc-mp-4.6'
    hint=previous, useposix=true, d_sigaction=define
    useithreads=define, usemultiplicity=define
    useperlio=define, d_sfio=undef, uselargefiles=define, usesocks=undef
    use64bitint=define, use64bitall=define, uselongdouble=undef
    usemymalloc=n, bincompat5005=undef
  Compiler:
    cc='gcc-mp-4.6', ccflags ='-fno-common -DPERL_DARWIN -m64 -DDEBUGGING -fno-strict-aliasing -pipe -fstack-protector -I/usr/local/include -I/opt/local/include -m64 -m64',
    optimize='-g3',
    cppflags='-fno-common -DPERL_DARWIN -m64 -DDEBUGGING -fno-strict-aliasing -pipe -fstack-protector -I/usr/local/include -I/opt/local/include -fno-common -DPERL_DARWIN -m64 -DDEBUGGING -fno-strict-aliasing -pipe -fstack-protector -I/usr/local/include -I/opt/local/include -m64 -fno-common -DPERL_DARWIN -m64 -DDEBUGGING -fno-strict-aliasing -pipe -fstack-protector -I/usr/local/include -I/opt/local/include -m64 -m64'
    ccversion='', gccversion='4.6.1 20110325 (prerelease)', gccosandvers=''
    intsize=4, longsize=8, ptrsize=8, doublesize=8, byteorder=12345678
    d_longlong=define, longlongsize=8, d_longdbl=define, longdblsize=16
    ivtype='long', ivsize=8, nvtype='double', nvsize=8, Off_t='off_t', lseeksize=8
    alignbytes=8, prototype=define
  Linker and Libraries:
    ld='gcc-mp-4.6', ldflags =' -fstack-protector -L/usr/local/lib -L/opt/local/lib'
    libpth=/usr/local/lib /opt/local/lib /usr/lib
    libs=-lgdbm -ldbm -ldl -lm -lutil -lc
    perllibs=-ldl -lm -lutil -lc
    libc=/usr/lib/libc.dylib, so=dylib, useshrplib=true, libperl=libperl.dylib
    gnulibc_version=''
  Dynamic Linking:
    dlsrc=dl_dlopen.xs, dlext=bundle, d_dlsymun=undef, ccdlflags=' '
    cccdlflags=' ', lddlflags=' -bundle -undefined dynamic_lookup -L/usr/local/lib -L/opt/local/lib -fstack-protector'


Characteristics of this binary (from libperl): 
  Compile-time options: DEBUGGING MULTIPLICITY PERL_DONT_CREATE_GVSV
                        PERL_IMPLICIT_CONTEXT PERL_MALLOC_WRAP
                        PERL_PRESERVE_IVUV PERL_TRACK_MEMPOOL USE_64_BIT_ALL
                        USE_64_BIT_INT USE_ITHREADS USE_LARGE_FILES
                        USE_PERLIO USE_PERL_ATOF USE_REENTRANT_API
  Built under darwin
  Compiled at Sep 27 2011 10:30:44
  %ENV:
    PERL5LIB=""
    PERL5OPT=""
    PERL5_CPANPLUS_IS_RUNNING="96811"
    PERL5_CPAN_IS_RUNNING="96811"
  @INC:
    /usr/local/lib/perl5/site_perl/5.14.2/darwin-thread-debug
    /usr/local/lib/perl5/site_perl/5.14.2
    /usr/local/lib/perl5/5.14.2/darwin-thread-debug
    /usr/local/lib/perl5/5.14.2
    /usr/local/lib/perl5/site_perl/5.14.2
    .