Back
From: metabase:user:259e1362-c848-11e1-acfa-89c38cc6bf43
Subject: PASS Sys-SigAction-0.21 v5.16.3 GNU/Linux
Date: 2013-11-27T17:53:27Z
This distribution has been tested as part of the CPAN Testers
project, supporting the Perl programming language. See
http://wiki.cpantesters.org/ for more information or email
questions to cpan-testers-discuss@perl.org
--
Dear Lincoln A Baxter,
This is a computer-generated report for Sys-SigAction-0.21
on perl 5.16.3, created by CPAN-Reporter-1.2010.
Thank you for uploading your work to CPAN. Congratulations!
All tests were successful.
Sections of this report:
* Tester comments
* Program output
* Prerequisites
* Environment and other context
------------------------------
TESTER COMMENTS
------------------------------
Additional comments from tester:
none provided
------------------------------
PROGRAM OUTPUT
------------------------------
Output from '/usr/bin/make test':
PERL_DL_NONLAZY=1 /pkg/perl/5.16.3-12/bin/perl "-MExtUtils::Command::MM" "-MTest::Harness" "-e" "undef *Test::Harness::Switches; test_harness(0, 'blib/lib', 'blib/arch')" t/*.t
t/mask.t ..... ok
t/name.t ..... ok
t/nested.t ... ok
t/number.t ... ok
NOTE: Setting safe=>1... with masked signals does not seem to work.
The problem is that the masked signals are not masked when safe=>1.
When safe=>0 they are.
If you have an application for safe=>1 and can come up with
a test that works in the context of this module's installation
please send me a patch to safe.t that tests it.
See the block below this one... which if executed would test safe mode
with masked signals... it is a clone of part of mask.t that proves this
is broken.
Lincoln
t/safe.t ..... ok
# delta time was 0.100182, timer was for 0.1 secconds
t/timeout.t .. ok
All tests successful.
Files=6, Tests=44, 9 wallclock secs ( 0.03 usr 0.00 sys + 0.18 cusr 0.01 csys = 0.22 CPU)
Result: PASS
------------------------------
PREREQUISITES
------------------------------
Prerequisite modules loaded:
requires:
Module Need Have
------------------- ---- ----
POSIX 0 1.30
Test::More 0 0.98
build_requires:
Module Need Have
------------------- ---- ----
ExtUtils::MakeMaker 0 6.82
configure_requires:
Module Need Have
------------------- ---- ----
ExtUtils::MakeMaker 0 6.82
------------------------------
ENVIRONMENT AND OTHER CONTEXT
------------------------------
Environment variables:
LANG = en_GB.UTF-8
LC_COLLATE = C
PATH = /usr/bin:/bin:/usr/sbin:/sbin:/usr/games
PERL5LIB =
PERL5OPT =
PERL5_CPANPLUS_IS_RUNNING = 13065
PERL5_CPAN_IS_RUNNING = 13065
SHELL = /bin/bash
TERM = xterm-color
Perl special variables (and OS-specific diagnostics, for MSWin32):
$^X = /pkg/perl/5.16.3-12/bin/perl
$UID/$EUID = 0 / 0
$GID = 0 0 1 2 3 4 6 10 11 16 25 73 89
$EGID = 0 0 1 2 3 4 6 10 11 16 25 73 89
Perl module toolchain versions installed:
Module Have
------------------- --------
CPAN 2.00
CPAN::Meta 2.132830
Cwd 3.40
ExtUtils::CBuilder 0.280212
ExtUtils::Command 1.18
ExtUtils::Install 1.58
ExtUtils::MakeMaker 6.82
ExtUtils::Manifest 1.63
ExtUtils::ParseXS 3.22
File::Spec 3.40
JSON 2.90
JSON::PP 2.27203
Module::Build 0.4202
Module::Signature 0.73
Parse::CPAN::Meta 1.4409
Test::Harness 3.29
Test::More 0.98
YAML 0.84
YAML::Syck 1.27
version 0.9904
--
Summary of my perl5 (revision 5 version 16 subversion 3) configuration:
Local Commit: 870e6f456cd49afa5894d97296caf943d4686d04
Ancestor: 183b001cb82ee238a3921a55ece023fd3b1ffd2c
Platform:
osname=linux, osvers=3.8.3-05262-g53e1ab5-dirty, archname=x86_64-linux-thread-multi
uname='linux mutilate 3.8.3-05262-g53e1ab5-dirty #1 smp preempt sun mar 17 14:16:31 gmt 2013 x86_64 gnulinux '
config_args='-d -e -D privlib=/usr/lib/perl5/5.16 -D sitelib=/usr/lib/perl5/site_perl/5.16 -D optimize=-Wstrict-overflow=1 -gdwarf-4 -feliminate-dwarf2-dups -feliminate-unused-debug-types -fvar-tracking-assignments -O2 -D__NO_STRING_INLINES -D__NO_MATH_INLINES'
hint=recommended, useposix=true, d_sigaction=define
useithreads=define, usemultiplicity=define
useperlio=define, d_sfio=undef, uselargefiles=define, usesocks=undef
use64bitint=define, use64bitall=define, uselongdouble=undef
usemymalloc=n, bincompat5005=undef
Compiler:
cc='gcc', ccflags ='-D_REENTRANT -D_GNU_SOURCE -D_REENTRANT -D_GNU_SOURCE -g -fno-strict-aliasing -D_LARGEFILE_SOURCE -D_FILE_OFFSET_BITS=64 -pipe -fstack-protector -D_LARGEFILE_SOURCE -D_FILE_OFFSET_BITS=64',
optimize='-Wstrict-overflow=1 -gdwarf-4 -feliminate-dwarf2-dups -feliminate-unused-debug-types -fvar-tracking-assignments -O2 -D__NO_STRING_INLINES -D__NO_MATH_INLINES',
cppflags='-D_REENTRANT -D_GNU_SOURCE -D_REENTRANT -D_GNU_SOURCE -g -fno-strict-aliasing -D_LARGEFILE_SOURCE -D_FILE_OFFSET_BITS=64 -pipe -fstack-protector'
ccversion='', gccversion='4.7.3 20130310 (prerelease)', gccosandvers=''
intsize=4, longsize=8, ptrsize=8, doublesize=8, byteorder=12345678
d_longlong=define, longlongsize=8, d_longdbl=define, longdblsize=16
ivtype='long', ivsize=8, nvtype='double', nvsize=8, Off_t='off_t', lseeksize=8
alignbytes=8, prototype=define
Linker and Libraries:
ld='gcc', ldflags =' -fstack-protector'
libpth=/lib/64 /usr/lib/64 /lib /usr/lib /lib64 /usr/lib64
libs=-lgdbm -ldb -ldl -lm -lcrypt -lutil -lpthread -lc -lgdbm_compat
perllibs=-ldl -lm -lcrypt -lutil -lpthread -lc
libc=/lib/libc-2.17.so, so=so, useshrplib=true, libperl=libperl.so
gnulibc_version='2.17'
Dynamic Linking:
dlsrc=dl_dlopen.xs, dlext=so, d_dlsymun=undef, ccdlflags='-Wl,-E -Wl,-rpath,/usr/lib/perl5/5.16/x86_64-linux-thread-multi/CORE'
cccdlflags='-fPIC', lddlflags='-shared -Wstrict-overflow=1 -gdwarf-4 -feliminate-dwarf2-dups -feliminate-unused-debug-types -fvar-tracking-assignments -O2 -D__NO_STRING_INLINES -D__NO_MATH_INLINES -fstack-protector'
Characteristics of this binary (from libperl):
Compile-time options: HAS_TIMES MULTIPLICITY PERLIO_LAYERS
PERL_DONT_CREATE_GVSV PERL_IMPLICIT_CONTEXT
PERL_MALLOC_WRAP PERL_PRESERVE_IVUV USE_64_BIT_ALL
USE_64_BIT_INT USE_ITHREADS USE_LARGE_FILES
USE_LOCALE USE_LOCALE_COLLATE USE_LOCALE_CTYPE
USE_LOCALE_NUMERIC USE_PERLIO USE_PERL_ATOF
USE_REENTRANT_API
Locally applied patches:
89a55046356a104a63e590fb060123158e86be04
5534801b45914ad702a65931467cc2b6d2dbd3e5
d6cee3c7d3ce0be9a9f3c6309f6edbe16b473aaf
8861d3c8c12e3a56f010ab09e64950ba09a1a14d
c1abe3372e0576a86eb20594ec48e3be9dea15ca
Built under linux
Compiled at Mar 18 2013 11:25:17
%ENV:
PERL5LIB=""
PERL5OPT=""
PERL5_CPANPLUS_IS_RUNNING="13065"
PERL5_CPAN_IS_RUNNING="13065"
@INC:
/usr/lib/perl5/site_perl/5.16/x86_64-linux-thread-multi
/usr/lib/perl5/site_perl/5.16
/usr/lib/perl5/5.16/x86_64-linux-thread-multi
/usr/lib/perl5/5.16
.