Report for Sys-SigAction-0.15

Back
From: metabase:user:3249099e-2aae-11df-837a-5e0a49663a4f
Subject: PASS Sys-SigAction-0.15 v5.14.1 GNU/Linux
Date: 2011-07-05T21:57:49Z

This distribution has been tested as part of the CPAN Testers
project, supporting the Perl programming language.  See
http://wiki.cpantesters.org/ for more information or email
questions to cpan-testers-discuss@perl.org


--
Dear Lincoln A Baxter,

This is a computer-generated report for Sys-SigAction-0.15
on perl 5.14.1, created by CPAN-Reporter-1.1902.

Thank you for uploading your work to CPAN.  Congratulations!
All tests were successful.

Sections of this report:

    * Tester comments
    * Program output
    * Prerequisites
    * Environment and other context

------------------------------
TESTER COMMENTS
------------------------------

Additional comments from tester:

none provided

------------------------------
PROGRAM OUTPUT
------------------------------

Output from '/usr/bin/make test':

PERL_DL_NONLAZY=1 /home/rafl/.perl5141/bin/perl "-MExtUtils::Command::MM" "-e" "test_harness(0, 'blib/lib', 'blib/arch')" t/*.t
t/name.t ..... ok
t/nested.t ... ok

         
         NOTE: Setting safe=>1... with masked signals does not seem to work.
         The problem is that the masked signals are not masked, but when
         safe=>0 they are.  

         If you have an application for safe=>1 and can come up with 
         a test that works in the context of this module's installation
         please send me a patch to safe.t that tests it.
         
         See the block below this one... which if executed would test safe mode
         with masked signals... it is a clone of part of mask.t that proves this
         is broken.

         Lincoln
         
t/safe.t ..... ok
t/number.t ... ok
# testing fractional second timeout
t/timeout.t .. ok
t/mask.t ..... ok
All tests successful.
Files=6, Tests=35,  4 wallclock secs ( 0.09 usr  0.01 sys +  1.60 cusr  0.06 csys =  1.76 CPU)
Result: PASS

------------------------------
PREREQUISITES
------------------------------

Prerequisite modules loaded:

requires:

    Module              Need Have   
    ------------------- ---- -------
    POSIX               0    1.24   
    Test::More          0    0.98   

build_requires:

    Module              Need Have   
    ------------------- ---- -------
    ExtUtils::MakeMaker 0    6.57_05

configure_requires:

    Module              Need Have   
    ------------------- ---- -------
    ExtUtils::MakeMaker 0    6.57_05


------------------------------
ENVIRONMENT AND OTHER CONTEXT
------------------------------

Environment variables:

    LANG = C
    LC_CTYPE = de_DE.UTF-8
    LD_LIBRARY_PATH = /home/rafl/.local/lib:
    PATH = /usr/lib/ccache:/home/rafl/.perl5141/bin:/home/rafl/.local/bin:/usr/lib/ccache:/home/rafl/.perl5141/bin:/home/rafl/.local/bin:/usr/local/bin:/usr/bin:/bin:/usr/local/games:/usr/games
    PERL5LIB = 
    PERL5OPT = 
    PERL5_CPANPLUS_IS_RUNNING = 8298
    PERL5_CPAN_IS_RUNNING = 8298
    PERLBREW_ROOT = /home/rafl/.perls
    SHELL = zsh
    TERM = screen-256color

Perl special variables (and OS-specific diagnostics, for MSWin32):

    $^X = /home/rafl/.perl5141/bin/perl
    $UID/$EUID = 1000 / 1000
    $GID = 1000 24 25 27 29 30 44 46 103 110 111 116 126 1000
    $EGID = 1000 24 25 27 29 30 44 46 103 110 111 116 126 1000

Perl module toolchain versions installed:

    Module              Have    
    ------------------- --------
    CPAN                1.9600  
    Cwd                 3.36    
    ExtUtils::CBuilder  0.280203
    ExtUtils::Command   1.17    
    ExtUtils::Install   1.56    
    ExtUtils::MakeMaker 6.57_05 
    ExtUtils::Manifest  1.58    
    ExtUtils::ParseXS   2.2210  
    File::Spec          3.33    
    Module::Build       0.3800  
    Module::Signature   0.68    
    Test::Harness       3.23    
    Test::More          0.98    
    YAML                0.73    
    YAML::Syck          1.17    
    version             0.91    


--

Summary of my perl5 (revision 5 version 14 subversion 1) configuration:
   
  Platform:
    osname=linux, osvers=2.6.39-2-amd64, archname=x86_64-linux-thread-multi
    uname='linux tardis 2.6.39-2-amd64 #1 smp wed jun 8 11:01:04 utc 2011 x86_64 gnulinux '
    config_args='-des -Dusedevel -DDEBUGGING -Dusethreads -Dusemultiplicity -Uversiononly -Accflags=-Wall -Wextra -Doptimize=-g -O0 -ggdb3 -Dprefix=/home/rafl/.perl5141/'
    hint=recommended, useposix=true, d_sigaction=define
    useithreads=define, usemultiplicity=define
    useperlio=define, d_sfio=undef, uselargefiles=define, usesocks=undef
    use64bitint=define, use64bitall=define, uselongdouble=undef
    usemymalloc=n, bincompat5005=undef
  Compiler:
    cc='cc', ccflags ='-D_REENTRANT -D_GNU_SOURCE -Wall -Wextra -DDEBUGGING -fno-strict-aliasing -pipe -fstack-protector -I/usr/local/include -D_LARGEFILE_SOURCE -D_FILE_OFFSET_BITS=64',
    optimize='-g -O0 -ggdb3',
    cppflags='-D_REENTRANT -D_GNU_SOURCE -Wall -Wextra -DDEBUGGING -fno-strict-aliasing -pipe -fstack-protector -I/usr/local/include'
    ccversion='', gccversion='4.6.1 20110616 (prerelease)', gccosandvers=''
    intsize=4, longsize=8, ptrsize=8, doublesize=8, byteorder=12345678
    d_longlong=define, longlongsize=8, d_longdbl=define, longdblsize=16
    ivtype='long', ivsize=8, nvtype='double', nvsize=8, Off_t='off_t', lseeksize=8
    alignbytes=8, prototype=define
  Linker and Libraries:
    ld='cc', ldflags =' -fstack-protector -L/usr/local/lib'
    libpth=/usr/local/lib /lib /usr/lib /usr/lib/x86_64-linux-gnu /lib64 /usr/lib64
    libs=-lnsl -ldl -lm -lcrypt -lutil -lpthread -lc
    perllibs=-lnsl -ldl -lm -lcrypt -lutil -lpthread -lc
    libc=, so=so, useshrplib=false, libperl=libperl.a
    gnulibc_version='2.13'
  Dynamic Linking:
    dlsrc=dl_dlopen.xs, dlext=so, d_dlsymun=undef, ccdlflags='-Wl,-E'
    cccdlflags='-fPIC', lddlflags='-shared -g -O0 -ggdb3 -L/usr/local/lib -fstack-protector'


Characteristics of this binary (from libperl): 
  Compile-time options: DEBUGGING MULTIPLICITY PERL_DONT_CREATE_GVSV
                        PERL_IMPLICIT_CONTEXT PERL_MALLOC_WRAP
                        PERL_PRESERVE_IVUV PERL_TRACK_MEMPOOL PERL_USE_DEVEL
                        USE_64_BIT_ALL USE_64_BIT_INT USE_ITHREADS
                        USE_LARGE_FILES USE_PERLIO USE_PERL_ATOF
                        USE_REENTRANT_API
  Built under linux
  Compiled at Jun 21 2011 09:44:32
  %ENV:
    PERL5LIB=""
    PERL5OPT=""
    PERL5_CPANPLUS_IS_RUNNING="8298"
    PERL5_CPAN_IS_RUNNING="8298"
    PERLBREW_ROOT="/home/rafl/.perls"
  @INC:
    /home/rafl/.perl5141/lib/site_perl/5.14.1/x86_64-linux-thread-multi
    /home/rafl/.perl5141/lib/site_perl/5.14.1
    /home/rafl/.perl5141/lib/5.14.1/x86_64-linux-thread-multi
    /home/rafl/.perl5141/lib/5.14.1
    .