Mojo-Promise-Limitter v0.001 Perl 5 v5.31.10 evbarm-netbsd

Status
Pass
From
Nigel Horne
Dist
Mojo-Promise-Limitter v0.001
Platform
Perl 5 v5.31.10 evbarm-netbsd
Date
2020-05-06T13:02:24
ID
d45abb1e-8f99-11ea-8a15-8e02c43030b3
This distribution has been tested as part of the CPAN Testers
project, supporting the Perl programming language.  See
http://wiki.cpantesters.org/ for more information or email
questions to cpan-testers-discuss@perl.org


--
Dear Shoichi Kaji,

This is a computer-generated report for Mojo-Promise-Limitter-0.001
on perl 5.31.10, created by CPAN-Reporter-1.2018.

Thank you for uploading your work to CPAN.  Congratulations!
All tests were successful.

Sections of this report:

    * Tester comments
    * Program output
    * Prerequisites
    * Environment and other context

------------------------------
TESTER COMMENTS
------------------------------

Additional comments from tester:

this report is from an automated smoke testing program
and was not reviewed by a human for accuracy

------------------------------
PROGRAM OUTPUT
------------------------------

Output from './Build test':

t/00_use.t ............. ok
t/01_basic.t ........... ok
t/02_basic.t ........... ok
t/author-pod-syntax.t .. skipped: these tests are for testing by the author
All tests successful.
Files=4, Tests=7, 11 wallclock secs ( 0.26 usr  0.24 sys +  7.05 cusr  1.95 csys =  9.50 CPU)
Result: PASS

------------------------------
PREREQUISITES
------------------------------

Prerequisite modules loaded:

requires:

    Module              Need    Have    
    ------------------- ------- --------
    Mojolicious         8.42    8.42    
    perl                v5.10.1 5.031010

configure_requires:

    Module              Need    Have    
    ------------------- ------- --------
    Module::Build::Tiny 0.034   0.039   


------------------------------
ENVIRONMENT AND OTHER CONTEXT
------------------------------

Environment variables:

    AUTOMATED_TESTING = 1
    PATH = /home/njh/perl5/perlbrew/bin:/home/njh/perl5/perlbrew/perls/perl-5.31.10/bin:/usr/bin:/bin:/usr/pkg/bin:/usr/local/bin
    PERL5LIB = /var/tmp/build/Mojolicious-8.42-1/blib/arch:/var/tmp/build/Mojolicious-8.42-1/blib/lib
    PERL5OPT = 
    PERL5_CPANPLUS_IS_RUNNING = 3202
    PERL5_CPAN_IS_RUNNING = 3202
    PERLBREW_HOME = /home/njh/.perlbrew
    PERLBREW_MANPATH = /home/njh/perl5/perlbrew/perls/perl-5.31.10/man
    PERLBREW_PATH = /home/njh/perl5/perlbrew/bin:/home/njh/perl5/perlbrew/perls/perl-5.31.10/bin
    PERLBREW_PERL = perl-5.31.10
    PERLBREW_ROOT = /home/njh/perl5/perlbrew
    PERLBREW_SHELLRC_VERSION = 0.88
    PERLBREW_VERSION = 0.88
    PERL_USE_UNSAFE_INC = 1
    SHELL = /usr/pkg/bin/bash
    TMPDIR = /tmp/testwrapper.5436

Perl special variables (and OS-specific diagnostics, for MSWin32):

    $^X = /mnt/nas/home/pi2c/njh/perl5/perlbrew/perls/perl-5.31.10/bin/perl5.31.10
    $UID/$EUID = 1000 / 1000
    $GID = 1000 1000 0
    $EGID = 1000 1000 0

Perl module toolchain versions installed:

    Module              Have    
    ------------------- --------
    CPAN                2.27    
    CPAN::Meta          2.150010
    Cwd                 3.78    
    ExtUtils::CBuilder  0.280234
    ExtUtils::Command   7.44    
    ExtUtils::Install   2.14    
    ExtUtils::MakeMaker 7.44    
    ExtUtils::Manifest  1.72    
    ExtUtils::ParseXS   3.40    
    File::Spec          3.78    
    JSON                4.02    
    JSON::PP            4.04    
    Module::Build       0.4231  
    Module::Signature   n/a     
    Parse::CPAN::Meta   2.150010
    Test::Harness       3.42    
    Test::More          1.302175
    YAML                1.30    
    YAML::Syck          1.32    
    version             0.9924  


--

Summary of my perl5 (revision 5 version 31 subversion 10) configuration:
   
  Platform:
    osname=netbsd
    osvers=8.0_beta
    archname=evbarm-netbsd
    uname='netbsd pi2c.bandsman.co.uk 8.0_beta netbsd 8.0_beta (rpi2.201710161240z) evbarm '
    config_args='-de -Dprefix=/home/njh/perl5/perlbrew/perls/perl-5.31.10 -Dusedevel -Dusedevel -Accflags=-O2 -W -Wformat=2 -Wswitch -Wshadow -Wwrite-strings -Wuninitialized -Wall -pipe -fomit-frame-pointer -D_FORTIFY_SOURCE=2 -Wpointer-arith -Wstrict-prototypes -fstack-protector -Wstack-protector -Wextra -Wbad-function-cast -Wcast-align -Wcast-qual -Wdisabled-optimization -Wendif-labels -Wfloat-equal -Wformat-nonliteral -Winline -Wmissing-declarations -Wmissing-prototypes -Wnested-externs -Wpointer-arith -Wundef -Wformat-security -mfpu=neon-vfpv4 -mfloat-abi=hard -mtune=cortex-a7 -Aeval:scriptdir=/home/njh/perl5/perlbrew/perls/perl-5.31.10/bin'
    hint=recommended
    useposix=true
    d_sigaction=define
    useithreads=undef
    usemultiplicity=undef
    use64bitint=undef
    use64bitall=undef
    uselongdouble=undef
    usemymalloc=n
    default_inc_excludes_dot=define
    bincompat5005=undef
  Compiler:
    cc='cc'
    ccflags ='-O2 -W -Wformat=2 -Wswitch -Wshadow -Wwrite-strings -Wuninitialized -Wall -pipe -fomit-frame-pointer -D_FORTIFY_SOURCE=2 -Wpointer-arith -Wstrict-prototypes -fstack-protector -Wstack-protector -Wextra -Wbad-function-cast -Wcast-align -Wcast-qual -Wdisabled-optimization -Wendif-labels -Wfloat-equal -Wformat-nonliteral -Winline -Wmissing-declarations -Wmissing-prototypes -Wnested-externs -Wpointer-arith -Wundef -Wformat-security -mfpu=neon-vfpv4 -mfloat-abi=hard -mtune=cortex-a7 -fwrapv -fno-strict-aliasing -fstack-protector-strong -I/usr/pkg/include'
    optimize='-O'
    cppflags='-O2 -W -Wformat=2 -Wswitch -Wshadow -Wwrite-strings -Wuninitialized -Wall -pipe -fomit-frame-pointer -D_FORTIFY_SOURCE=2 -Wpointer-arith -Wstrict-prototypes -fstack-protector -Wstack-protector -Wextra -Wbad-function-cast -Wcast-align -Wcast-qual -Wdisabled-optimization -Wendif-labels -Wfloat-equal -Wformat-nonliteral -Winline -Wmissing-declarations -Wmissing-prototypes -Wnested-externs -Wpointer-arith -Wundef -Wformat-security -mfpu=neon-vfpv4 -mfloat-abi=hard -mtune=cortex-a7 -fwrapv -fno-strict-aliasing -fstack-protector-strong -I/usr/pkg/include'
    ccversion=''
    gccversion='5.4.0'
    gccosandvers=''
    intsize=4
    longsize=4
    ptrsize=4
    doublesize=8
    byteorder=1234
    doublekind=3
    d_longlong=define
    longlongsize=8
    d_longdbl=define
    longdblsize=8
    longdblkind=0
    ivtype='long'
    ivsize=4
    nvtype='double'
    nvsize=8
    Off_t='off_t'
    lseeksize=8
    alignbytes=8
    prototype=define
  Linker and Libraries:
    ld='cc'
    ldflags =' -Wl,-rpath,/usr/pkg/lib -Wl,-rpath,/usr/local/lib -fstack-protector-strong -L/usr/pkg/lib'
    libpth=/usr/include/gcc-5 /usr/lib /usr/pkg/lib /lib
    libs=-lpthread -lm -lcrypt -lutil -lc -lposix
    perllibs=-lpthread -lm -lcrypt -lutil -lc -lposix
    libc=/lib/libc.so
    so=so
    useshrplib=false
    libperl=libperl.a
    gnulibc_version=''
  Dynamic Linking:
    dlsrc=dl_dlopen.xs
    dlext=so
    d_dlsymun=undef
    ccdlflags='-Wl,-E '
    cccdlflags='-DPIC -fPIC '
    lddlflags='-shared  -L/usr/pkg/lib -fstack-protector-strong'


Characteristics of this binary (from libperl): 
  Compile-time options:
    HAS_TIMES
    PERLIO_LAYERS
    PERL_COPY_ON_WRITE
    PERL_DONT_CREATE_GVSV
    PERL_MALLOC_WRAP
    PERL_OP_PARENT
    PERL_PRESERVE_IVUV
    PERL_USE_DEVEL
    USE_LARGE_FILES
    USE_LOCALE
    USE_LOCALE_COLLATE
    USE_LOCALE_CTYPE
    USE_LOCALE_NUMERIC
    USE_LOCALE_TIME
    USE_PERLIO
    USE_PERL_ATOF
  Locally applied patches:
    Devel::PatchPerl 1.52
  Built under netbsd
  Compiled at Mar 24 2020 14:08:10
  %ENV:
    PERL5LIB="/var/tmp/build/Mojolicious-8.42-1/blib/arch:/var/tmp/build/Mojolicious-8.42-1/blib/lib"
    PERL5OPT=""
    PERL5_CPANPLUS_IS_RUNNING="3202"
    PERL5_CPAN_IS_RUNNING="3202"
    PERLBREW_HOME="/home/njh/.perlbrew"
    PERLBREW_MANPATH="/home/njh/perl5/perlbrew/perls/perl-5.31.10/man"
    PERLBREW_PATH="/home/njh/perl5/perlbrew/bin:/home/njh/perl5/perlbrew/perls/perl-5.31.10/bin"
    PERLBREW_PERL="perl-5.31.10"
    PERLBREW_ROOT="/home/njh/perl5/perlbrew"
    PERLBREW_SHELLRC_VERSION="0.88"
    PERLBREW_VERSION="0.88"
    PERL_USE_UNSAFE_INC="1"
  @INC:
    /var/tmp/build/Mojolicious-8.42-1/blib/arch
    /var/tmp/build/Mojolicious-8.42-1/blib/lib
    /home/njh/perl5/perlbrew/perls/perl-5.31.10/lib/site_perl/5.31.10/evbarm-netbsd
    /home/njh/perl5/perlbrew/perls/perl-5.31.10/lib/site_perl/5.31.10
    /home/njh/perl5/perlbrew/perls/perl-5.31.10/lib/5.31.10/evbarm-netbsd
    /home/njh/perl5/perlbrew/perls/perl-5.31.10/lib/5.31.10
    .