Report for Text-Tradition-Directory-1.2

Back
From: metabase:user:30ae4450-2aae-11df-837a-5e0a49663a4f
Subject: PASS Text-Tradition-Directory-1.2 v5.18.1 GNU/Linux
Date: 2014-12-22T12:48:30Z

This distribution has been tested as part of the CPAN Testers
project, supporting the Perl programming language.  See
http://wiki.cpantesters.org/ for more information or email
questions to cpan-testers-discuss@perl.org


--
Dear Tara Andrews,

This is a computer-generated report for Text-Tradition-Directory-1.2
on perl 5.18.1, created by CPAN-Reporter-1.2010.

Thank you for uploading your work to CPAN.  Congratulations!
All tests were successful.

Sections of this report:

    * Tester comments
    * Program output
    * Prerequisites
    * Environment and other context

------------------------------
TESTER COMMENTS
------------------------------

Additional comments from tester:

this report is from an automated smoke testing program
and was not reviewed by a human for accuracy

------------------------------
PROGRAM OUTPUT
------------------------------

Output from '/usr/bin/make test':

PERL_DL_NONLAZY=1 /home/c/perl5/perlbrew/perls/18.1i/bin/perl "-MExtUtils::Command::MM" "-MTest::Harness" "-e" "undef *Test::Harness::Switches; test_harness(0, 'inc', 'blib/lib', 'blib/arch')" t/*.t
t/00dependencies.t ................ ok
t/02pod.t ......................... ok
t/03podcoverage.t ................. skipped: set TEST_POD to enable this test
t/load-save-speed.t ............... skipped: Skipping performance tests under prove/make, run manually to test performance improvements
t/mysql_utf8.t .................... skipped: Please set TT_MYSQL_TEST to an appropriate db to run this test
Class::MOP::load_class is deprecated at /home/c/perl5/perlbrew/perls/18.1i/lib/site_perl/5.18.1/i686-linux-thread-multi/Class/MOP.pm line 76.
	Class::MOP::load_class('KiokuDB::Backend::DBI') called at /home/c/perl5/perlbrew/perls/18.1i/lib/site_perl/5.18.1/KiokuDB/Util.pm line 59
	KiokuDB::Util::dsn_to_backend('dbi:SQLite:dbname=/tmp/WzwNFIZjcP', 'typemap', 'KiokuDB::TypeMap=HASH(0xb49ace0)', 'create', 1, 'columns', 'ARRAY(0xb4471b0)', 'resolver_constructor', 'CODE(0xb49aeb0)', ...) called at /home/c/perl5/perlbrew/perls/18.1i/lib/site_perl/5.18.1/KiokuDB.pm line 49
	KiokuDB::connect('Text::Tradition::Store', 'dbi:SQLite:dbname=/tmp/WzwNFIZjcP', 'typemap', 'KiokuDB::TypeMap=HASH(0xb49ace0)', 'create', 1, 'columns', 'ARRAY(0xb4471b0)', 'resolver_constructor', ...) called at /home/c/.cpan/build/Text-Tradition-Directory-1.2-loOBMR/blib/lib/Text/Tradition/Directory.pm line 306
	Text::Tradition::Directory::__ANON__('Text::Tradition::Directory=HASH(0xb3b63f8)') called at /home/c/perl5/perlbrew/perls/18.1i/lib/site_perl/5.18.1/i686-linux-thread-multi/Moose/Meta/Method/Overridden.pm line 43
	Text::Tradition::Directory::_build_directory('Text::Tradition::Directory=HASH(0xb3b63f8)') called at /home/c/perl5/perlbrew/perls/18.1i/lib/site_perl/5.18.1/i686-linux-thread-multi/Moose/Meta/Attribute.pm line 533
	Moose::Meta::Attribute::_call_builder('Moose::Meta::Attribute=HASH(0xb431a70)', 'Text::Tradition::Directory=HASH(0xb3b63f8)') called at /home/c/perl5/perlbrew/perls/18.1i/lib/site_perl/5.18.1/i686-linux-thread-multi/Moose/Meta/Attribute.pm line 814
	Moose::Meta::Attribute::get_value('Moose::Meta::Attribute=HASH(0xb431a70)', 'Text::Tradition::Directory=HASH(0xb3b63f8)') called at /home/c/perl5/perlbrew/perls/18.1i/lib/site_perl/5.18.1/i686-linux-thread-multi/Class/MOP/Attribute.pm line 218
	Class::MOP::Attribute::__ANON__('Text::Tradition::Directory=HASH(0xb3b63f8)') called at /home/c/perl5/perlbrew/perls/18.1i/lib/site_perl/5.18.1/i686-linux-thread-multi/Moose/Meta/Method/Delegation.pm line 99
	KiokuX::Model::directory('Text::Tradition::Directory=HASH(0xb3b63f8)') called at /home/c/.cpan/build/KiokuX-Model-0.02-7Q4j7Y/blib/lib/KiokuX/Model.pm line 16
	KiokuX::Model::BUILD('Text::Tradition::Directory=HASH(0xb3b63f8)', 'HASH(0xb49a730)') called at /home/c/perl5/perlbrew/perls/18.1i/lib/site_perl/5.18.1/i686-linux-thread-multi/Class/MOP/Method.pm line 131
	Class::MOP::Method::execute('Moose::Meta::Method=HASH(0xb4560f8)', 'Text::Tradition::Directory=HASH(0xb3b63f8)', 'HASH(0xb49a730)') called at /home/c/perl5/perlbrew/perls/18.1i/lib/site_perl/5.18.1/i686-linux-thread-multi/Moose/Object.pm line 59
	Moose::Object::BUILDALL('Text::Tradition::Directory=HASH(0xb3b63f8)', 'HASH(0xb49a730)') called at /home/c/perl5/perlbrew/perls/18.1i/lib/site_perl/5.18.1/i686-linux-thread-multi/Moose/Meta/Class.pm line 285
	Moose::Meta::Class::new_object('Moose::Meta::Class::__ANON__::SERIAL::31=HASH(0xac611c8)', 'HASH(0xb49a730)') called at /home/c/perl5/perlbrew/perls/18.1i/lib/site_perl/5.18.1/MooseX/StrictConstructor/Trait/Class.pm line 16
	Class::MOP::Class:::around('CODE(0x8e37de0)', 'Moose::Meta::Class::__ANON__::SERIAL::31=HASH(0xac611c8)', 'HASH(0xb49a730)') called at /home/c/perl5/perlbrew/perls/18.1i/lib/site_perl/5.18.1/i686-linux-thread-multi/Class/MOP/Method/Wrapped.pm line 166
	Class::MOP::Method::Wrapped::__ANON__('Moose::Meta::Class::__ANON__::SERIAL::31=HASH(0xac611c8)', 'HASH(0xb49a730)') called at /home/c/perl5/perlbrew/perls/18.1i/lib/site_perl/5.18.1/i686-linux-thread-multi/Class/MOP/Method/Wrapped.pm line 95
	Moose::Meta::Class::__ANON__::SERIAL::31::new_object('Moose::Meta::Class::__ANON__::SERIAL::31=HASH(0xac611c8)', 'HASH(0xb49a730)') called at /home/c/perl5/perlbrew/perls/18.1i/lib/site_perl/5.18.1/i686-linux-thread-multi/Moose/Object.pm line 30
	Moose::Object::new('Text::Tradition::Directory', 'dsn', 'dbi:SQLite:dbname=/tmp/WzwNFIZjcP', 'extra_args', 'HASH(0x9729210)') called at constructor KiokuX::Model::new (defined at /home/c/.cpan/build/KiokuX-Model-0.02-7Q4j7Y/blib/lib/KiokuX/Model.pm line 82) line 4
	KiokuX::Model::new('Text::Tradition::Directory', 'dsn', 'dbi:SQLite:dbname=/tmp/WzwNFIZjcP', 'extra_args', 'HASH(0x9729210)') called at t/text_tradition_directory.t line 31
Class::MOP::load_class is deprecated at /home/c/perl5/perlbrew/perls/18.1i/lib/site_perl/5.18.1/i686-linux-thread-multi/Class/MOP.pm line 76.
	Class::MOP::load_class('KiokuDB::Backend::DBI::Schema') called at /home/c/perl5/perlbrew/perls/18.1i/lib/site_perl/5.18.1/KiokuDB/Backend/DBI.pm line 57
	KiokuDB::Backend::DBI::__ANON__('KiokuDB::Backend::DBI::Schema') called at /home/c/perl5/perlbrew/perls/18.1i/lib/site_perl/5.18.1/i686-linux-thread-multi/Moose/Meta/TypeConstraint.pm line 331
	KiokuDB::Backend::DBI::SchemaProto('KiokuDB::Backend::DBI::Schema') called at constructor KiokuDB::Backend::DBI::new (defined at /home/c/perl5/perlbrew/perls/18.1i/lib/site_perl/5.18.1/KiokuDB/Backend/DBI.pm line 1021) line 65
	KiokuDB::Backend::DBI::new('KiokuDB::Backend::DBI', 'dsn', 'dbi:SQLite:dbname=/tmp/WzwNFIZjcP', 'typemap', 'KiokuDB::TypeMap=HASH(0xb49ace0)', 'create', 1, 'columns', 'ARRAY(0xb4471b0)', ...) called at /home/c/perl5/perlbrew/perls/18.1i/lib/site_perl/5.18.1/KiokuDB/Backend/DBI.pm line 64
	KiokuDB::Backend::DBI::new_from_dsn('KiokuDB::Backend::DBI', 'SQLite:dbname=/tmp/WzwNFIZjcP', 'typemap', 'KiokuDB::TypeMap=HASH(0xb49ace0)', 'create', 1, 'columns', 'ARRAY(0xb4471b0)', 'resolver_constructor', ...) called at /home/c/perl5/perlbrew/perls/18.1i/lib/site_perl/5.18.1/KiokuDB/Util.pm line 60
	KiokuDB::Util::dsn_to_backend('dbi:SQLite:dbname=/tmp/WzwNFIZjcP', 'typemap', 'KiokuDB::TypeMap=HASH(0xb49ace0)', 'create', 1, 'columns', 'ARRAY(0xb4471b0)', 'resolver_constructor', 'CODE(0xb49aeb0)', ...) called at /home/c/perl5/perlbrew/perls/18.1i/lib/site_perl/5.18.1/KiokuDB.pm line 49
	KiokuDB::connect('Text::Tradition::Store', 'dbi:SQLite:dbname=/tmp/WzwNFIZjcP', 'typemap', 'KiokuDB::TypeMap=HASH(0xb49ace0)', 'create', 1, 'columns', 'ARRAY(0xb4471b0)', 'resolver_constructor', ...) called at /home/c/.cpan/build/Text-Tradition-Directory-1.2-loOBMR/blib/lib/Text/Tradition/Directory.pm line 306
	Text::Tradition::Directory::__ANON__('Text::Tradition::Directory=HASH(0xb3b63f8)') called at /home/c/perl5/perlbrew/perls/18.1i/lib/site_perl/5.18.1/i686-linux-thread-multi/Moose/Meta/Method/Overridden.pm line 43
	Text::Tradition::Directory::_build_directory('Text::Tradition::Directory=HASH(0xb3b63f8)') called at /home/c/perl5/perlbrew/perls/18.1i/lib/site_perl/5.18.1/i686-linux-thread-multi/Moose/Meta/Attribute.pm line 533
	Moose::Meta::Attribute::_call_builder('Moose::Meta::Attribute=HASH(0xb431a70)', 'Text::Tradition::Directory=HASH(0xb3b63f8)') called at /home/c/perl5/perlbrew/perls/18.1i/lib/site_perl/5.18.1/i686-linux-thread-multi/Moose/Meta/Attribute.pm line 814
	Moose::Meta::Attribute::get_value('Moose::Meta::Attribute=HASH(0xb431a70)', 'Text::Tradition::Directory=HASH(0xb3b63f8)') called at /home/c/perl5/perlbrew/perls/18.1i/lib/site_perl/5.18.1/i686-linux-thread-multi/Class/MOP/Attribute.pm line 218
	Class::MOP::Attribute::__ANON__('Text::Tradition::Directory=HASH(0xb3b63f8)') called at /home/c/perl5/perlbrew/perls/18.1i/lib/site_perl/5.18.1/i686-linux-thread-multi/Moose/Meta/Method/Delegation.pm line 99
	KiokuX::Model::directory('Text::Tradition::Directory=HASH(0xb3b63f8)') called at /home/c/.cpan/build/KiokuX-Model-0.02-7Q4j7Y/blib/lib/KiokuX/Model.pm line 16
	KiokuX::Model::BUILD('Text::Tradition::Directory=HASH(0xb3b63f8)', 'HASH(0xb49a730)') called at /home/c/perl5/perlbrew/perls/18.1i/lib/site_perl/5.18.1/i686-linux-thread-multi/Class/MOP/Method.pm line 131
	Class::MOP::Method::execute('Moose::Meta::Method=HASH(0xb4560f8)', 'Text::Tradition::Directory=HASH(0xb3b63f8)', 'HASH(0xb49a730)') called at /home/c/perl5/perlbrew/perls/18.1i/lib/site_perl/5.18.1/i686-linux-thread-multi/Moose/Object.pm line 59
	Moose::Object::BUILDALL('Text::Tradition::Directory=HASH(0xb3b63f8)', 'HASH(0xb49a730)') called at /home/c/perl5/perlbrew/perls/18.1i/lib/site_perl/5.18.1/i686-linux-thread-multi/Moose/Meta/Class.pm line 285
	Moose::Meta::Class::new_object('Moose::Meta::Class::__ANON__::SERIAL::31=HASH(0xac611c8)', 'HASH(0xb49a730)') called at /home/c/perl5/perlbrew/perls/18.1i/lib/site_perl/5.18.1/MooseX/StrictConstructor/Trait/Class.pm line 16
	Class::MOP::Class:::around('CODE(0x8e37de0)', 'Moose::Meta::Class::__ANON__::SERIAL::31=HASH(0xac611c8)', 'HASH(0xb49a730)') called at /home/c/perl5/perlbrew/perls/18.1i/lib/site_perl/5.18.1/i686-linux-thread-multi/Class/MOP/Method/Wrapped.pm line 166
	Class::MOP::Method::Wrapped::__ANON__('Moose::Meta::Class::__ANON__::SERIAL::31=HASH(0xac611c8)', 'HASH(0xb49a730)') called at /home/c/perl5/perlbrew/perls/18.1i/lib/site_perl/5.18.1/i686-linux-thread-multi/Class/MOP/Method/Wrapped.pm line 95
	Moose::Meta::Class::__ANON__::SERIAL::31::new_object('Moose::Meta::Class::__ANON__::SERIAL::31=HASH(0xac611c8)', 'HASH(0xb49a730)') called at /home/c/perl5/perlbrew/perls/18.1i/lib/site_perl/5.18.1/i686-linux-thread-multi/Moose/Object.pm line 30
	Moose::Object::new('Text::Tradition::Directory', 'dsn', 'dbi:SQLite:dbname=/tmp/WzwNFIZjcP', 'extra_args', 'HASH(0x9729210)') called at constructor KiokuX::Model::new (defined at /home/c/.cpan/build/KiokuX-Model-0.02-7Q4j7Y/blib/lib/KiokuX/Model.pm line 82) line 4
	KiokuX::Model::new('Text::Tradition::Directory', 'dsn', 'dbi:SQLite:dbname=/tmp/WzwNFIZjcP', 'extra_args', 'HASH(0x9729210)') called at t/text_tradition_directory.t line 31
Class::MOP::load_class is deprecated at /home/c/perl5/perlbrew/perls/18.1i/lib/site_perl/5.18.1/i686-linux-thread-multi/Class/MOP.pm line 76.
	Class::MOP::load_class('KiokuDB::Serializer::JSON') called at /home/c/perl5/perlbrew/perls/18.1i/lib/site_perl/5.18.1/KiokuDB/Backend/Serialize.pm line 27
	KiokuDB::Backend::Serialize::__ANON__('json') called at /home/c/perl5/perlbrew/perls/18.1i/lib/site_perl/5.18.1/i686-linux-thread-multi/Moose/Meta/TypeCoercion.pm line 71
	Moose::Meta::TypeCoercion::__ANON__('json') called at constructor KiokuDB::Backend::DBI::new (defined at /home/c/perl5/perlbrew/perls/18.1i/lib/site_perl/5.18.1/KiokuDB/Backend/DBI.pm line 1021) line 238
	KiokuDB::Backend::DBI::new('KiokuDB::Backend::DBI', 'dsn', 'dbi:SQLite:dbname=/tmp/WzwNFIZjcP', 'typemap', 'KiokuDB::TypeMap=HASH(0xb49ace0)', 'create', 1, 'columns', 'ARRAY(0xb4471b0)', ...) called at /home/c/perl5/perlbrew/perls/18.1i/lib/site_perl/5.18.1/KiokuDB/Backend/DBI.pm line 64
	KiokuDB::Backend::DBI::new_from_dsn('KiokuDB::Backend::DBI', 'SQLite:dbname=/tmp/WzwNFIZjcP', 'typemap', 'KiokuDB::TypeMap=HASH(0xb49ace0)', 'create', 1, 'columns', 'ARRAY(0xb4471b0)', 'resolver_constructor', ...) called at /home/c/perl5/perlbrew/perls/18.1i/lib/site_perl/5.18.1/KiokuDB/Util.pm line 60
	KiokuDB::Util::dsn_to_backend('dbi:SQLite:dbname=/tmp/WzwNFIZjcP', 'typemap', 'KiokuDB::TypeMap=HASH(0xb49ace0)', 'create', 1, 'columns', 'ARRAY(0xb4471b0)', 'resolver_constructor', 'CODE(0xb49aeb0)', ...) called at /home/c/perl5/perlbrew/perls/18.1i/lib/site_perl/5.18.1/KiokuDB.pm line 49
	KiokuDB::connect('Text::Tradition::Store', 'dbi:SQLite:dbname=/tmp/WzwNFIZjcP', 'typemap', 'KiokuDB::TypeMap=HASH(0xb49ace0)', 'create', 1, 'columns', 'ARRAY(0xb4471b0)', 'resolver_constructor', ...) called at /home/c/.cpan/build/Text-Tradition-Directory-1.2-loOBMR/blib/lib/Text/Tradition/Directory.pm line 306
	Text::Tradition::Directory::__ANON__('Text::Tradition::Directory=HASH(0xb3b63f8)') called at /home/c/perl5/perlbrew/perls/18.1i/lib/site_perl/5.18.1/i686-linux-thread-multi/Moose/Meta/Method/Overridden.pm line 43
	Text::Tradition::Directory::_build_directory('Text::Tradition::Directory=HASH(0xb3b63f8)') called at /home/c/perl5/perlbrew/perls/18.1i/lib/site_perl/5.18.1/i686-linux-thread-multi/Moose/Meta/Attribute.pm line 533
	Moose::Meta::Attribute::_call_builder('Moose::Meta::Attribute=HASH(0xb431a70)', 'Text::Tradition::Directory=HASH(0xb3b63f8)') called at /home/c/perl5/perlbrew/perls/18.1i/lib/site_perl/5.18.1/i686-linux-thread-multi/Moose/Meta/Attribute.pm line 814
	Moose::Meta::Attribute::get_value('Moose::Meta::Attribute=HASH(0xb431a70)', 'Text::Tradition::Directory=HASH(0xb3b63f8)') called at /home/c/perl5/perlbrew/perls/18.1i/lib/site_perl/5.18.1/i686-linux-thread-multi/Class/MOP/Attribute.pm line 218
	Class::MOP::Attribute::__ANON__('Text::Tradition::Directory=HASH(0xb3b63f8)') called at /home/c/perl5/perlbrew/perls/18.1i/lib/site_perl/5.18.1/i686-linux-thread-multi/Moose/Meta/Method/Delegation.pm line 99
	KiokuX::Model::directory('Text::Tradition::Directory=HASH(0xb3b63f8)') called at /home/c/.cpan/build/KiokuX-Model-0.02-7Q4j7Y/blib/lib/KiokuX/Model.pm line 16
	KiokuX::Model::BUILD('Text::Tradition::Directory=HASH(0xb3b63f8)', 'HASH(0xb49a730)') called at /home/c/perl5/perlbrew/perls/18.1i/lib/site_perl/5.18.1/i686-linux-thread-multi/Class/MOP/Method.pm line 131
	Class::MOP::Method::execute('Moose::Meta::Method=HASH(0xb4560f8)', 'Text::Tradition::Directory=HASH(0xb3b63f8)', 'HASH(0xb49a730)') called at /home/c/perl5/perlbrew/perls/18.1i/lib/site_perl/5.18.1/i686-linux-thread-multi/Moose/Object.pm line 59
	Moose::Object::BUILDALL('Text::Tradition::Directory=HASH(0xb3b63f8)', 'HASH(0xb49a730)') called at /home/c/perl5/perlbrew/perls/18.1i/lib/site_perl/5.18.1/i686-linux-thread-multi/Moose/Meta/Class.pm line 285
	Moose::Meta::Class::new_object('Moose::Meta::Class::__ANON__::SERIAL::31=HASH(0xac611c8)', 'HASH(0xb49a730)') called at /home/c/perl5/perlbrew/perls/18.1i/lib/site_perl/5.18.1/MooseX/StrictConstructor/Trait/Class.pm line 16
	Class::MOP::Class:::around('CODE(0x8e37de0)', 'Moose::Meta::Class::__ANON__::SERIAL::31=HASH(0xac611c8)', 'HASH(0xb49a730)') called at /home/c/perl5/perlbrew/perls/18.1i/lib/site_perl/5.18.1/i686-linux-thread-multi/Class/MOP/Method/Wrapped.pm line 166
	Class::MOP::Method::Wrapped::__ANON__('Moose::Meta::Class::__ANON__::SERIAL::31=HASH(0xac611c8)', 'HASH(0xb49a730)') called at /home/c/perl5/perlbrew/perls/18.1i/lib/site_perl/5.18.1/i686-linux-thread-multi/Class/MOP/Method/Wrapped.pm line 95
	Moose::Meta::Class::__ANON__::SERIAL::31::new_object('Moose::Meta::Class::__ANON__::SERIAL::31=HASH(0xac611c8)', 'HASH(0xb49a730)') called at /home/c/perl5/perlbrew/perls/18.1i/lib/site_perl/5.18.1/i686-linux-thread-multi/Moose/Object.pm line 30
	Moose::Object::new('Text::Tradition::Directory', 'dsn', 'dbi:SQLite:dbname=/tmp/WzwNFIZjcP', 'extra_args', 'HASH(0x9729210)') called at constructor KiokuX::Model::new (defined at /home/c/.cpan/build/KiokuX-Model-0.02-7Q4j7Y/blib/lib/KiokuX/Model.pm line 82) line 4
	KiokuX::Model::new('Text::Tradition::Directory', 'dsn', 'dbi:SQLite:dbname=/tmp/WzwNFIZjcP', 'extra_args', 'HASH(0x9729210)') called at t/text_tradition_directory.t line 31
Class::MOP::load_class is deprecated at /home/c/perl5/perlbrew/perls/18.1i/lib/site_perl/5.18.1/i686-linux-thread-multi/Class/MOP.pm line 76.
	Class::MOP::load_class('KiokuDB::TypeMap::Entry::Naive') called at /home/c/perl5/perlbrew/perls/18.1i/lib/site_perl/5.18.1/KiokuDB/TypeMap/Composite.pm line 78
	KiokuDB::TypeMap::Composite::_construct_entry('KiokuDB::TypeMap::Default::JSON=HASH(0xc2b97d0)', 'type', 'KiokuDB::TypeMap::Entry::Naive', 'intrinsic', 1, 'class', 'URI::WithBase') called at /home/c/perl5/perlbrew/perls/18.1i/lib/site_perl/5.18.1/KiokuDB/TypeMap/Composite.pm line 96
	KiokuDB::TypeMap::Composite::_create_entry('KiokuDB::TypeMap::Default::JSON=HASH(0xc2b97d0)', 'URI::WithBase', 'HASH(0xc2e1b78)') called at /home/c/perl5/perlbrew/perls/18.1i/lib/site_perl/5.18.1/KiokuDB/TypeMap/Composite.pm line 115
	KiokuDB::TypeMap::Composite::_create_entries('KiokuDB::TypeMap::Default::JSON=HASH(0xc2b97d0)', 'HASH(0xc2e1c28)') called at /home/c/perl5/perlbrew/perls/18.1i/lib/site_perl/5.18.1/KiokuDB/TypeMap/Composite.pm line 125
	KiokuDB::TypeMap::Composite::_create_typemap('KiokuDB::TypeMap::Default::JSON=HASH(0xc2b97d0)', 'isa_entries', 'HASH(0xc2e15e8)', 'entries', 'HASH(0xc2e1c28)') called at /home/c/perl5/perlbrew/perls/18.1i/lib/site_perl/5.18.1/KiokuDB/TypeMap/Default/Canonical.pm line 33
	KiokuDB::TypeMap::Default::Canonical::_build_uri_typemap('KiokuDB::TypeMap::Default::JSON=HASH(0xc2b97d0)') called at /home/c/perl5/perlbrew/perls/18.1i/lib/site_perl/5.18.1/i686-linux-thread-multi/Moose/Meta/Attribute.pm line 533
	Moose::Meta::Attribute::_call_builder('Moose::Meta::Class::__ANON__::SERIAL::32=HASH(0xbc28b30)', 'KiokuDB::TypeMap::Default::JSON=HASH(0xc2b97d0)') called at /home/c/perl5/perlbrew/perls/18.1i/lib/site_perl/5.18.1/i686-linux-thread-multi/Moose/Meta/Attribute.pm line 814
	Moose::Meta::Attribute::get_value('Moose::Meta::Class::__ANON__::SERIAL::32=HASH(0xbc28b30)', 'KiokuDB::TypeMap::Default::JSON=HASH(0xc2b97d0)') called at /home/c/perl5/perlbrew/perls/18.1i/lib/site_perl/5.18.1/KiokuDB/TypeMap/Composite.pm line 69
	KiokuDB::TypeMap::Composite::_build_includes('KiokuDB::TypeMap::Default::JSON=HASH(0xc2b97d0)') called at reader KiokuDB::TypeMap::includes (defined at /home/c/perl5/perlbrew/perls/18.1i/lib/site_perl/5.18.1/KiokuDB/TypeMap.pm line 42) line 7
	KiokuDB::TypeMap::includes('KiokuDB::TypeMap::Default::JSON=HASH(0xc2b97d0)') called at /home/c/perl5/perlbrew/perls/18.1i/lib/site_perl/5.18.1/KiokuDB/TypeMap.pm line 126
	KiokuDB::TypeMap::BUILD('KiokuDB::TypeMap::Default::JSON=HASH(0xc2b97d0)', 'HASH(0xc2ec168)') called at constructor KiokuDB::TypeMap::Default::JSON::new (defined at /home/c/perl5/perlbrew/perls/18.1i/lib/site_perl/5.18.1/KiokuDB/TypeMap/Default/JSON.pm line 52) line 153
	KiokuDB::TypeMap::Default::JSON::new('KiokuDB::TypeMap::Default::JSON') called at /home/c/perl5/perlbrew/perls/18.1i/lib/site_perl/5.18.1/KiokuDB/Backend/TypeMap/Default/JSON.pm line 18
	KiokuDB::Backend::TypeMap::Default::JSON::_build_default_typemap('KiokuDB::Serializer::JSON=HASH(0xb4b1e48)') called at reader KiokuDB::Serializer::JSON::default_typemap (defined at /home/c/perl5/perlbrew/perls/18.1i/lib/site_perl/5.18.1/KiokuDB/Backend/TypeMap/Default.pm line 13) line 7
	KiokuDB::Serializer::JSON::default_typemap('KiokuDB::Serializer::JSON=HASH(0xb4b1e48)') called at /home/c/perl5/perlbrew/perls/18.1i/lib/site_perl/5.18.1/KiokuDB.pm line 100
	KiokuDB::_find_default_typemaps('Text::Tradition::Store=HASH(0xbe69378)') called at /home/c/perl5/perlbrew/perls/18.1i/lib/site_perl/5.18.1/KiokuDB.pm line 137
	KiokuDB::_build_merged_typemap('Text::Tradition::Store=HASH(0xbe69378)') called at reader KiokuDB::merged_typemap (defined at /home/c/perl5/perlbrew/perls/18.1i/lib/site_perl/5.18.1/KiokuDB.pm line 83) line 7
	KiokuDB::merged_typemap('Text::Tradition::Store=HASH(0xbe69378)') called at /home/c/.cpan/build/Text-Tradition-Directory-1.2-loOBMR/blib/lib/Text/Tradition/Directory.pm line 304
	Text::Tradition::Directory::__ANON__('KiokuDB::TypeMap::Resolver') called at /home/c/.cpan/build/Text-Tradition-Directory-1.2-loOBMR/blib/lib/Text/Tradition/Store.pm line 16
	Text::Tradition::Store::__ANON__('Text::Tradition::Store=HASH(0xbe69378)') called at /home/c/perl5/perlbrew/perls/18.1i/lib/site_perl/5.18.1/i686-linux-thread-multi/Moose/Meta/Method/Overridden.pm line 43
	Text::Tradition::Store::_build_typemap_resolver('Text::Tradition::Store=HASH(0xbe69378)') called at reader KiokuDB::typemap_resolver (defined at /home/c/perl5/perlbrew/perls/18.1i/lib/site_perl/5.18.1/KiokuDB.pm line 160) line 7
	KiokuDB::typemap_resolver('Text::Tradition::Store=HASH(0xbe69378)') called at /home/c/perl5/perlbrew/perls/18.1i/lib/site_perl/5.18.1/KiokuDB.pm line 207
	KiokuDB::_build_collapser('Text::Tradition::Store=HASH(0xbe69378)') called at reader KiokuDB::collapser (defined at /home/c/perl5/perlbrew/perls/18.1i/lib/site_perl/5.18.1/KiokuDB.pm line 198) line 7
	KiokuDB::collapser('Text::Tradition::Store=HASH(0xbe69378)') called at /home/c/perl5/perlbrew/perls/18.1i/lib/site_perl/5.18.1/KiokuDB.pm line 575
	KiokuDB::store_objects('Text::Tradition::Store=HASH(0xbe69378)', 'root_set', 1, 'objects', 'ARRAY(0xb35f100)') called at /home/c/perl5/perlbrew/perls/18.1i/lib/site_perl/5.18.1/KiokuDB.pm line 470
	KiokuDB::_store('Text::Tradition::Store=HASH(0xbe69378)', 1, 'Text::Tradition=HASH(0xae995c0)') called at /home/c/perl5/perlbrew/perls/18.1i/lib/site_perl/5.18.1/KiokuDB.pm line 473
	KiokuDB::store('Text::Tradition::Store=HASH(0xbe69378)', 'Text::Tradition=HASH(0xae995c0)') called at /home/c/perl5/perlbrew/perls/18.1i/lib/site_perl/5.18.1/i686-linux-thread-multi/Moose/Meta/Method/Delegation.pm line 116
	KiokuX::Model::store('Text::Tradition::Directory=HASH(0xb3b63f8)', 'Text::Tradition=HASH(0xae995c0)') called at /home/c/.cpan/build/Text-Tradition-Directory-1.2-loOBMR/blib/lib/Text/Tradition/Directory.pm line 341
	Text::Tradition::Directory::save('Text::Tradition::Directory=HASH(0xb3b63f8)', 'Text::Tradition=HASH(0xae995c0)') called at t/text_tradition_directory.t line 36
Class::MOP::load_class is deprecated at /home/c/perl5/perlbrew/perls/18.1i/lib/site_perl/5.18.1/i686-linux-thread-multi/Class/MOP.pm line 76.
	Class::MOP::load_class('Authen::Passphrase::SaltedDigest') called at /home/c/.cpan/build/KiokuX-User-0.02-ZpoTEi/blib/lib/KiokuX/User/Util.pm line 35
	KiokuX::User::Util::crypt_password('UserPass') called at /home/c/.cpan/build/Text-Tradition-Directory-1.2-loOBMR/blib/lib/Text/Tradition/Directory.pm line 448
	Text::Tradition::Directory::add_user('Text::Tradition::Directory=HASH(0xb3b63f8)', 'HASH(0xbd1e6e0)') called at t/text_tradition_directory.t line 40
t/text_tradition_directory.t ...... ok
Class::MOP::load_class is deprecated at /home/c/perl5/perlbrew/perls/18.1i/lib/site_perl/5.18.1/i686-linux-thread-multi/Class/MOP.pm line 76, <DATA> line 41.
	Class::MOP::load_class('KiokuDB::Backend::DBI') called at /home/c/perl5/perlbrew/perls/18.1i/lib/site_perl/5.18.1/KiokuDB/Util.pm line 59
	KiokuDB::Util::dsn_to_backend('dbi:SQLite:dbname=/tmp/qylZ_VKx1X', 'typemap', 'KiokuDB::TypeMap=HASH(0xb2cf768)', 'create', 1, 'columns', 'ARRAY(0xb3941c0)', 'resolver_constructor', 'CODE(0xb589090)', ...) called at /home/c/perl5/perlbrew/perls/18.1i/lib/site_perl/5.18.1/KiokuDB.pm line 49
	KiokuDB::connect('Text::Tradition::Store', 'dbi:SQLite:dbname=/tmp/qylZ_VKx1X', 'typemap', 'KiokuDB::TypeMap=HASH(0xb2cf768)', 'create', 1, 'columns', 'ARRAY(0xb3941c0)', 'resolver_constructor', ...) called at /home/c/.cpan/build/Text-Tradition-Directory-1.2-loOBMR/blib/lib/Text/Tradition/Directory.pm line 306
	Text::Tradition::Directory::__ANON__('Text::Tradition::Directory=HASH(0xb25ca30)') called at /home/c/perl5/perlbrew/perls/18.1i/lib/site_perl/5.18.1/i686-linux-thread-multi/Moose/Meta/Method/Overridden.pm line 43
	Text::Tradition::Directory::_build_directory('Text::Tradition::Directory=HASH(0xb25ca30)') called at /home/c/perl5/perlbrew/perls/18.1i/lib/site_perl/5.18.1/i686-linux-thread-multi/Moose/Meta/Attribute.pm line 533
	Moose::Meta::Attribute::_call_builder('Moose::Meta::Attribute=HASH(0xba5d868)', 'Text::Tradition::Directory=HASH(0xb25ca30)') called at /home/c/perl5/perlbrew/perls/18.1i/lib/site_perl/5.18.1/i686-linux-thread-multi/Moose/Meta/Attribute.pm line 814
	Moose::Meta::Attribute::get_value('Moose::Meta::Attribute=HASH(0xba5d868)', 'Text::Tradition::Directory=HASH(0xb25ca30)') called at /home/c/perl5/perlbrew/perls/18.1i/lib/site_perl/5.18.1/i686-linux-thread-multi/Class/MOP/Attribute.pm line 218
	Class::MOP::Attribute::__ANON__('Text::Tradition::Directory=HASH(0xb25ca30)') called at /home/c/perl5/perlbrew/perls/18.1i/lib/site_perl/5.18.1/i686-linux-thread-multi/Moose/Meta/Method/Delegation.pm line 99
	KiokuX::Model::directory('Text::Tradition::Directory=HASH(0xb25ca30)') called at /home/c/.cpan/build/KiokuX-Model-0.02-7Q4j7Y/blib/lib/KiokuX/Model.pm line 16
	KiokuX::Model::BUILD('Text::Tradition::Directory=HASH(0xb25ca30)', 'HASH(0xb37e100)') called at /home/c/perl5/perlbrew/perls/18.1i/lib/site_perl/5.18.1/i686-linux-thread-multi/Class/MOP/Method.pm line 131
	Class::MOP::Method::execute('Moose::Meta::Method=HASH(0xba8d600)', 'Text::Tradition::Directory=HASH(0xb25ca30)', 'HASH(0xb37e100)') called at /home/c/perl5/perlbrew/perls/18.1i/lib/site_perl/5.18.1/i686-linux-thread-multi/Moose/Object.pm line 59
	Moose::Object::BUILDALL('Text::Tradition::Directory=HASH(0xb25ca30)', 'HASH(0xb37e100)') called at /home/c/perl5/perlbrew/perls/18.1i/lib/site_perl/5.18.1/i686-linux-thread-multi/Moose/Meta/Class.pm line 285
	Moose::Meta::Class::new_object('Moose::Meta::Class::__ANON__::SERIAL::31=HASH(0xb2a2868)', 'HASH(0xb37e100)') called at /home/c/perl5/perlbrew/perls/18.1i/lib/site_perl/5.18.1/MooseX/StrictConstructor/Trait/Class.pm line 16
	Class::MOP::Class:::around('CODE(0x959bc28)', 'Moose::Meta::Class::__ANON__::SERIAL::31=HASH(0xb2a2868)', 'HASH(0xb37e100)') called at /home/c/perl5/perlbrew/perls/18.1i/lib/site_perl/5.18.1/i686-linux-thread-multi/Class/MOP/Method/Wrapped.pm line 166
	Class::MOP::Method::Wrapped::__ANON__('Moose::Meta::Class::__ANON__::SERIAL::31=HASH(0xb2a2868)', 'HASH(0xb37e100)') called at /home/c/perl5/perlbrew/perls/18.1i/lib/site_perl/5.18.1/i686-linux-thread-multi/Class/MOP/Method/Wrapped.pm line 95
	Moose::Meta::Class::__ANON__::SERIAL::31::new_object('Moose::Meta::Class::__ANON__::SERIAL::31=HASH(0xb2a2868)', 'HASH(0xb37e100)') called at /home/c/perl5/perlbrew/perls/18.1i/lib/site_perl/5.18.1/i686-linux-thread-multi/Moose/Object.pm line 30
	Moose::Object::new('Text::Tradition::Directory', 'dsn', 'dbi:SQLite:dbname=/tmp/qylZ_VKx1X', 'extra_args', 'HASH(0x919dd80)') called at constructor KiokuX::Model::new (defined at /home/c/.cpan/build/KiokuX-Model-0.02-7Q4j7Y/blib/lib/KiokuX/Model.pm line 82) line 4
	KiokuX::Model::new('Text::Tradition::Directory', 'dsn', 'dbi:SQLite:dbname=/tmp/qylZ_VKx1X', 'extra_args', 'HASH(0x919dd80)') called at t/text_tradition_user.t line 17
Class::MOP::load_class is deprecated at /home/c/perl5/perlbrew/perls/18.1i/lib/site_perl/5.18.1/i686-linux-thread-multi/Class/MOP.pm line 76, <DATA> line 41.
	Class::MOP::load_class('KiokuDB::Backend::DBI::Schema') called at /home/c/perl5/perlbrew/perls/18.1i/lib/site_perl/5.18.1/KiokuDB/Backend/DBI.pm line 57
	KiokuDB::Backend::DBI::__ANON__('KiokuDB::Backend::DBI::Schema') called at /home/c/perl5/perlbrew/perls/18.1i/lib/site_perl/5.18.1/i686-linux-thread-multi/Moose/Meta/TypeConstraint.pm line 331
	KiokuDB::Backend::DBI::SchemaProto('KiokuDB::Backend::DBI::Schema') called at constructor KiokuDB::Backend::DBI::new (defined at /home/c/perl5/perlbrew/perls/18.1i/lib/site_perl/5.18.1/KiokuDB/Backend/DBI.pm line 1021) line 65
	KiokuDB::Backend::DBI::new('KiokuDB::Backend::DBI', 'dsn', 'dbi:SQLite:dbname=/tmp/qylZ_VKx1X', 'typemap', 'KiokuDB::TypeMap=HASH(0xb2cf768)', 'create', 1, 'columns', 'ARRAY(0xb3941c0)', ...) called at /home/c/perl5/perlbrew/perls/18.1i/lib/site_perl/5.18.1/KiokuDB/Backend/DBI.pm line 64
	KiokuDB::Backend::DBI::new_from_dsn('KiokuDB::Backend::DBI', 'SQLite:dbname=/tmp/qylZ_VKx1X', 'typemap', 'KiokuDB::TypeMap=HASH(0xb2cf768)', 'create', 1, 'columns', 'ARRAY(0xb3941c0)', 'resolver_constructor', ...) called at /home/c/perl5/perlbrew/perls/18.1i/lib/site_perl/5.18.1/KiokuDB/Util.pm line 60
	KiokuDB::Util::dsn_to_backend('dbi:SQLite:dbname=/tmp/qylZ_VKx1X', 'typemap', 'KiokuDB::TypeMap=HASH(0xb2cf768)', 'create', 1, 'columns', 'ARRAY(0xb3941c0)', 'resolver_constructor', 'CODE(0xb589090)', ...) called at /home/c/perl5/perlbrew/perls/18.1i/lib/site_perl/5.18.1/KiokuDB.pm line 49
	KiokuDB::connect('Text::Tradition::Store', 'dbi:SQLite:dbname=/tmp/qylZ_VKx1X', 'typemap', 'KiokuDB::TypeMap=HASH(0xb2cf768)', 'create', 1, 'columns', 'ARRAY(0xb3941c0)', 'resolver_constructor', ...) called at /home/c/.cpan/build/Text-Tradition-Directory-1.2-loOBMR/blib/lib/Text/Tradition/Directory.pm line 306
	Text::Tradition::Directory::__ANON__('Text::Tradition::Directory=HASH(0xb25ca30)') called at /home/c/perl5/perlbrew/perls/18.1i/lib/site_perl/5.18.1/i686-linux-thread-multi/Moose/Meta/Method/Overridden.pm line 43
	Text::Tradition::Directory::_build_directory('Text::Tradition::Directory=HASH(0xb25ca30)') called at /home/c/perl5/perlbrew/perls/18.1i/lib/site_perl/5.18.1/i686-linux-thread-multi/Moose/Meta/Attribute.pm line 533
	Moose::Meta::Attribute::_call_builder('Moose::Meta::Attribute=HASH(0xba5d868)', 'Text::Tradition::Directory=HASH(0xb25ca30)') called at /home/c/perl5/perlbrew/perls/18.1i/lib/site_perl/5.18.1/i686-linux-thread-multi/Moose/Meta/Attribute.pm line 814
	Moose::Meta::Attribute::get_value('Moose::Meta::Attribute=HASH(0xba5d868)', 'Text::Tradition::Directory=HASH(0xb25ca30)') called at /home/c/perl5/perlbrew/perls/18.1i/lib/site_perl/5.18.1/i686-linux-thread-multi/Class/MOP/Attribute.pm line 218
	Class::MOP::Attribute::__ANON__('Text::Tradition::Directory=HASH(0xb25ca30)') called at /home/c/perl5/perlbrew/perls/18.1i/lib/site_perl/5.18.1/i686-linux-thread-multi/Moose/Meta/Method/Delegation.pm line 99
	KiokuX::Model::directory('Text::Tradition::Directory=HASH(0xb25ca30)') called at /home/c/.cpan/build/KiokuX-Model-0.02-7Q4j7Y/blib/lib/KiokuX/Model.pm line 16
	KiokuX::Model::BUILD('Text::Tradition::Directory=HASH(0xb25ca30)', 'HASH(0xb37e100)') called at /home/c/perl5/perlbrew/perls/18.1i/lib/site_perl/5.18.1/i686-linux-thread-multi/Class/MOP/Method.pm line 131
	Class::MOP::Method::execute('Moose::Meta::Method=HASH(0xba8d600)', 'Text::Tradition::Directory=HASH(0xb25ca30)', 'HASH(0xb37e100)') called at /home/c/perl5/perlbrew/perls/18.1i/lib/site_perl/5.18.1/i686-linux-thread-multi/Moose/Object.pm line 59
	Moose::Object::BUILDALL('Text::Tradition::Directory=HASH(0xb25ca30)', 'HASH(0xb37e100)') called at /home/c/perl5/perlbrew/perls/18.1i/lib/site_perl/5.18.1/i686-linux-thread-multi/Moose/Meta/Class.pm line 285
	Moose::Meta::Class::new_object('Moose::Meta::Class::__ANON__::SERIAL::31=HASH(0xb2a2868)', 'HASH(0xb37e100)') called at /home/c/perl5/perlbrew/perls/18.1i/lib/site_perl/5.18.1/MooseX/StrictConstructor/Trait/Class.pm line 16
	Class::MOP::Class:::around('CODE(0x959bc28)', 'Moose::Meta::Class::__ANON__::SERIAL::31=HASH(0xb2a2868)', 'HASH(0xb37e100)') called at /home/c/perl5/perlbrew/perls/18.1i/lib/site_perl/5.18.1/i686-linux-thread-multi/Class/MOP/Method/Wrapped.pm line 166
	Class::MOP::Method::Wrapped::__ANON__('Moose::Meta::Class::__ANON__::SERIAL::31=HASH(0xb2a2868)', 'HASH(0xb37e100)') called at /home/c/perl5/perlbrew/perls/18.1i/lib/site_perl/5.18.1/i686-linux-thread-multi/Class/MOP/Method/Wrapped.pm line 95
	Moose::Meta::Class::__ANON__::SERIAL::31::new_object('Moose::Meta::Class::__ANON__::SERIAL::31=HASH(0xb2a2868)', 'HASH(0xb37e100)') called at /home/c/perl5/perlbrew/perls/18.1i/lib/site_perl/5.18.1/i686-linux-thread-multi/Moose/Object.pm line 30
	Moose::Object::new('Text::Tradition::Directory', 'dsn', 'dbi:SQLite:dbname=/tmp/qylZ_VKx1X', 'extra_args', 'HASH(0x919dd80)') called at constructor KiokuX::Model::new (defined at /home/c/.cpan/build/KiokuX-Model-0.02-7Q4j7Y/blib/lib/KiokuX/Model.pm line 82) line 4
	KiokuX::Model::new('Text::Tradition::Directory', 'dsn', 'dbi:SQLite:dbname=/tmp/qylZ_VKx1X', 'extra_args', 'HASH(0x919dd80)') called at t/text_tradition_user.t line 17
Class::MOP::load_class is deprecated at /home/c/perl5/perlbrew/perls/18.1i/lib/site_perl/5.18.1/i686-linux-thread-multi/Class/MOP.pm line 76, <DATA> line 41.
	Class::MOP::load_class('KiokuDB::Serializer::JSON') called at /home/c/perl5/perlbrew/perls/18.1i/lib/site_perl/5.18.1/KiokuDB/Backend/Serialize.pm line 27
	KiokuDB::Backend::Serialize::__ANON__('json') called at /home/c/perl5/perlbrew/perls/18.1i/lib/site_perl/5.18.1/i686-linux-thread-multi/Moose/Meta/TypeCoercion.pm line 71
	Moose::Meta::TypeCoercion::__ANON__('json') called at constructor KiokuDB::Backend::DBI::new (defined at /home/c/perl5/perlbrew/perls/18.1i/lib/site_perl/5.18.1/KiokuDB/Backend/DBI.pm line 1021) line 238
	KiokuDB::Backend::DBI::new('KiokuDB::Backend::DBI', 'dsn', 'dbi:SQLite:dbname=/tmp/qylZ_VKx1X', 'typemap', 'KiokuDB::TypeMap=HASH(0xb2cf768)', 'create', 1, 'columns', 'ARRAY(0xb3941c0)', ...) called at /home/c/perl5/perlbrew/perls/18.1i/lib/site_perl/5.18.1/KiokuDB/Backend/DBI.pm line 64
	KiokuDB::Backend::DBI::new_from_dsn('KiokuDB::Backend::DBI', 'SQLite:dbname=/tmp/qylZ_VKx1X', 'typemap', 'KiokuDB::TypeMap=HASH(0xb2cf768)', 'create', 1, 'columns', 'ARRAY(0xb3941c0)', 'resolver_constructor', ...) called at /home/c/perl5/perlbrew/perls/18.1i/lib/site_perl/5.18.1/KiokuDB/Util.pm line 60
	KiokuDB::Util::dsn_to_backend('dbi:SQLite:dbname=/tmp/qylZ_VKx1X', 'typemap', 'KiokuDB::TypeMap=HASH(0xb2cf768)', 'create', 1, 'columns', 'ARRAY(0xb3941c0)', 'resolver_constructor', 'CODE(0xb589090)', ...) called at /home/c/perl5/perlbrew/perls/18.1i/lib/site_perl/5.18.1/KiokuDB.pm line 49
	KiokuDB::connect('Text::Tradition::Store', 'dbi:SQLite:dbname=/tmp/qylZ_VKx1X', 'typemap', 'KiokuDB::TypeMap=HASH(0xb2cf768)', 'create', 1, 'columns', 'ARRAY(0xb3941c0)', 'resolver_constructor', ...) called at /home/c/.cpan/build/Text-Tradition-Directory-1.2-loOBMR/blib/lib/Text/Tradition/Directory.pm line 306
	Text::Tradition::Directory::__ANON__('Text::Tradition::Directory=HASH(0xb25ca30)') called at /home/c/perl5/perlbrew/perls/18.1i/lib/site_perl/5.18.1/i686-linux-thread-multi/Moose/Meta/Method/Overridden.pm line 43
	Text::Tradition::Directory::_build_directory('Text::Tradition::Directory=HASH(0xb25ca30)') called at /home/c/perl5/perlbrew/perls/18.1i/lib/site_perl/5.18.1/i686-linux-thread-multi/Moose/Meta/Attribute.pm line 533
	Moose::Meta::Attribute::_call_builder('Moose::Meta::Attribute=HASH(0xba5d868)', 'Text::Tradition::Directory=HASH(0xb25ca30)') called at /home/c/perl5/perlbrew/perls/18.1i/lib/site_perl/5.18.1/i686-linux-thread-multi/Moose/Meta/Attribute.pm line 814
	Moose::Meta::Attribute::get_value('Moose::Meta::Attribute=HASH(0xba5d868)', 'Text::Tradition::Directory=HASH(0xb25ca30)') called at /home/c/perl5/perlbrew/perls/18.1i/lib/site_perl/5.18.1/i686-linux-thread-multi/Class/MOP/Attribute.pm line 218
	Class::MOP::Attribute::__ANON__('Text::Tradition::Directory=HASH(0xb25ca30)') called at /home/c/perl5/perlbrew/perls/18.1i/lib/site_perl/5.18.1/i686-linux-thread-multi/Moose/Meta/Method/Delegation.pm line 99
	KiokuX::Model::directory('Text::Tradition::Directory=HASH(0xb25ca30)') called at /home/c/.cpan/build/KiokuX-Model-0.02-7Q4j7Y/blib/lib/KiokuX/Model.pm line 16
	KiokuX::Model::BUILD('Text::Tradition::Directory=HASH(0xb25ca30)', 'HASH(0xb37e100)') called at /home/c/perl5/perlbrew/perls/18.1i/lib/site_perl/5.18.1/i686-linux-thread-multi/Class/MOP/Method.pm line 131
	Class::MOP::Method::execute('Moose::Meta::Method=HASH(0xba8d600)', 'Text::Tradition::Directory=HASH(0xb25ca30)', 'HASH(0xb37e100)') called at /home/c/perl5/perlbrew/perls/18.1i/lib/site_perl/5.18.1/i686-linux-thread-multi/Moose/Object.pm line 59
	Moose::Object::BUILDALL('Text::Tradition::Directory=HASH(0xb25ca30)', 'HASH(0xb37e100)') called at /home/c/perl5/perlbrew/perls/18.1i/lib/site_perl/5.18.1/i686-linux-thread-multi/Moose/Meta/Class.pm line 285
	Moose::Meta::Class::new_object('Moose::Meta::Class::__ANON__::SERIAL::31=HASH(0xb2a2868)', 'HASH(0xb37e100)') called at /home/c/perl5/perlbrew/perls/18.1i/lib/site_perl/5.18.1/MooseX/StrictConstructor/Trait/Class.pm line 16
	Class::MOP::Class:::around('CODE(0x959bc28)', 'Moose::Meta::Class::__ANON__::SERIAL::31=HASH(0xb2a2868)', 'HASH(0xb37e100)') called at /home/c/perl5/perlbrew/perls/18.1i/lib/site_perl/5.18.1/i686-linux-thread-multi/Class/MOP/Method/Wrapped.pm line 166
	Class::MOP::Method::Wrapped::__ANON__('Moose::Meta::Class::__ANON__::SERIAL::31=HASH(0xb2a2868)', 'HASH(0xb37e100)') called at /home/c/perl5/perlbrew/perls/18.1i/lib/site_perl/5.18.1/i686-linux-thread-multi/Class/MOP/Method/Wrapped.pm line 95
	Moose::Meta::Class::__ANON__::SERIAL::31::new_object('Moose::Meta::Class::__ANON__::SERIAL::31=HASH(0xb2a2868)', 'HASH(0xb37e100)') called at /home/c/perl5/perlbrew/perls/18.1i/lib/site_perl/5.18.1/i686-linux-thread-multi/Moose/Object.pm line 30
	Moose::Object::new('Text::Tradition::Directory', 'dsn', 'dbi:SQLite:dbname=/tmp/qylZ_VKx1X', 'extra_args', 'HASH(0x919dd80)') called at constructor KiokuX::Model::new (defined at /home/c/.cpan/build/KiokuX-Model-0.02-7Q4j7Y/blib/lib/KiokuX/Model.pm line 82) line 4
	KiokuX::Model::new('Text::Tradition::Directory', 'dsn', 'dbi:SQLite:dbname=/tmp/qylZ_VKx1X', 'extra_args', 'HASH(0x919dd80)') called at t/text_tradition_user.t line 17
Class::MOP::load_class is deprecated at /home/c/perl5/perlbrew/perls/18.1i/lib/site_perl/5.18.1/i686-linux-thread-multi/Class/MOP.pm line 76, <DATA> line 41.
	Class::MOP::load_class('Authen::Passphrase::SaltedDigest') called at /home/c/.cpan/build/KiokuX-User-0.02-ZpoTEi/blib/lib/KiokuX/User/Util.pm line 35
	KiokuX::User::Util::crypt_password('bloggspass') called at /home/c/.cpan/build/Text-Tradition-Directory-1.2-loOBMR/blib/lib/Text/Tradition/Directory.pm line 448
	Text::Tradition::Directory::add_user('Text::Tradition::Directory=HASH(0xb25ca30)', 'HASH(0xb7b6308)') called at t/text_tradition_user.t line 35
Class::MOP::load_class is deprecated at /home/c/perl5/perlbrew/perls/18.1i/lib/site_perl/5.18.1/i686-linux-thread-multi/Class/MOP.pm line 76.
	Class::MOP::load_class('KiokuDB::TypeMap::Entry::Naive') called at /home/c/perl5/perlbrew/perls/18.1i/lib/site_perl/5.18.1/KiokuDB/TypeMap/Composite.pm line 78
	KiokuDB::TypeMap::Composite::_construct_entry('KiokuDB::TypeMap::Default::JSON=HASH(0xc9b0b80)', 'intrinsic', 1, 'type', 'KiokuDB::TypeMap::Entry::Naive', 'class', 'DateTime::Duration') called at /home/c/perl5/perlbrew/perls/18.1i/lib/site_perl/5.18.1/KiokuDB/TypeMap/Composite.pm line 96
	KiokuDB::TypeMap::Composite::_create_entry('KiokuDB::TypeMap::Default::JSON=HASH(0xc9b0b80)', 'DateTime::Duration', 'HASH(0xc98a2f0)') called at /home/c/perl5/perlbrew/perls/18.1i/lib/site_perl/5.18.1/KiokuDB/TypeMap/Composite.pm line 115
	KiokuDB::TypeMap::Composite::_create_entries('KiokuDB::TypeMap::Default::JSON=HASH(0xc9b0b80)', 'HASH(0xc98a2d0)') called at /home/c/perl5/perlbrew/perls/18.1i/lib/site_perl/5.18.1/KiokuDB/TypeMap/Composite.pm line 125
	KiokuDB::TypeMap::Composite::_create_typemap('KiokuDB::TypeMap::Default::JSON=HASH(0xc9b0b80)', 'isa_entries', 'HASH(0xc98a2d0)') called at /home/c/perl5/perlbrew/perls/18.1i/lib/site_perl/5.18.1/KiokuDB/TypeMap/Default/Canonical.pm line 63
	KiokuDB::TypeMap::Default::Canonical::_build_datetime_typemap('KiokuDB::TypeMap::Default::JSON=HASH(0xc9b0b80)') called at /home/c/perl5/perlbrew/perls/18.1i/lib/site_perl/5.18.1/i686-linux-thread-multi/Moose/Meta/Attribute.pm line 533
	Moose::Meta::Attribute::_call_builder('Moose::Meta::Class::__ANON__::SERIAL::32=HASH(0xc1f9958)', 'KiokuDB::TypeMap::Default::JSON=HASH(0xc9b0b80)') called at /home/c/perl5/perlbrew/perls/18.1i/lib/site_perl/5.18.1/i686-linux-thread-multi/Moose/Meta/Attribute.pm line 814
	Moose::Meta::Attribute::get_value('Moose::Meta::Class::__ANON__::SERIAL::32=HASH(0xc1f9958)', 'KiokuDB::TypeMap::Default::JSON=HASH(0xc9b0b80)') called at /home/c/perl5/perlbrew/perls/18.1i/lib/site_perl/5.18.1/KiokuDB/TypeMap/Composite.pm line 69
	KiokuDB::TypeMap::Composite::_build_includes('KiokuDB::TypeMap::Default::JSON=HASH(0xc9b0b80)') called at reader KiokuDB::TypeMap::includes (defined at /home/c/perl5/perlbrew/perls/18.1i/lib/site_perl/5.18.1/KiokuDB/TypeMap.pm line 42) line 7
	KiokuDB::TypeMap::includes('KiokuDB::TypeMap::Default::JSON=HASH(0xc9b0b80)') called at /home/c/perl5/perlbrew/perls/18.1i/lib/site_perl/5.18.1/KiokuDB/TypeMap.pm line 126
	KiokuDB::TypeMap::BUILD('KiokuDB::TypeMap::Default::JSON=HASH(0xc9b0b80)', 'HASH(0xc9b0bf0)') called at constructor KiokuDB::TypeMap::Default::JSON::new (defined at /home/c/perl5/perlbrew/perls/18.1i/lib/site_perl/5.18.1/KiokuDB/TypeMap/Default/JSON.pm line 52) line 153
	KiokuDB::TypeMap::Default::JSON::new('KiokuDB::TypeMap::Default::JSON') called at /home/c/perl5/perlbrew/perls/18.1i/lib/site_perl/5.18.1/KiokuDB/Backend/TypeMap/Default/JSON.pm line 18
	KiokuDB::Backend::TypeMap::Default::JSON::_build_default_typemap('KiokuDB::Serializer::JSON=HASH(0xbb7ed78)') called at reader KiokuDB::Serializer::JSON::default_typemap (defined at /home/c/perl5/perlbrew/perls/18.1i/lib/site_perl/5.18.1/KiokuDB/Backend/TypeMap/Default.pm line 13) line 7
	KiokuDB::Serializer::JSON::default_typemap('KiokuDB::Serializer::JSON=HASH(0xbb7ed78)') called at /home/c/perl5/perlbrew/perls/18.1i/lib/site_perl/5.18.1/KiokuDB.pm line 100
	KiokuDB::_find_default_typemaps('Text::Tradition::Store=HASH(0xc45eda0)') called at /home/c/perl5/perlbrew/perls/18.1i/lib/site_perl/5.18.1/KiokuDB.pm line 137
	KiokuDB::_build_merged_typemap('Text::Tradition::Store=HASH(0xc45eda0)') called at reader KiokuDB::merged_typemap (defined at /home/c/perl5/perlbrew/perls/18.1i/lib/site_perl/5.18.1/KiokuDB.pm line 83) line 7
	KiokuDB::merged_typemap('Text::Tradition::Store=HASH(0xc45eda0)') called at /home/c/.cpan/build/Text-Tradition-Directory-1.2-loOBMR/blib/lib/Text/Tradition/Directory.pm line 304
	Text::Tradition::Directory::__ANON__('KiokuDB::TypeMap::Resolver') called at /home/c/.cpan/build/Text-Tradition-Directory-1.2-loOBMR/blib/lib/Text/Tradition/Store.pm line 16
	Text::Tradition::Store::__ANON__('Text::Tradition::Store=HASH(0xc45eda0)') called at /home/c/perl5/perlbrew/perls/18.1i/lib/site_perl/5.18.1/i686-linux-thread-multi/Moose/Meta/Method/Overridden.pm line 43
	Text::Tradition::Store::_build_typemap_resolver('Text::Tradition::Store=HASH(0xc45eda0)') called at reader KiokuDB::typemap_resolver (defined at /home/c/perl5/perlbrew/perls/18.1i/lib/site_perl/5.18.1/KiokuDB.pm line 160) line 7
	KiokuDB::typemap_resolver('Text::Tradition::Store=HASH(0xc45eda0)') called at /home/c/perl5/perlbrew/perls/18.1i/lib/site_perl/5.18.1/KiokuDB.pm line 207
	KiokuDB::_build_collapser('Text::Tradition::Store=HASH(0xc45eda0)') called at reader KiokuDB::collapser (defined at /home/c/perl5/perlbrew/perls/18.1i/lib/site_perl/5.18.1/KiokuDB.pm line 198) line 7
	KiokuDB::collapser('Text::Tradition::Store=HASH(0xc45eda0)') called at /home/c/perl5/perlbrew/perls/18.1i/lib/site_perl/5.18.1/KiokuDB.pm line 575
	KiokuDB::store_objects('Text::Tradition::Store=HASH(0xc45eda0)', 'root_set', 1, 'objects', 'ARRAY(0xb9a0010)') called at /home/c/perl5/perlbrew/perls/18.1i/lib/site_perl/5.18.1/KiokuDB.pm line 470
	KiokuDB::_store('Text::Tradition::Store=HASH(0xc45eda0)', 1, 'user:fred', 'Text::Tradition::User=HASH(0xc8d5b30)') called at /home/c/perl5/perlbrew/perls/18.1i/lib/site_perl/5.18.1/KiokuDB.pm line 473
	KiokuDB::store('Text::Tradition::Store=HASH(0xc45eda0)', 'user:fred', 'Text::Tradition::User=HASH(0xc8d5b30)') called at /home/c/perl5/perlbrew/perls/18.1i/lib/site_perl/5.18.1/i686-linux-thread-multi/Moose/Meta/Method/Delegation.pm line 116
	KiokuX::Model::store('Text::Tradition::Directory=HASH(0xb25ca30)', 'user:fred', 'Text::Tradition::User=HASH(0xc8d5b30)') called at /home/c/.cpan/build/Text-Tradition-Directory-1.2-loOBMR/blib/lib/Text/Tradition/Directory.pm line 455
	Text::Tradition::Directory::add_user('Text::Tradition::Directory=HASH(0xb25ca30)', 'HASH(0xb7b6308)') called at t/text_tradition_user.t line 35
t/text_tradition_user.t ........... ok
Class::MOP::load_class is deprecated at /home/c/perl5/perlbrew/perls/18.1i/lib/site_perl/5.18.1/i686-linux-thread-multi/Class/MOP.pm line 76, <DATA> line 41.
	Class::MOP::load_class('KiokuDB::Backend::DBI') called at /home/c/perl5/perlbrew/perls/18.1i/lib/site_perl/5.18.1/KiokuDB/Util.pm line 59
	KiokuDB::Util::dsn_to_backend('dbi:SQLite:dbname=/tmp/8_u93ww38E', 'typemap', 'KiokuDB::TypeMap=HASH(0xb277bd0)', 'create', 1, 'columns', 'ARRAY(0xaf998d0)', 'resolver_constructor', 'CODE(0xb0ffbc8)', ...) called at /home/c/perl5/perlbrew/perls/18.1i/lib/site_perl/5.18.1/KiokuDB.pm line 49
	KiokuDB::connect('Text::Tradition::Store', 'dbi:SQLite:dbname=/tmp/8_u93ww38E', 'typemap', 'KiokuDB::TypeMap=HASH(0xb277bd0)', 'create', 1, 'columns', 'ARRAY(0xaf998d0)', 'resolver_constructor', ...) called at /home/c/.cpan/build/Text-Tradition-Directory-1.2-loOBMR/blib/lib/Text/Tradition/Directory.pm line 306
	Text::Tradition::Directory::__ANON__('Text::Tradition::Directory=HASH(0x8c37ce8)') called at /home/c/perl5/perlbrew/perls/18.1i/lib/site_perl/5.18.1/i686-linux-thread-multi/Moose/Meta/Method/Overridden.pm line 43
	Text::Tradition::Directory::_build_directory('Text::Tradition::Directory=HASH(0x8c37ce8)') called at /home/c/perl5/perlbrew/perls/18.1i/lib/site_perl/5.18.1/i686-linux-thread-multi/Moose/Meta/Attribute.pm line 533
	Moose::Meta::Attribute::_call_builder('Moose::Meta::Attribute=HASH(0xb777c78)', 'Text::Tradition::Directory=HASH(0x8c37ce8)') called at /home/c/perl5/perlbrew/perls/18.1i/lib/site_perl/5.18.1/i686-linux-thread-multi/Moose/Meta/Attribute.pm line 814
	Moose::Meta::Attribute::get_value('Moose::Meta::Attribute=HASH(0xb777c78)', 'Text::Tradition::Directory=HASH(0x8c37ce8)') called at /home/c/perl5/perlbrew/perls/18.1i/lib/site_perl/5.18.1/i686-linux-thread-multi/Class/MOP/Attribute.pm line 218
	Class::MOP::Attribute::__ANON__('Text::Tradition::Directory=HASH(0x8c37ce8)') called at /home/c/perl5/perlbrew/perls/18.1i/lib/site_perl/5.18.1/i686-linux-thread-multi/Moose/Meta/Method/Delegation.pm line 99
	KiokuX::Model::directory('Text::Tradition::Directory=HASH(0x8c37ce8)') called at /home/c/.cpan/build/KiokuX-Model-0.02-7Q4j7Y/blib/lib/KiokuX/Model.pm line 16
	KiokuX::Model::BUILD('Text::Tradition::Directory=HASH(0x8c37ce8)', 'HASH(0xb100518)') called at /home/c/perl5/perlbrew/perls/18.1i/lib/site_perl/5.18.1/i686-linux-thread-multi/Class/MOP/Method.pm line 131
	Class::MOP::Method::execute('Moose::Meta::Method=HASH(0xb7a3ad8)', 'Text::Tradition::Directory=HASH(0x8c37ce8)', 'HASH(0xb100518)') called at /home/c/perl5/perlbrew/perls/18.1i/lib/site_perl/5.18.1/i686-linux-thread-multi/Moose/Object.pm line 59
	Moose::Object::BUILDALL('Text::Tradition::Directory=HASH(0x8c37ce8)', 'HASH(0xb100518)') called at /home/c/perl5/perlbrew/perls/18.1i/lib/site_perl/5.18.1/i686-linux-thread-multi/Moose/Meta/Class.pm line 285
	Moose::Meta::Class::new_object('Moose::Meta::Class::__ANON__::SERIAL::31=HASH(0xaf93500)', 'HASH(0xb100518)') called at /home/c/perl5/perlbrew/perls/18.1i/lib/site_perl/5.18.1/MooseX/StrictConstructor/Trait/Class.pm line 16
	Class::MOP::Class:::around('CODE(0x92b4210)', 'Moose::Meta::Class::__ANON__::SERIAL::31=HASH(0xaf93500)', 'HASH(0xb100518)') called at /home/c/perl5/perlbrew/perls/18.1i/lib/site_perl/5.18.1/i686-linux-thread-multi/Class/MOP/Method/Wrapped.pm line 166
	Class::MOP::Method::Wrapped::__ANON__('Moose::Meta::Class::__ANON__::SERIAL::31=HASH(0xaf93500)', 'HASH(0xb100518)') called at /home/c/perl5/perlbrew/perls/18.1i/lib/site_perl/5.18.1/i686-linux-thread-multi/Class/MOP/Method/Wrapped.pm line 95
	Moose::Meta::Class::__ANON__::SERIAL::31::new_object('Moose::Meta::Class::__ANON__::SERIAL::31=HASH(0xaf93500)', 'HASH(0xb100518)') called at /home/c/perl5/perlbrew/perls/18.1i/lib/site_perl/5.18.1/i686-linux-thread-multi/Moose/Object.pm line 30
	Moose::Object::new('Text::Tradition::Directory', 'dsn', 'dbi:SQLite:dbname=/tmp/8_u93ww38E', 'extra_args', 'HASH(0x8ea07e0)') called at constructor KiokuX::Model::new (defined at /home/c/.cpan/build/KiokuX-Model-0.02-7Q4j7Y/blib/lib/KiokuX/Model.pm line 82) line 4
	KiokuX::Model::new('Text::Tradition::Directory', 'dsn', 'dbi:SQLite:dbname=/tmp/8_u93ww38E', 'extra_args', 'HASH(0x8ea07e0)') called at t/text_tradition_user_collapse.t line 21
Class::MOP::load_class is deprecated at /home/c/perl5/perlbrew/perls/18.1i/lib/site_perl/5.18.1/i686-linux-thread-multi/Class/MOP.pm line 76, <DATA> line 41.
	Class::MOP::load_class('KiokuDB::Backend::DBI::Schema') called at /home/c/perl5/perlbrew/perls/18.1i/lib/site_perl/5.18.1/KiokuDB/Backend/DBI.pm line 57
	KiokuDB::Backend::DBI::__ANON__('KiokuDB::Backend::DBI::Schema') called at /home/c/perl5/perlbrew/perls/18.1i/lib/site_perl/5.18.1/i686-linux-thread-multi/Moose/Meta/TypeConstraint.pm line 331
	KiokuDB::Backend::DBI::SchemaProto('KiokuDB::Backend::DBI::Schema') called at constructor KiokuDB::Backend::DBI::new (defined at /home/c/perl5/perlbrew/perls/18.1i/lib/site_perl/5.18.1/KiokuDB/Backend/DBI.pm line 1021) line 65
	KiokuDB::Backend::DBI::new('KiokuDB::Backend::DBI', 'dsn', 'dbi:SQLite:dbname=/tmp/8_u93ww38E', 'typemap', 'KiokuDB::TypeMap=HASH(0xb277bd0)', 'create', 1, 'columns', 'ARRAY(0xaf998d0)', ...) called at /home/c/perl5/perlbrew/perls/18.1i/lib/site_perl/5.18.1/KiokuDB/Backend/DBI.pm line 64
	KiokuDB::Backend::DBI::new_from_dsn('KiokuDB::Backend::DBI', 'SQLite:dbname=/tmp/8_u93ww38E', 'typemap', 'KiokuDB::TypeMap=HASH(0xb277bd0)', 'create', 1, 'columns', 'ARRAY(0xaf998d0)', 'resolver_constructor', ...) called at /home/c/perl5/perlbrew/perls/18.1i/lib/site_perl/5.18.1/KiokuDB/Util.pm line 60
	KiokuDB::Util::dsn_to_backend('dbi:SQLite:dbname=/tmp/8_u93ww38E', 'typemap', 'KiokuDB::TypeMap=HASH(0xb277bd0)', 'create', 1, 'columns', 'ARRAY(0xaf998d0)', 'resolver_constructor', 'CODE(0xb0ffbc8)', ...) called at /home/c/perl5/perlbrew/perls/18.1i/lib/site_perl/5.18.1/KiokuDB.pm line 49
	KiokuDB::connect('Text::Tradition::Store', 'dbi:SQLite:dbname=/tmp/8_u93ww38E', 'typemap', 'KiokuDB::TypeMap=HASH(0xb277bd0)', 'create', 1, 'columns', 'ARRAY(0xaf998d0)', 'resolver_constructor', ...) called at /home/c/.cpan/build/Text-Tradition-Directory-1.2-loOBMR/blib/lib/Text/Tradition/Directory.pm line 306
	Text::Tradition::Directory::__ANON__('Text::Tradition::Directory=HASH(0x8c37ce8)') called at /home/c/perl5/perlbrew/perls/18.1i/lib/site_perl/5.18.1/i686-linux-thread-multi/Moose/Meta/Method/Overridden.pm line 43
	Text::Tradition::Directory::_build_directory('Text::Tradition::Directory=HASH(0x8c37ce8)') called at /home/c/perl5/perlbrew/perls/18.1i/lib/site_perl/5.18.1/i686-linux-thread-multi/Moose/Meta/Attribute.pm line 533
	Moose::Meta::Attribute::_call_builder('Moose::Meta::Attribute=HASH(0xb777c78)', 'Text::Tradition::Directory=HASH(0x8c37ce8)') called at /home/c/perl5/perlbrew/perls/18.1i/lib/site_perl/5.18.1/i686-linux-thread-multi/Moose/Meta/Attribute.pm line 814
	Moose::Meta::Attribute::get_value('Moose::Meta::Attribute=HASH(0xb777c78)', 'Text::Tradition::Directory=HASH(0x8c37ce8)') called at /home/c/perl5/perlbrew/perls/18.1i/lib/site_perl/5.18.1/i686-linux-thread-multi/Class/MOP/Attribute.pm line 218
	Class::MOP::Attribute::__ANON__('Text::Tradition::Directory=HASH(0x8c37ce8)') called at /home/c/perl5/perlbrew/perls/18.1i/lib/site_perl/5.18.1/i686-linux-thread-multi/Moose/Meta/Method/Delegation.pm line 99
	KiokuX::Model::directory('Text::Tradition::Directory=HASH(0x8c37ce8)') called at /home/c/.cpan/build/KiokuX-Model-0.02-7Q4j7Y/blib/lib/KiokuX/Model.pm line 16
	KiokuX::Model::BUILD('Text::Tradition::Directory=HASH(0x8c37ce8)', 'HASH(0xb100518)') called at /home/c/perl5/perlbrew/perls/18.1i/lib/site_perl/5.18.1/i686-linux-thread-multi/Class/MOP/Method.pm line 131
	Class::MOP::Method::execute('Moose::Meta::Method=HASH(0xb7a3ad8)', 'Text::Tradition::Directory=HASH(0x8c37ce8)', 'HASH(0xb100518)') called at /home/c/perl5/perlbrew/perls/18.1i/lib/site_perl/5.18.1/i686-linux-thread-multi/Moose/Object.pm line 59
	Moose::Object::BUILDALL('Text::Tradition::Directory=HASH(0x8c37ce8)', 'HASH(0xb100518)') called at /home/c/perl5/perlbrew/perls/18.1i/lib/site_perl/5.18.1/i686-linux-thread-multi/Moose/Meta/Class.pm line 285
	Moose::Meta::Class::new_object('Moose::Meta::Class::__ANON__::SERIAL::31=HASH(0xaf93500)', 'HASH(0xb100518)') called at /home/c/perl5/perlbrew/perls/18.1i/lib/site_perl/5.18.1/MooseX/StrictConstructor/Trait/Class.pm line 16
	Class::MOP::Class:::around('CODE(0x92b4210)', 'Moose::Meta::Class::__ANON__::SERIAL::31=HASH(0xaf93500)', 'HASH(0xb100518)') called at /home/c/perl5/perlbrew/perls/18.1i/lib/site_perl/5.18.1/i686-linux-thread-multi/Class/MOP/Method/Wrapped.pm line 166
	Class::MOP::Method::Wrapped::__ANON__('Moose::Meta::Class::__ANON__::SERIAL::31=HASH(0xaf93500)', 'HASH(0xb100518)') called at /home/c/perl5/perlbrew/perls/18.1i/lib/site_perl/5.18.1/i686-linux-thread-multi/Class/MOP/Method/Wrapped.pm line 95
	Moose::Meta::Class::__ANON__::SERIAL::31::new_object('Moose::Meta::Class::__ANON__::SERIAL::31=HASH(0xaf93500)', 'HASH(0xb100518)') called at /home/c/perl5/perlbrew/perls/18.1i/lib/site_perl/5.18.1/i686-linux-thread-multi/Moose/Object.pm line 30
	Moose::Object::new('Text::Tradition::Directory', 'dsn', 'dbi:SQLite:dbname=/tmp/8_u93ww38E', 'extra_args', 'HASH(0x8ea07e0)') called at constructor KiokuX::Model::new (defined at /home/c/.cpan/build/KiokuX-Model-0.02-7Q4j7Y/blib/lib/KiokuX/Model.pm line 82) line 4
	KiokuX::Model::new('Text::Tradition::Directory', 'dsn', 'dbi:SQLite:dbname=/tmp/8_u93ww38E', 'extra_args', 'HASH(0x8ea07e0)') called at t/text_tradition_user_collapse.t line 21
Class::MOP::load_class is deprecated at /home/c/perl5/perlbrew/perls/18.1i/lib/site_perl/5.18.1/i686-linux-thread-multi/Class/MOP.pm line 76, <DATA> line 41.
	Class::MOP::load_class('KiokuDB::Serializer::JSON') called at /home/c/perl5/perlbrew/perls/18.1i/lib/site_perl/5.18.1/KiokuDB/Backend/Serialize.pm line 27
	KiokuDB::Backend::Serialize::__ANON__('json') called at /home/c/perl5/perlbrew/perls/18.1i/lib/site_perl/5.18.1/i686-linux-thread-multi/Moose/Meta/TypeCoercion.pm line 71
	Moose::Meta::TypeCoercion::__ANON__('json') called at constructor KiokuDB::Backend::DBI::new (defined at /home/c/perl5/perlbrew/perls/18.1i/lib/site_perl/5.18.1/KiokuDB/Backend/DBI.pm line 1021) line 238
	KiokuDB::Backend::DBI::new('KiokuDB::Backend::DBI', 'dsn', 'dbi:SQLite:dbname=/tmp/8_u93ww38E', 'typemap', 'KiokuDB::TypeMap=HASH(0xb277bd0)', 'create', 1, 'columns', 'ARRAY(0xaf998d0)', ...) called at /home/c/perl5/perlbrew/perls/18.1i/lib/site_perl/5.18.1/KiokuDB/Backend/DBI.pm line 64
	KiokuDB::Backend::DBI::new_from_dsn('KiokuDB::Backend::DBI', 'SQLite:dbname=/tmp/8_u93ww38E', 'typemap', 'KiokuDB::TypeMap=HASH(0xb277bd0)', 'create', 1, 'columns', 'ARRAY(0xaf998d0)', 'resolver_constructor', ...) called at /home/c/perl5/perlbrew/perls/18.1i/lib/site_perl/5.18.1/KiokuDB/Util.pm line 60
	KiokuDB::Util::dsn_to_backend('dbi:SQLite:dbname=/tmp/8_u93ww38E', 'typemap', 'KiokuDB::TypeMap=HASH(0xb277bd0)', 'create', 1, 'columns', 'ARRAY(0xaf998d0)', 'resolver_constructor', 'CODE(0xb0ffbc8)', ...) called at /home/c/perl5/perlbrew/perls/18.1i/lib/site_perl/5.18.1/KiokuDB.pm line 49
	KiokuDB::connect('Text::Tradition::Store', 'dbi:SQLite:dbname=/tmp/8_u93ww38E', 'typemap', 'KiokuDB::TypeMap=HASH(0xb277bd0)', 'create', 1, 'columns', 'ARRAY(0xaf998d0)', 'resolver_constructor', ...) called at /home/c/.cpan/build/Text-Tradition-Directory-1.2-loOBMR/blib/lib/Text/Tradition/Directory.pm line 306
	Text::Tradition::Directory::__ANON__('Text::Tradition::Directory=HASH(0x8c37ce8)') called at /home/c/perl5/perlbrew/perls/18.1i/lib/site_perl/5.18.1/i686-linux-thread-multi/Moose/Meta/Method/Overridden.pm line 43
	Text::Tradition::Directory::_build_directory('Text::Tradition::Directory=HASH(0x8c37ce8)') called at /home/c/perl5/perlbrew/perls/18.1i/lib/site_perl/5.18.1/i686-linux-thread-multi/Moose/Meta/Attribute.pm line 533
	Moose::Meta::Attribute::_call_builder('Moose::Meta::Attribute=HASH(0xb777c78)', 'Text::Tradition::Directory=HASH(0x8c37ce8)') called at /home/c/perl5/perlbrew/perls/18.1i/lib/site_perl/5.18.1/i686-linux-thread-multi/Moose/Meta/Attribute.pm line 814
	Moose::Meta::Attribute::get_value('Moose::Meta::Attribute=HASH(0xb777c78)', 'Text::Tradition::Directory=HASH(0x8c37ce8)') called at /home/c/perl5/perlbrew/perls/18.1i/lib/site_perl/5.18.1/i686-linux-thread-multi/Class/MOP/Attribute.pm line 218
	Class::MOP::Attribute::__ANON__('Text::Tradition::Directory=HASH(0x8c37ce8)') called at /home/c/perl5/perlbrew/perls/18.1i/lib/site_perl/5.18.1/i686-linux-thread-multi/Moose/Meta/Method/Delegation.pm line 99
	KiokuX::Model::directory('Text::Tradition::Directory=HASH(0x8c37ce8)') called at /home/c/.cpan/build/KiokuX-Model-0.02-7Q4j7Y/blib/lib/KiokuX/Model.pm line 16
	KiokuX::Model::BUILD('Text::Tradition::Directory=HASH(0x8c37ce8)', 'HASH(0xb100518)') called at /home/c/perl5/perlbrew/perls/18.1i/lib/site_perl/5.18.1/i686-linux-thread-multi/Class/MOP/Method.pm line 131
	Class::MOP::Method::execute('Moose::Meta::Method=HASH(0xb7a3ad8)', 'Text::Tradition::Directory=HASH(0x8c37ce8)', 'HASH(0xb100518)') called at /home/c/perl5/perlbrew/perls/18.1i/lib/site_perl/5.18.1/i686-linux-thread-multi/Moose/Object.pm line 59
	Moose::Object::BUILDALL('Text::Tradition::Directory=HASH(0x8c37ce8)', 'HASH(0xb100518)') called at /home/c/perl5/perlbrew/perls/18.1i/lib/site_perl/5.18.1/i686-linux-thread-multi/Moose/Meta/Class.pm line 285
	Moose::Meta::Class::new_object('Moose::Meta::Class::__ANON__::SERIAL::31=HASH(0xaf93500)', 'HASH(0xb100518)') called at /home/c/perl5/perlbrew/perls/18.1i/lib/site_perl/5.18.1/MooseX/StrictConstructor/Trait/Class.pm line 16
	Class::MOP::Class:::around('CODE(0x92b4210)', 'Moose::Meta::Class::__ANON__::SERIAL::31=HASH(0xaf93500)', 'HASH(0xb100518)') called at /home/c/perl5/perlbrew/perls/18.1i/lib/site_perl/5.18.1/i686-linux-thread-multi/Class/MOP/Method/Wrapped.pm line 166
	Class::MOP::Method::Wrapped::__ANON__('Moose::Meta::Class::__ANON__::SERIAL::31=HASH(0xaf93500)', 'HASH(0xb100518)') called at /home/c/perl5/perlbrew/perls/18.1i/lib/site_perl/5.18.1/i686-linux-thread-multi/Class/MOP/Method/Wrapped.pm line 95
	Moose::Meta::Class::__ANON__::SERIAL::31::new_object('Moose::Meta::Class::__ANON__::SERIAL::31=HASH(0xaf93500)', 'HASH(0xb100518)') called at /home/c/perl5/perlbrew/perls/18.1i/lib/site_perl/5.18.1/i686-linux-thread-multi/Moose/Object.pm line 30
	Moose::Object::new('Text::Tradition::Directory', 'dsn', 'dbi:SQLite:dbname=/tmp/8_u93ww38E', 'extra_args', 'HASH(0x8ea07e0)') called at constructor KiokuX::Model::new (defined at /home/c/.cpan/build/KiokuX-Model-0.02-7Q4j7Y/blib/lib/KiokuX/Model.pm line 82) line 4
	KiokuX::Model::new('Text::Tradition::Directory', 'dsn', 'dbi:SQLite:dbname=/tmp/8_u93ww38E', 'extra_args', 'HASH(0x8ea07e0)') called at t/text_tradition_user_collapse.t line 21
Class::MOP::load_class is deprecated at /home/c/perl5/perlbrew/perls/18.1i/lib/site_perl/5.18.1/i686-linux-thread-multi/Class/MOP.pm line 76, <DATA> line 41.
	Class::MOP::load_class('Authen::Passphrase::SaltedDigest') called at /home/c/.cpan/build/KiokuX-User-0.02-ZpoTEi/blib/lib/KiokuX/User/Util.pm line 35
	KiokuX::User::Util::crypt_password('bloggspass') called at /home/c/.cpan/build/Text-Tradition-Directory-1.2-loOBMR/blib/lib/Text/Tradition/Directory.pm line 448
	Text::Tradition::Directory::add_user('Text::Tradition::Directory=HASH(0x8c37ce8)', 'HASH(0xafe3e30)') called at t/text_tradition_user_collapse.t line 29
Class::MOP::load_class is deprecated at /home/c/perl5/perlbrew/perls/18.1i/lib/site_perl/5.18.1/i686-linux-thread-multi/Class/MOP.pm line 76.
	Class::MOP::load_class('KiokuDB::TypeMap::Entry::Callback') called at /home/c/perl5/perlbrew/perls/18.1i/lib/site_perl/5.18.1/KiokuDB/TypeMap/Composite.pm line 78
	KiokuDB::TypeMap::Composite::_construct_entry('KiokuDB::TypeMap::Default::JSON=HASH(0xc6a3298)', 'type', 'KiokuDB::TypeMap::Entry::Callback', 'collapse', 'as_rfc2307', 'intrinsic', 1, 'expand', 'from_rfc2307', ...) called at /home/c/perl5/perlbrew/perls/18.1i/lib/site_perl/5.18.1/KiokuDB/TypeMap/Composite.pm line 96
	KiokuDB::TypeMap::Composite::_create_entry('KiokuDB::TypeMap::Default::JSON=HASH(0xc6a3298)', 'Authen::Passphrase', 'HASH(0xc6a35a8)') called at /home/c/perl5/perlbrew/perls/18.1i/lib/site_perl/5.18.1/KiokuDB/TypeMap/Composite.pm line 115
	KiokuDB::TypeMap::Composite::_create_entries('KiokuDB::TypeMap::Default::JSON=HASH(0xc6a3298)', 'HASH(0xc6a3688)') called at /home/c/perl5/perlbrew/perls/18.1i/lib/site_perl/5.18.1/KiokuDB/TypeMap/Composite.pm line 125
	KiokuDB::TypeMap::Composite::_create_typemap('KiokuDB::TypeMap::Default::JSON=HASH(0xc6a3298)', 'isa_entries', 'HASH(0xc6a3688)') called at /home/c/perl5/perlbrew/perls/18.1i/lib/site_perl/5.18.1/KiokuDB/TypeMap/Default/Canonical.pm line 76
	KiokuDB::TypeMap::Default::Canonical::_build_authen_passphrase_typemap('KiokuDB::TypeMap::Default::JSON=HASH(0xc6a3298)') called at /home/c/perl5/perlbrew/perls/18.1i/lib/site_perl/5.18.1/i686-linux-thread-multi/Moose/Meta/Attribute.pm line 533
	Moose::Meta::Attribute::_call_builder('Moose::Meta::Class::__ANON__::SERIAL::32=HASH(0xbf07350)', 'KiokuDB::TypeMap::Default::JSON=HASH(0xc6a3298)') called at /home/c/perl5/perlbrew/perls/18.1i/lib/site_perl/5.18.1/i686-linux-thread-multi/Moose/Meta/Attribute.pm line 814
	Moose::Meta::Attribute::get_value('Moose::Meta::Class::__ANON__::SERIAL::32=HASH(0xbf07350)', 'KiokuDB::TypeMap::Default::JSON=HASH(0xc6a3298)') called at /home/c/perl5/perlbrew/perls/18.1i/lib/site_perl/5.18.1/KiokuDB/TypeMap/Composite.pm line 69
	KiokuDB::TypeMap::Composite::_build_includes('KiokuDB::TypeMap::Default::JSON=HASH(0xc6a3298)') called at reader KiokuDB::TypeMap::includes (defined at /home/c/perl5/perlbrew/perls/18.1i/lib/site_perl/5.18.1/KiokuDB/TypeMap.pm line 42) line 7
	KiokuDB::TypeMap::includes('KiokuDB::TypeMap::Default::JSON=HASH(0xc6a3298)') called at /home/c/perl5/perlbrew/perls/18.1i/lib/site_perl/5.18.1/KiokuDB/TypeMap.pm line 126
	KiokuDB::TypeMap::BUILD('KiokuDB::TypeMap::Default::JSON=HASH(0xc6a3298)', 'HASH(0xc6a3308)') called at constructor KiokuDB::TypeMap::Default::JSON::new (defined at /home/c/perl5/perlbrew/perls/18.1i/lib/site_perl/5.18.1/KiokuDB/TypeMap/Default/JSON.pm line 52) line 153
	KiokuDB::TypeMap::Default::JSON::new('KiokuDB::TypeMap::Default::JSON') called at /home/c/perl5/perlbrew/perls/18.1i/lib/site_perl/5.18.1/KiokuDB/Backend/TypeMap/Default/JSON.pm line 18
	KiokuDB::Backend::TypeMap::Default::JSON::_build_default_typemap('KiokuDB::Serializer::JSON=HASH(0xb76a8a8)') called at reader KiokuDB::Serializer::JSON::default_typemap (defined at /home/c/perl5/perlbrew/perls/18.1i/lib/site_perl/5.18.1/KiokuDB/Backend/TypeMap/Default.pm line 13) line 7
	KiokuDB::Serializer::JSON::default_typemap('KiokuDB::Serializer::JSON=HASH(0xb76a8a8)') called at /home/c/perl5/perlbrew/perls/18.1i/lib/site_perl/5.18.1/KiokuDB.pm line 100
	KiokuDB::_find_default_typemaps('Text::Tradition::Store=HASH(0xc171fe0)') called at /home/c/perl5/perlbrew/perls/18.1i/lib/site_perl/5.18.1/KiokuDB.pm line 137
	KiokuDB::_build_merged_typemap('Text::Tradition::Store=HASH(0xc171fe0)') called at reader KiokuDB::merged_typemap (defined at /home/c/perl5/perlbrew/perls/18.1i/lib/site_perl/5.18.1/KiokuDB.pm line 83) line 7
	KiokuDB::merged_typemap('Text::Tradition::Store=HASH(0xc171fe0)') called at /home/c/.cpan/build/Text-Tradition-Directory-1.2-loOBMR/blib/lib/Text/Tradition/Directory.pm line 304
	Text::Tradition::Directory::__ANON__('KiokuDB::TypeMap::Resolver') called at /home/c/.cpan/build/Text-Tradition-Directory-1.2-loOBMR/blib/lib/Text/Tradition/Store.pm line 16
	Text::Tradition::Store::__ANON__('Text::Tradition::Store=HASH(0xc171fe0)') called at /home/c/perl5/perlbrew/perls/18.1i/lib/site_perl/5.18.1/i686-linux-thread-multi/Moose/Meta/Method/Overridden.pm line 43
	Text::Tradition::Store::_build_typemap_resolver('Text::Tradition::Store=HASH(0xc171fe0)') called at reader KiokuDB::typemap_resolver (defined at /home/c/perl5/perlbrew/perls/18.1i/lib/site_perl/5.18.1/KiokuDB.pm line 160) line 7
	KiokuDB::typemap_resolver('Text::Tradition::Store=HASH(0xc171fe0)') called at /home/c/perl5/perlbrew/perls/18.1i/lib/site_perl/5.18.1/KiokuDB.pm line 207
	KiokuDB::_build_collapser('Text::Tradition::Store=HASH(0xc171fe0)') called at reader KiokuDB::collapser (defined at /home/c/perl5/perlbrew/perls/18.1i/lib/site_perl/5.18.1/KiokuDB.pm line 198) line 7
	KiokuDB::collapser('Text::Tradition::Store=HASH(0xc171fe0)') called at /home/c/perl5/perlbrew/perls/18.1i/lib/site_perl/5.18.1/KiokuDB.pm line 575
	KiokuDB::store_objects('Text::Tradition::Store=HASH(0xc171fe0)', 'root_set', 1, 'objects', 'ARRAY(0xb6b0110)') called at /home/c/perl5/perlbrew/perls/18.1i/lib/site_perl/5.18.1/KiokuDB.pm line 470
	KiokuDB::_store('Text::Tradition::Store=HASH(0xc171fe0)', 1, 'user:fred', 'Text::Tradition::User=HASH(0xc24eb98)') called at /home/c/perl5/perlbrew/perls/18.1i/lib/site_perl/5.18.1/KiokuDB.pm line 473
	KiokuDB::store('Text::Tradition::Store=HASH(0xc171fe0)', 'user:fred', 'Text::Tradition::User=HASH(0xc24eb98)') called at /home/c/perl5/perlbrew/perls/18.1i/lib/site_perl/5.18.1/i686-linux-thread-multi/Moose/Meta/Method/Delegation.pm line 116
	KiokuX::Model::store('Text::Tradition::Directory=HASH(0x8c37ce8)', 'user:fred', 'Text::Tradition::User=HASH(0xc24eb98)') called at /home/c/.cpan/build/Text-Tradition-Directory-1.2-loOBMR/blib/lib/Text/Tradition/Directory.pm line 455
	Text::Tradition::Directory::add_user('Text::Tradition::Directory=HASH(0x8c37ce8)', 'HASH(0xafe3e30)') called at t/text_tradition_user_collapse.t line 29
t/text_tradition_user_collapse.t .. ok
Class::MOP::load_class is deprecated at /home/c/perl5/perlbrew/perls/18.1i/lib/site_perl/5.18.1/i686-linux-thread-multi/Class/MOP.pm line 76, <DATA> line 41.
	Class::MOP::load_class('KiokuDB::Backend::DBI') called at /home/c/perl5/perlbrew/perls/18.1i/lib/site_perl/5.18.1/KiokuDB/Util.pm line 59
	KiokuDB::Util::dsn_to_backend('dbi:SQLite:dbname=/tmp/xfbZ00LVzU', 'typemap', 'KiokuDB::TypeMap=HASH(0xb8b8d80)', 'columns', 'ARRAY(0xb3fa588)', 'create', 1, 'resolver_constructor', 'CODE(0xb8c4508)', ...) called at /home/c/perl5/perlbrew/perls/18.1i/lib/site_perl/5.18.1/KiokuDB.pm line 49
	KiokuDB::connect('Text::Tradition::Store', 'dbi:SQLite:dbname=/tmp/xfbZ00LVzU', 'typemap', 'KiokuDB::TypeMap=HASH(0xb8b8d80)', 'columns', 'ARRAY(0xb3fa588)', 'create', 1, 'resolver_constructor', ...) called at /home/c/.cpan/build/Text-Tradition-Directory-1.2-loOBMR/blib/lib/Text/Tradition/Directory.pm line 306
	Text::Tradition::Directory::__ANON__('Text::Tradition::Directory=HASH(0xb3fa118)') called at /home/c/perl5/perlbrew/perls/18.1i/lib/site_perl/5.18.1/i686-linux-thread-multi/Moose/Meta/Method/Overridden.pm line 43
	Text::Tradition::Directory::_build_directory('Text::Tradition::Directory=HASH(0xb3fa118)') called at /home/c/perl5/perlbrew/perls/18.1i/lib/site_perl/5.18.1/i686-linux-thread-multi/Moose/Meta/Attribute.pm line 533
	Moose::Meta::Attribute::_call_builder('Moose::Meta::Attribute=HASH(0xb34d1e0)', 'Text::Tradition::Directory=HASH(0xb3fa118)') called at /home/c/perl5/perlbrew/perls/18.1i/lib/site_perl/5.18.1/i686-linux-thread-multi/Moose/Meta/Attribute.pm line 814
	Moose::Meta::Attribute::get_value('Moose::Meta::Attribute=HASH(0xb34d1e0)', 'Text::Tradition::Directory=HASH(0xb3fa118)') called at /home/c/perl5/perlbrew/perls/18.1i/lib/site_perl/5.18.1/i686-linux-thread-multi/Class/MOP/Attribute.pm line 218
	Class::MOP::Attribute::__ANON__('Text::Tradition::Directory=HASH(0xb3fa118)') called at /home/c/perl5/perlbrew/perls/18.1i/lib/site_perl/5.18.1/i686-linux-thread-multi/Moose/Meta/Method/Delegation.pm line 99
	KiokuX::Model::directory('Text::Tradition::Directory=HASH(0xb3fa118)') called at /home/c/.cpan/build/KiokuX-Model-0.02-7Q4j7Y/blib/lib/KiokuX/Model.pm line 16
	KiokuX::Model::BUILD('Text::Tradition::Directory=HASH(0xb3fa118)', 'HASH(0xb3fcd28)') called at /home/c/perl5/perlbrew/perls/18.1i/lib/site_perl/5.18.1/i686-linux-thread-multi/Class/MOP/Method.pm line 131
	Class::MOP::Method::execute('Moose::Meta::Method=HASH(0xb37e820)', 'Text::Tradition::Directory=HASH(0xb3fa118)', 'HASH(0xb3fcd28)') called at /home/c/perl5/perlbrew/perls/18.1i/lib/site_perl/5.18.1/i686-linux-thread-multi/Moose/Object.pm line 59
	Moose::Object::BUILDALL('Text::Tradition::Directory=HASH(0xb3fa118)', 'HASH(0xb3fcd28)') called at /home/c/perl5/perlbrew/perls/18.1i/lib/site_perl/5.18.1/i686-linux-thread-multi/Moose/Meta/Class.pm line 285
	Moose::Meta::Class::new_object('Moose::Meta::Class::__ANON__::SERIAL::31=HASH(0xaa13a18)', 'HASH(0xb3fcd28)') called at /home/c/perl5/perlbrew/perls/18.1i/lib/site_perl/5.18.1/MooseX/StrictConstructor/Trait/Class.pm line 16
	Class::MOP::Class:::around('CODE(0x8f11680)', 'Moose::Meta::Class::__ANON__::SERIAL::31=HASH(0xaa13a18)', 'HASH(0xb3fcd28)') called at /home/c/perl5/perlbrew/perls/18.1i/lib/site_perl/5.18.1/i686-linux-thread-multi/Class/MOP/Method/Wrapped.pm line 166
	Class::MOP::Method::Wrapped::__ANON__('Moose::Meta::Class::__ANON__::SERIAL::31=HASH(0xaa13a18)', 'HASH(0xb3fcd28)') called at /home/c/perl5/perlbrew/perls/18.1i/lib/site_perl/5.18.1/i686-linux-thread-multi/Class/MOP/Method/Wrapped.pm line 95
	Moose::Meta::Class::__ANON__::SERIAL::31::new_object('Moose::Meta::Class::__ANON__::SERIAL::31=HASH(0xaa13a18)', 'HASH(0xb3fcd28)') called at /home/c/perl5/perlbrew/perls/18.1i/lib/site_perl/5.18.1/i686-linux-thread-multi/Moose/Object.pm line 30
	Moose::Object::new('Text::Tradition::Directory', 'HASH(0xb8bdff0)') called at constructor KiokuX::Model::new (defined at /home/c/.cpan/build/KiokuX-Model-0.02-7Q4j7Y/blib/lib/KiokuX/Model.pm line 82) line 4
	KiokuX::Model::new('Text::Tradition::Directory', 'HASH(0xb8bdff0)') called at t/userrestore.t line 22
Class::MOP::load_class is deprecated at /home/c/perl5/perlbrew/perls/18.1i/lib/site_perl/5.18.1/i686-linux-thread-multi/Class/MOP.pm line 76, <DATA> line 41.
	Class::MOP::load_class('KiokuDB::Backend::DBI::Schema') called at /home/c/perl5/perlbrew/perls/18.1i/lib/site_perl/5.18.1/KiokuDB/Backend/DBI.pm line 57
	KiokuDB::Backend::DBI::__ANON__('KiokuDB::Backend::DBI::Schema') called at /home/c/perl5/perlbrew/perls/18.1i/lib/site_perl/5.18.1/i686-linux-thread-multi/Moose/Meta/TypeConstraint.pm line 331
	KiokuDB::Backend::DBI::SchemaProto('KiokuDB::Backend::DBI::Schema') called at constructor KiokuDB::Backend::DBI::new (defined at /home/c/perl5/perlbrew/perls/18.1i/lib/site_perl/5.18.1/KiokuDB/Backend/DBI.pm line 1021) line 65
	KiokuDB::Backend::DBI::new('KiokuDB::Backend::DBI', 'dsn', 'dbi:SQLite:dbname=/tmp/xfbZ00LVzU', 'typemap', 'KiokuDB::TypeMap=HASH(0xb8b8d80)', 'columns', 'ARRAY(0xb3fa588)', 'create', 1, ...) called at /home/c/perl5/perlbrew/perls/18.1i/lib/site_perl/5.18.1/KiokuDB/Backend/DBI.pm line 64
	KiokuDB::Backend::DBI::new_from_dsn('KiokuDB::Backend::DBI', 'SQLite:dbname=/tmp/xfbZ00LVzU', 'typemap', 'KiokuDB::TypeMap=HASH(0xb8b8d80)', 'columns', 'ARRAY(0xb3fa588)', 'create', 1, 'resolver_constructor', ...) called at /home/c/perl5/perlbrew/perls/18.1i/lib/site_perl/5.18.1/KiokuDB/Util.pm line 60
	KiokuDB::Util::dsn_to_backend('dbi:SQLite:dbname=/tmp/xfbZ00LVzU', 'typemap', 'KiokuDB::TypeMap=HASH(0xb8b8d80)', 'columns', 'ARRAY(0xb3fa588)', 'create', 1, 'resolver_constructor', 'CODE(0xb8c4508)', ...) called at /home/c/perl5/perlbrew/perls/18.1i/lib/site_perl/5.18.1/KiokuDB.pm line 49
	KiokuDB::connect('Text::Tradition::Store', 'dbi:SQLite:dbname=/tmp/xfbZ00LVzU', 'typemap', 'KiokuDB::TypeMap=HASH(0xb8b8d80)', 'columns', 'ARRAY(0xb3fa588)', 'create', 1, 'resolver_constructor', ...) called at /home/c/.cpan/build/Text-Tradition-Directory-1.2-loOBMR/blib/lib/Text/Tradition/Directory.pm line 306
	Text::Tradition::Directory::__ANON__('Text::Tradition::Directory=HASH(0xb3fa118)') called at /home/c/perl5/perlbrew/perls/18.1i/lib/site_perl/5.18.1/i686-linux-thread-multi/Moose/Meta/Method/Overridden.pm line 43
	Text::Tradition::Directory::_build_directory('Text::Tradition::Directory=HASH(0xb3fa118)') called at /home/c/perl5/perlbrew/perls/18.1i/lib/site_perl/5.18.1/i686-linux-thread-multi/Moose/Meta/Attribute.pm line 533
	Moose::Meta::Attribute::_call_builder('Moose::Meta::Attribute=HASH(0xb34d1e0)', 'Text::Tradition::Directory=HASH(0xb3fa118)') called at /home/c/perl5/perlbrew/perls/18.1i/lib/site_perl/5.18.1/i686-linux-thread-multi/Moose/Meta/Attribute.pm line 814
	Moose::Meta::Attribute::get_value('Moose::Meta::Attribute=HASH(0xb34d1e0)', 'Text::Tradition::Directory=HASH(0xb3fa118)') called at /home/c/perl5/perlbrew/perls/18.1i/lib/site_perl/5.18.1/i686-linux-thread-multi/Class/MOP/Attribute.pm line 218
	Class::MOP::Attribute::__ANON__('Text::Tradition::Directory=HASH(0xb3fa118)') called at /home/c/perl5/perlbrew/perls/18.1i/lib/site_perl/5.18.1/i686-linux-thread-multi/Moose/Meta/Method/Delegation.pm line 99
	KiokuX::Model::directory('Text::Tradition::Directory=HASH(0xb3fa118)') called at /home/c/.cpan/build/KiokuX-Model-0.02-7Q4j7Y/blib/lib/KiokuX/Model.pm line 16
	KiokuX::Model::BUILD('Text::Tradition::Directory=HASH(0xb3fa118)', 'HASH(0xb3fcd28)') called at /home/c/perl5/perlbrew/perls/18.1i/lib/site_perl/5.18.1/i686-linux-thread-multi/Class/MOP/Method.pm line 131
	Class::MOP::Method::execute('Moose::Meta::Method=HASH(0xb37e820)', 'Text::Tradition::Directory=HASH(0xb3fa118)', 'HASH(0xb3fcd28)') called at /home/c/perl5/perlbrew/perls/18.1i/lib/site_perl/5.18.1/i686-linux-thread-multi/Moose/Object.pm line 59
	Moose::Object::BUILDALL('Text::Tradition::Directory=HASH(0xb3fa118)', 'HASH(0xb3fcd28)') called at /home/c/perl5/perlbrew/perls/18.1i/lib/site_perl/5.18.1/i686-linux-thread-multi/Moose/Meta/Class.pm line 285
	Moose::Meta::Class::new_object('Moose::Meta::Class::__ANON__::SERIAL::31=HASH(0xaa13a18)', 'HASH(0xb3fcd28)') called at /home/c/perl5/perlbrew/perls/18.1i/lib/site_perl/5.18.1/MooseX/StrictConstructor/Trait/Class.pm line 16
	Class::MOP::Class:::around('CODE(0x8f11680)', 'Moose::Meta::Class::__ANON__::SERIAL::31=HASH(0xaa13a18)', 'HASH(0xb3fcd28)') called at /home/c/perl5/perlbrew/perls/18.1i/lib/site_perl/5.18.1/i686-linux-thread-multi/Class/MOP/Method/Wrapped.pm line 166
	Class::MOP::Method::Wrapped::__ANON__('Moose::Meta::Class::__ANON__::SERIAL::31=HASH(0xaa13a18)', 'HASH(0xb3fcd28)') called at /home/c/perl5/perlbrew/perls/18.1i/lib/site_perl/5.18.1/i686-linux-thread-multi/Class/MOP/Method/Wrapped.pm line 95
	Moose::Meta::Class::__ANON__::SERIAL::31::new_object('Moose::Meta::Class::__ANON__::SERIAL::31=HASH(0xaa13a18)', 'HASH(0xb3fcd28)') called at /home/c/perl5/perlbrew/perls/18.1i/lib/site_perl/5.18.1/i686-linux-thread-multi/Moose/Object.pm line 30
	Moose::Object::new('Text::Tradition::Directory', 'HASH(0xb8bdff0)') called at constructor KiokuX::Model::new (defined at /home/c/.cpan/build/KiokuX-Model-0.02-7Q4j7Y/blib/lib/KiokuX/Model.pm line 82) line 4
	KiokuX::Model::new('Text::Tradition::Directory', 'HASH(0xb8bdff0)') called at t/userrestore.t line 22
Class::MOP::load_class is deprecated at /home/c/perl5/perlbrew/perls/18.1i/lib/site_perl/5.18.1/i686-linux-thread-multi/Class/MOP.pm line 76, <DATA> line 41.
	Class::MOP::load_class('KiokuDB::Serializer::JSON') called at /home/c/perl5/perlbrew/perls/18.1i/lib/site_perl/5.18.1/KiokuDB/Backend/Serialize.pm line 27
	KiokuDB::Backend::Serialize::__ANON__('json') called at /home/c/perl5/perlbrew/perls/18.1i/lib/site_perl/5.18.1/i686-linux-thread-multi/Moose/Meta/TypeCoercion.pm line 71
	Moose::Meta::TypeCoercion::__ANON__('json') called at constructor KiokuDB::Backend::DBI::new (defined at /home/c/perl5/perlbrew/perls/18.1i/lib/site_perl/5.18.1/KiokuDB/Backend/DBI.pm line 1021) line 238
	KiokuDB::Backend::DBI::new('KiokuDB::Backend::DBI', 'dsn', 'dbi:SQLite:dbname=/tmp/xfbZ00LVzU', 'typemap', 'KiokuDB::TypeMap=HASH(0xb8b8d80)', 'columns', 'ARRAY(0xb3fa588)', 'create', 1, ...) called at /home/c/perl5/perlbrew/perls/18.1i/lib/site_perl/5.18.1/KiokuDB/Backend/DBI.pm line 64
	KiokuDB::Backend::DBI::new_from_dsn('KiokuDB::Backend::DBI', 'SQLite:dbname=/tmp/xfbZ00LVzU', 'typemap', 'KiokuDB::TypeMap=HASH(0xb8b8d80)', 'columns', 'ARRAY(0xb3fa588)', 'create', 1, 'resolver_constructor', ...) called at /home/c/perl5/perlbrew/perls/18.1i/lib/site_perl/5.18.1/KiokuDB/Util.pm line 60
	KiokuDB::Util::dsn_to_backend('dbi:SQLite:dbname=/tmp/xfbZ00LVzU', 'typemap', 'KiokuDB::TypeMap=HASH(0xb8b8d80)', 'columns', 'ARRAY(0xb3fa588)', 'create', 1, 'resolver_constructor', 'CODE(0xb8c4508)', ...) called at /home/c/perl5/perlbrew/perls/18.1i/lib/site_perl/5.18.1/KiokuDB.pm line 49
	KiokuDB::connect('Text::Tradition::Store', 'dbi:SQLite:dbname=/tmp/xfbZ00LVzU', 'typemap', 'KiokuDB::TypeMap=HASH(0xb8b8d80)', 'columns', 'ARRAY(0xb3fa588)', 'create', 1, 'resolver_constructor', ...) called at /home/c/.cpan/build/Text-Tradition-Directory-1.2-loOBMR/blib/lib/Text/Tradition/Directory.pm line 306
	Text::Tradition::Directory::__ANON__('Text::Tradition::Directory=HASH(0xb3fa118)') called at /home/c/perl5/perlbrew/perls/18.1i/lib/site_perl/5.18.1/i686-linux-thread-multi/Moose/Meta/Method/Overridden.pm line 43
	Text::Tradition::Directory::_build_directory('Text::Tradition::Directory=HASH(0xb3fa118)') called at /home/c/perl5/perlbrew/perls/18.1i/lib/site_perl/5.18.1/i686-linux-thread-multi/Moose/Meta/Attribute.pm line 533
	Moose::Meta::Attribute::_call_builder('Moose::Meta::Attribute=HASH(0xb34d1e0)', 'Text::Tradition::Directory=HASH(0xb3fa118)') called at /home/c/perl5/perlbrew/perls/18.1i/lib/site_perl/5.18.1/i686-linux-thread-multi/Moose/Meta/Attribute.pm line 814
	Moose::Meta::Attribute::get_value('Moose::Meta::Attribute=HASH(0xb34d1e0)', 'Text::Tradition::Directory=HASH(0xb3fa118)') called at /home/c/perl5/perlbrew/perls/18.1i/lib/site_perl/5.18.1/i686-linux-thread-multi/Class/MOP/Attribute.pm line 218
	Class::MOP::Attribute::__ANON__('Text::Tradition::Directory=HASH(0xb3fa118)') called at /home/c/perl5/perlbrew/perls/18.1i/lib/site_perl/5.18.1/i686-linux-thread-multi/Moose/Meta/Method/Delegation.pm line 99
	KiokuX::Model::directory('Text::Tradition::Directory=HASH(0xb3fa118)') called at /home/c/.cpan/build/KiokuX-Model-0.02-7Q4j7Y/blib/lib/KiokuX/Model.pm line 16
	KiokuX::Model::BUILD('Text::Tradition::Directory=HASH(0xb3fa118)', 'HASH(0xb3fcd28)') called at /home/c/perl5/perlbrew/perls/18.1i/lib/site_perl/5.18.1/i686-linux-thread-multi/Class/MOP/Method.pm line 131
	Class::MOP::Method::execute('Moose::Meta::Method=HASH(0xb37e820)', 'Text::Tradition::Directory=HASH(0xb3fa118)', 'HASH(0xb3fcd28)') called at /home/c/perl5/perlbrew/perls/18.1i/lib/site_perl/5.18.1/i686-linux-thread-multi/Moose/Object.pm line 59
	Moose::Object::BUILDALL('Text::Tradition::Directory=HASH(0xb3fa118)', 'HASH(0xb3fcd28)') called at /home/c/perl5/perlbrew/perls/18.1i/lib/site_perl/5.18.1/i686-linux-thread-multi/Moose/Meta/Class.pm line 285
	Moose::Meta::Class::new_object('Moose::Meta::Class::__ANON__::SERIAL::31=HASH(0xaa13a18)', 'HASH(0xb3fcd28)') called at /home/c/perl5/perlbrew/perls/18.1i/lib/site_perl/5.18.1/MooseX/StrictConstructor/Trait/Class.pm line 16
	Class::MOP::Class:::around('CODE(0x8f11680)', 'Moose::Meta::Class::__ANON__::SERIAL::31=HASH(0xaa13a18)', 'HASH(0xb3fcd28)') called at /home/c/perl5/perlbrew/perls/18.1i/lib/site_perl/5.18.1/i686-linux-thread-multi/Class/MOP/Method/Wrapped.pm line 166
	Class::MOP::Method::Wrapped::__ANON__('Moose::Meta::Class::__ANON__::SERIAL::31=HASH(0xaa13a18)', 'HASH(0xb3fcd28)') called at /home/c/perl5/perlbrew/perls/18.1i/lib/site_perl/5.18.1/i686-linux-thread-multi/Class/MOP/Method/Wrapped.pm line 95
	Moose::Meta::Class::__ANON__::SERIAL::31::new_object('Moose::Meta::Class::__ANON__::SERIAL::31=HASH(0xaa13a18)', 'HASH(0xb3fcd28)') called at /home/c/perl5/perlbrew/perls/18.1i/lib/site_perl/5.18.1/i686-linux-thread-multi/Moose/Object.pm line 30
	Moose::Object::new('Text::Tradition::Directory', 'HASH(0xb8bdff0)') called at constructor KiokuX::Model::new (defined at /home/c/.cpan/build/KiokuX-Model-0.02-7Q4j7Y/blib/lib/KiokuX/Model.pm line 82) line 4
	KiokuX::Model::new('Text::Tradition::Directory', 'HASH(0xb8bdff0)') called at t/userrestore.t line 22
Class::MOP::load_class is deprecated at /home/c/perl5/perlbrew/perls/18.1i/lib/site_perl/5.18.1/i686-linux-thread-multi/Class/MOP.pm line 76, <DATA> line 41.
	Class::MOP::load_class('KiokuDB::TypeMap::Entry::Callback') called at /home/c/perl5/perlbrew/perls/18.1i/lib/site_perl/5.18.1/KiokuDB/TypeMap/Composite.pm line 78
	KiokuDB::TypeMap::Composite::_construct_entry('KiokuDB::TypeMap::Default::JSON=HASH(0xc96d500)', 'collapse', 'stringify', 'intrinsic', 1, 'expand', 'new', 'type', 'KiokuDB::TypeMap::Entry::Callback', ...) called at /home/c/perl5/perlbrew/perls/18.1i/lib/site_perl/5.18.1/KiokuDB/TypeMap/Composite.pm line 96
	KiokuDB::TypeMap::Composite::_create_entry('KiokuDB::TypeMap::Default::JSON=HASH(0xc96d500)', 'Path::Class::Entity', 'HASH(0xca2bc28)') called at /home/c/perl5/perlbrew/perls/18.1i/lib/site_perl/5.18.1/KiokuDB/TypeMap/Composite.pm line 115
	KiokuDB::TypeMap::Composite::_create_entries('KiokuDB::TypeMap::Default::JSON=HASH(0xc96d500)', 'HASH(0xca2bc38)') called at /home/c/perl5/perlbrew/perls/18.1i/lib/site_perl/5.18.1/KiokuDB/TypeMap/Composite.pm line 125
	KiokuDB::TypeMap::Composite::_create_typemap('KiokuDB::TypeMap::Default::JSON=HASH(0xc96d500)', 'isa_entries', 'HASH(0xca2bc38)') called at /home/c/perl5/perlbrew/perls/18.1i/lib/site_perl/5.18.1/KiokuDB/TypeMap/Default/Canonical.pm line 18
	KiokuDB::TypeMap::Default::Canonical::_build_path_class_typemap('KiokuDB::TypeMap::Default::JSON=HASH(0xc96d500)') called at /home/c/perl5/perlbrew/perls/18.1i/lib/site_perl/5.18.1/i686-linux-thread-multi/Moose/Meta/Attribute.pm line 533
	Moose::Meta::Attribute::_call_builder('Moose::Meta::Class::__ANON__::SERIAL::32=HASH(0xc372b18)', 'KiokuDB::TypeMap::Default::JSON=HASH(0xc96d500)') called at /home/c/perl5/perlbrew/perls/18.1i/lib/site_perl/5.18.1/i686-linux-thread-multi/Moose/Meta/Attribute.pm line 814
	Moose::Meta::Attribute::get_value('Moose::Meta::Class::__ANON__::SERIAL::32=HASH(0xc372b18)', 'KiokuDB::TypeMap::Default::JSON=HASH(0xc96d500)') called at /home/c/perl5/perlbrew/perls/18.1i/lib/site_perl/5.18.1/KiokuDB/TypeMap/Composite.pm line 69
	KiokuDB::TypeMap::Composite::_build_includes('KiokuDB::TypeMap::Default::JSON=HASH(0xc96d500)') called at reader KiokuDB::TypeMap::includes (defined at /home/c/perl5/perlbrew/perls/18.1i/lib/site_perl/5.18.1/KiokuDB/TypeMap.pm line 42) line 7
	KiokuDB::TypeMap::includes('KiokuDB::TypeMap::Default::JSON=HASH(0xc96d500)') called at /home/c/perl5/perlbrew/perls/18.1i/lib/site_perl/5.18.1/KiokuDB/TypeMap.pm line 126
	KiokuDB::TypeMap::BUILD('KiokuDB::TypeMap::Default::JSON=HASH(0xc96d500)', 'HASH(0xca44570)') called at constructor KiokuDB::TypeMap::Default::JSON::new (defined at /home/c/perl5/perlbrew/perls/18.1i/lib/site_perl/5.18.1/KiokuDB/TypeMap/Default/JSON.pm line 52) line 153
	KiokuDB::TypeMap::Default::JSON::new('KiokuDB::TypeMap::Default::JSON') called at /home/c/perl5/perlbrew/perls/18.1i/lib/site_perl/5.18.1/KiokuDB/Backend/TypeMap/Default/JSON.pm line 18
	KiokuDB::Backend::TypeMap::Default::JSON::_build_default_typemap('KiokuDB::Serializer::JSON=HASH(0xb8bdc90)') called at reader KiokuDB::Serializer::JSON::default_typemap (defined at /home/c/perl5/perlbrew/perls/18.1i/lib/site_perl/5.18.1/KiokuDB/Backend/TypeMap/Default.pm line 13) line 7
	KiokuDB::Serializer::JSON::default_typemap('KiokuDB::Serializer::JSON=HASH(0xb8bdc90)') called at /home/c/perl5/perlbrew/perls/18.1i/lib/site_perl/5.18.1/KiokuDB.pm line 100
	KiokuDB::_find_default_typemaps('Text::Tradition::Store=HASH(0xc5df7b0)') called at /home/c/perl5/perlbrew/perls/18.1i/lib/site_perl/5.18.1/KiokuDB.pm line 137
	KiokuDB::_build_merged_typemap('Text::Tradition::Store=HASH(0xc5df7b0)') called at reader KiokuDB::merged_typemap (defined at /home/c/perl5/perlbrew/perls/18.1i/lib/site_perl/5.18.1/KiokuDB.pm line 83) line 7
	KiokuDB::merged_typemap('Text::Tradition::Store=HASH(0xc5df7b0)') called at /home/c/.cpan/build/Text-Tradition-Directory-1.2-loOBMR/blib/lib/Text/Tradition/Directory.pm line 304
	Text::Tradition::Directory::__ANON__('KiokuDB::TypeMap::Resolver') called at /home/c/.cpan/build/Text-Tradition-Directory-1.2-loOBMR/blib/lib/Text/Tradition/Store.pm line 16
	Text::Tradition::Store::__ANON__('Text::Tradition::Store=HASH(0xc5df7b0)') called at /home/c/perl5/perlbrew/perls/18.1i/lib/site_perl/5.18.1/i686-linux-thread-multi/Moose/Meta/Method/Overridden.pm line 43
	Text::Tradition::Store::_build_typemap_resolver('Text::Tradition::Store=HASH(0xc5df7b0)') called at reader KiokuDB::typemap_resolver (defined at /home/c/perl5/perlbrew/perls/18.1i/lib/site_perl/5.18.1/KiokuDB.pm line 160) line 7
	KiokuDB::typemap_resolver('Text::Tradition::Store=HASH(0xc5df7b0)') called at /home/c/perl5/perlbrew/perls/18.1i/lib/site_perl/5.18.1/KiokuDB.pm line 207
	KiokuDB::_build_collapser('Text::Tradition::Store=HASH(0xc5df7b0)') called at reader KiokuDB::collapser (defined at /home/c/perl5/perlbrew/perls/18.1i/lib/site_perl/5.18.1/KiokuDB.pm line 198) line 7
	KiokuDB::collapser('Text::Tradition::Store=HASH(0xc5df7b0)') called at /home/c/perl5/perlbrew/perls/18.1i/lib/site_perl/5.18.1/KiokuDB.pm line 575
	KiokuDB::store_objects('Text::Tradition::Store=HASH(0xc5df7b0)', 'root_set', 1, 'objects', 'ARRAY(0xb28f2e0)') called at /home/c/perl5/perlbrew/perls/18.1i/lib/site_perl/5.18.1/KiokuDB.pm line 470
	KiokuDB::_store('Text::Tradition::Store=HASH(0xc5df7b0)', 1, 'user:http://example.com', 'Text::Tradition::User=HASH(0xc5ddb28)') called at /home/c/perl5/perlbrew/perls/18.1i/lib/site_perl/5.18.1/KiokuDB.pm line 473
	KiokuDB::store('Text::Tradition::Store=HASH(0xc5df7b0)', 'user:http://example.com', 'Text::Tradition::User=HASH(0xc5ddb28)') called at /home/c/perl5/perlbrew/perls/18.1i/lib/site_perl/5.18.1/i686-linux-thread-multi/Moose/Meta/Method/Delegation.pm line 116
	KiokuX::Model::store('Text::Tradition::Directory=HASH(0xb3fa118)', 'user:http://example.com', 'Text::Tradition::User=HASH(0xc5ddb28)') called at /home/c/.cpan/build/Text-Tradition-Directory-1.2-loOBMR/blib/lib/Text/Tradition/Directory.pm line 455
	Text::Tradition::Directory::add_user('Text::Tradition::Directory=HASH(0xb3fa118)', 'HASH(0xb8b96a0)') called at /home/c/.cpan/build/Text-Tradition-Directory-1.2-loOBMR/blib/lib/Text/Tradition/Directory.pm line 475
	Text::Tradition::Directory::create_user('Text::Tradition::Directory=HASH(0xb3fa118)', 'HASH(0xb8b96a0)') called at t/userrestore.t line 25
t/userrestore.t ................... ok
All tests successful.
Files=9, Tests=101, 25 wallclock secs ( 0.11 usr  0.09 sys + 19.94 cusr  1.92 csys = 22.06 CPU)
Result: PASS

------------------------------
PREREQUISITES
------------------------------

Prerequisite modules loaded:

requires:

    Module                         Need  Have    
    ------------------------------ ----- --------
    Class::Load                    0     0.20    
    DBI                            0     1.630   
    JSON                           0     2.90    
    KiokuDB::Backend::DBI          0     1.22    
    KiokuDB::GC::Naive             0     0.56    
    KiokuDB::TypeMap               0     0.56    
    KiokuDB::TypeMap::Entry::Naive 0     0.56    
    KiokuX::Model                  0     0.02    
    KiokuX::User::Util             0     0       
    Moose                          0     2.1201  
    Moose::Role                    0     2.1201  
    namespace::clean               0     0.24    
    perl                           5.012 5.018001
    Safe::Isa                      0     1.000004
    Text::Tradition                1.1   2.0.1   
    TryCatch                       0     1.003002
    YAML::XS                       0     0.41    

build_requires:

    Module                         Need  Have    
    ------------------------------ ----- --------
    ExtUtils::MakeMaker            6.59  6.86    
    Test::Memory::Cycle            0     1.04    
    Test::More::UTF8               0     0.04    
    Test::Warn                     0     0.24    

configure_requires:

    Module                         Need  Have    
    ------------------------------ ----- --------
    ExtUtils::MakeMaker            6.59  6.86    


------------------------------
ENVIRONMENT AND OTHER CONTEXT
------------------------------

Environment variables:

    AUTOMATED_TESTING = 1
    LANG = ru_RU.utf8
    PATH = /home/c/perl5/perlbrew/bin:/home/c/perl5/perlbrew/perls/18.1i/bin:/usr/local/bin:/usr/bin:/bin:/usr/local/games:/usr/games
    PERL5LIB = /home/c/.cpan/build/KiokuX-Model-0.02-7Q4j7Y/blib/arch:/home/c/.cpan/build/KiokuX-Model-0.02-7Q4j7Y/blib/lib:/home/c/.cpan/build/KiokuX-User-0.02-ZpoTEi/blib/arch:/home/c/.cpan/build/KiokuX-User-0.02-ZpoTEi/blib/lib:/home/c/.cpan/build/MooseX-Types-Authen-Passphrase-0.04-TlrMCn/blib/arch:/home/c/.cpan/build/MooseX-Types-Authen-Passphrase-0.04-TlrMCn/blib/lib:/home/c/.cpan/build/Module-Build-Tiny-0.039-dBJkBi/blib/arch:/home/c/.cpan/build/Module-Build-Tiny-0.039-dBJkBi/blib/lib:/home/c/.cpan/build/Text-Tradition-2.0.1-xCMyXG/blib/arch:/home/c/.cpan/build/Text-Tradition-2.0.1-xCMyXG/blib/lib:/home/c/.cpan/build/Text-TEI-Markup-1.9-WBxdPY/blib/arch:/home/c/.cpan/build/Text-TEI-Markup-1.9-WBxdPY/blib/lib:/home/c/.cpan/build/Convert-Number-Armenian-0.1-LnkiMV/blib/arch:/home/c/.cpan/build/Convert-Number-Armenian-0.1-LnkiMV/blib/lib:/home/c/.cpan/build/Test-More-UTF8-0.04-genzEL/blib/arch:/home/c/.cpan/build/Test-More-UTF8-0.04-genzEL/blib/lib:/home/c/.cpan/build/Throwable-X-0.007-fTUPbS/blib/arch:/home/c/.cpan/build/Throwable-X-0.007-fTUPbS/blib/lib:/home/c/.cpan/build/Role-HasPayload-0.006-GbP7R_/blib/arch:/home/c/.cpan/build/Role-HasPayload-0.006-GbP7R_/blib/lib:/home/c/.cpan/build/Graph-0.96-EDnVGm/blib/arch:/home/c/.cpan/build/Graph-0.96-EDnVGm/blib/lib:/home/c/.cpan/build/XML-Easy-0.009-WqGYkq/blib/arch:/home/c/.cpan/build/XML-Easy-0.009-WqGYkq/blib/lib:/home/c/.cpan/build/IPC-Run-0.94-G0PGB0/blib/arch:/home/c/.cpan/build/IPC-Run-0.94-G0PGB0/blib/lib
    PERL5OPT = 
    PERL5_CPANPLUS_IS_RUNNING = 6215
    PERL5_CPAN_IS_RUNNING = 6215
    PERL5_CPAN_IS_RUNNING_IN_RECURSION = 6299,6215
    PERLBREW_MANPATH = /home/c/perl5/perlbrew/perls/18.1i/man
    PERLBREW_PATH = /home/c/perl5/perlbrew/bin:/home/c/perl5/perlbrew/perls/18.1i/bin
    PERLBREW_PERL = 18.1i
    PERLBREW_ROOT = /home/c/perl5/perlbrew
    PERLBREW_SKIP_INIT = 1
    PERLBREW_VERSION = 0.67
    PERL_CR_SMOKER_CURRENT = Text-Tradition-Directory-1.2
    PERL_EXTUTILS_AUTOINSTALL = --defaultdeps
    PERL_MM_USE_DEFAULT = 1
    SHELL = /bin/bash
    TERM = xterm

Perl special variables (and OS-specific diagnostics, for MSWin32):

    $^X = /home/c/perl5/perlbrew/perls/18.1i/bin/perl
    $UID/$EUID = 1000 / 1000
    $GID = 1000 24 25 29 30 44 46 103 105 108 110 1000
    $EGID = 1000 24 25 29 30 44 46 103 105 108 110 1000

Perl module toolchain versions installed:

    Module              Have    
    ------------------- --------
    CPAN                2.00    
    CPAN::Meta          2.133380
    Cwd                 3.40    
    ExtUtils::CBuilder  0.280210
    ExtUtils::Command   1.17    
    ExtUtils::Install   1.59    
    ExtUtils::MakeMaker 6.86    
    ExtUtils::Manifest  1.63    
    ExtUtils::ParseXS   3.22    
    File::Spec          3.40    
    JSON                2.90    
    JSON::PP            2.27203 
    Module::Build       0.4204  
    Module::Signature   n/a     
    Parse::CPAN::Meta   1.4405  
    Test::Harness       3.30    
    Test::More          1.001002
    YAML                0.88    
    YAML::Syck          1.27    
    version             0.9907  


--

Summary of my perl5 (revision 5 version 18 subversion 1) configuration:
   
  Platform:
    osname=linux, osvers=3.2.0-4-486, archname=i686-linux-thread-multi
    uname='linux deb7 3.2.0-4-486 #1 debian 3.2.51-1 i686 gnulinux '
    config_args='-de -Dprefix=/home/c/perl5/perlbrew/perls/18.1i -Dusethreads -Aeval:scriptdir=/home/c/perl5/perlbrew/perls/18.1i/bin'
    hint=recommended, useposix=true, d_sigaction=define
    useithreads=define, usemultiplicity=define
    useperlio=define, d_sfio=undef, uselargefiles=define, usesocks=undef
    use64bitint=undef, use64bitall=undef, uselongdouble=undef
    usemymalloc=n, bincompat5005=undef
  Compiler:
    cc='cc', ccflags ='-D_REENTRANT -D_GNU_SOURCE -fno-strict-aliasing -pipe -fstack-protector -I/usr/local/include -D_LARGEFILE_SOURCE -D_FILE_OFFSET_BITS=64',
    optimize='-O2',
    cppflags='-D_REENTRANT -D_GNU_SOURCE -fno-strict-aliasing -pipe -fstack-protector -I/usr/local/include'
    ccversion='', gccversion='4.7.2', gccosandvers=''
    intsize=4, longsize=4, ptrsize=4, doublesize=8, byteorder=1234
    d_longlong=define, longlongsize=8, d_longdbl=define, longdblsize=12
    ivtype='long', ivsize=4, nvtype='double', nvsize=8, Off_t='off_t', lseeksize=8
    alignbytes=4, prototype=define
  Linker and Libraries:
    ld='cc', ldflags =' -fstack-protector -L/usr/local/lib'
    libpth=/usr/local/lib /lib/i386-linux-gnu /lib/../lib /usr/lib/i386-linux-gnu /usr/lib/../lib /lib /usr/lib
    libs=-lnsl -lgdbm -ldb -ldl -lm -lcrypt -lutil -lpthread -lc -lgdbm_compat
    perllibs=-lnsl -ldl -lm -lcrypt -lutil -lpthread -lc
    libc=, so=so, useshrplib=false, libperl=libperl.a
    gnulibc_version='2.13'
  Dynamic Linking:
    dlsrc=dl_dlopen.xs, dlext=so, d_dlsymun=undef, ccdlflags='-Wl,-E'
    cccdlflags='-fPIC', lddlflags='-shared -O2 -L/usr/local/lib -fstack-protector'


Characteristics of this binary (from libperl): 
  Compile-time options: HAS_TIMES MULTIPLICITY PERLIO_LAYERS
                        PERL_DONT_CREATE_GVSV
                        PERL_HASH_FUNC_ONE_AT_A_TIME_HARD
                        PERL_IMPLICIT_CONTEXT PERL_MALLOC_WRAP
                        PERL_PRESERVE_IVUV PERL_SAWAMPERSAND USE_ITHREADS
                        USE_LARGE_FILES USE_LOCALE USE_LOCALE_COLLATE
                        USE_LOCALE_CTYPE USE_LOCALE_NUMERIC USE_PERLIO
                        USE_PERL_ATOF USE_REENTRANT_API
  Built under linux
  Compiled at Jan 14 2014 14:37:40
  %ENV:
    PERL5LIB="/home/c/.cpan/build/KiokuX-Model-0.02-7Q4j7Y/blib/arch:/home/c/.cpan/build/KiokuX-Model-0.02-7Q4j7Y/blib/lib:/home/c/.cpan/build/KiokuX-User-0.02-ZpoTEi/blib/arch:/home/c/.cpan/build/KiokuX-User-0.02-ZpoTEi/blib/lib:/home/c/.cpan/build/MooseX-Types-Authen-Passphrase-0.04-TlrMCn/blib/arch:/home/c/.cpan/build/MooseX-Types-Authen-Passphrase-0.04-TlrMCn/blib/lib:/home/c/.cpan/build/Module-Build-Tiny-0.039-dBJkBi/blib/arch:/home/c/.cpan/build/Module-Build-Tiny-0.039-dBJkBi/blib/lib:/home/c/.cpan/build/Text-Tradition-2.0.1-xCMyXG/blib/arch:/home/c/.cpan/build/Text-Tradition-2.0.1-xCMyXG/blib/lib:/home/c/.cpan/build/Text-TEI-Markup-1.9-WBxdPY/blib/arch:/home/c/.cpan/build/Text-TEI-Markup-1.9-WBxdPY/blib/lib:/home/c/.cpan/build/Convert-Number-Armenian-0.1-LnkiMV/blib/arch:/home/c/.cpan/build/Convert-Number-Armenian-0.1-LnkiMV/blib/lib:/home/c/.cpan/build/Test-More-UTF8-0.04-genzEL/blib/arch:/home/c/.cpan/build/Test-More-UTF8-0.04-genzEL/blib/lib:/home/c/.cpan/build/Throwable-X-0.007-fTUPbS/blib/arch:/home/c/.cpan/build/Throwable-X-0.007-fTUPbS/blib/lib:/home/c/.cpan/build/Role-HasPayload-0.006-GbP7R_/blib/arch:/home/c/.cpan/build/Role-HasPayload-0.006-GbP7R_/blib/lib:/home/c/.cpan/build/Graph-0.96-EDnVGm/blib/arch:/home/c/.cpan/build/Graph-0.96-EDnVGm/blib/lib:/home/c/.cpan/build/XML-Easy-0.009-WqGYkq/blib/arch:/home/c/.cpan/build/XML-Easy-0.009-WqGYkq/blib/lib:/home/c/.cpan/build/IPC-Run-0.94-G0PGB0/blib/arch:/home/c/.cpan/build/IPC-Run-0.94-G0PGB0/blib/lib"
    PERL5OPT=""
    PERL5_CPANPLUS_IS_RUNNING="6215"
    PERL5_CPAN_IS_RUNNING="6215"
    PERL5_CPAN_IS_RUNNING_IN_RECURSION="6299,6215"
    PERLBREW_MANPATH="/home/c/perl5/perlbrew/perls/18.1i/man"
    PERLBREW_PATH="/home/c/perl5/perlbrew/bin:/home/c/perl5/perlbrew/perls/18.1i/bin"
    PERLBREW_PERL="18.1i"
    PERLBREW_ROOT="/home/c/perl5/perlbrew"
    PERLBREW_SKIP_INIT="1"
    PERLBREW_VERSION="0.67"
    PERL_CR_SMOKER_CURRENT="Text-Tradition-Directory-1.2"
    PERL_EXTUTILS_AUTOINSTALL="--defaultdeps"
    PERL_MM_USE_DEFAULT="1"
  @INC:
    /home/c/.cpan/build/KiokuX-Model-0.02-7Q4j7Y/blib/arch
    /home/c/.cpan/build/KiokuX-Model-0.02-7Q4j7Y/blib/lib
    /home/c/.cpan/build/KiokuX-User-0.02-ZpoTEi/blib/arch
    /home/c/.cpan/build/KiokuX-User-0.02-ZpoTEi/blib/lib
    /home/c/.cpan/build/MooseX-Types-Authen-Passphrase-0.04-TlrMCn/blib/arch
    /home/c/.cpan/build/MooseX-Types-Authen-Passphrase-0.04-TlrMCn/blib/lib
    /home/c/.cpan/build/Module-Build-Tiny-0.039-dBJkBi/blib/arch
    /home/c/.cpan/build/Module-Build-Tiny-0.039-dBJkBi/blib/lib
    /home/c/.cpan/build/Text-Tradition-2.0.1-xCMyXG/blib/arch
    /home/c/.cpan/build/Text-Tradition-2.0.1-xCMyXG/blib/lib
    /home/c/.cpan/build/Text-TEI-Markup-1.9-WBxdPY/blib/arch
    /home/c/.cpan/build/Text-TEI-Markup-1.9-WBxdPY/blib/lib
    /home/c/.cpan/build/Convert-Number-Armenian-0.1-LnkiMV/blib/arch
    /home/c/.cpan/build/Convert-Number-Armenian-0.1-LnkiMV/blib/lib
    /home/c/.cpan/build/Test-More-UTF8-0.04-genzEL/blib/arch
    /home/c/.cpan/build/Test-More-UTF8-0.04-genzEL/blib/lib
    /home/c/.cpan/build/Throwable-X-0.007-fTUPbS/blib/arch
    /home/c/.cpan/build/Throwable-X-0.007-fTUPbS/blib/lib
    /home/c/.cpan/build/Role-HasPayload-0.006-GbP7R_/blib/arch
    /home/c/.cpan/build/Role-HasPayload-0.006-GbP7R_/blib/lib
    /home/c/.cpan/build/Graph-0.96-EDnVGm/blib/arch
    /home/c/.cpan/build/Graph-0.96-EDnVGm/blib/lib
    /home/c/.cpan/build/XML-Easy-0.009-WqGYkq/blib/arch
    /home/c/.cpan/build/XML-Easy-0.009-WqGYkq/blib/lib
    /home/c/.cpan/build/IPC-Run-0.94-G0PGB0/blib/arch
    /home/c/.cpan/build/IPC-Run-0.94-G0PGB0/blib/lib
    /home/c/perl5/perlbrew/perls/18.1i/lib/site_perl/5.18.1/i686-linux-thread-multi
    /home/c/perl5/perlbrew/perls/18.1i/lib/site_perl/5.18.1
    /home/c/perl5/perlbrew/perls/18.1i/lib/5.18.1/i686-linux-thread-multi
    /home/c/perl5/perlbrew/perls/18.1i/lib/5.18.1
    .