Report for Test-WWW-Mechanize-Catalyst-0.59

Back
From: metabase:user:bde34802-c222-11e2-9634-0f85d716587b
Subject: PASS Test-WWW-Mechanize-Catalyst-0.59 v5.18.1 GNU/Linux
Date: 2014-01-21T22:24:55Z

This distribution has been tested as part of the CPAN Testers
project, supporting the Perl programming language.  See
http://wiki.cpantesters.org/ for more information or email
questions to cpan-testers-discuss@perl.org


--
Dear ILMARI,

This is a computer-generated report for Test-WWW-Mechanize-Catalyst-0.59
on perl 5.18.1, created by App::cpanminus::reporter 0.10 (1.7001).

Thank you for uploading your work to CPAN.  Congratulations!
All tests were successful.

Sections of this report:

    * Tester comments
    * Program output
    * Prerequisites
    * Environment and other context

------------------------------
TESTER COMMENTS
------------------------------

Additional comments from tester:

none provided

------------------------------
PROGRAM OUTPUT
------------------------------

Output from '':

Building and testing Test-WWW-Mechanize-Catalyst-0.59
cp lib/Test/WWW/Mechanize/Catalyst.pm blib/lib/Test/WWW/Mechanize/Catalyst.pm
Manifying blib/man3/Test::WWW::Mechanize::Catalyst.3
PERL_DL_NONLAZY=1 /home/rsrchboy/perl5/perlbrew/perls/perl-5.18.1/bin/perl "-MExtUtils::Command::MM" "-MTest::Harness" "-e" "undef *Test::Harness::Switches; test_harness(0, 'inc', 'blib/lib', 'blib/arch')" t/*.t
t/auth-test.t ........... ok
t/cookies.t ............. ok
t/decoded_content.t ..... ok
# 
# ###################################################################
# Starting an external Catalyst HTTP server on port 7357
# To change the port, please set the TWMC_TEST_PORT env variable.
# (The server will be automatically shut-down right after the tests).
# ###################################################################
HTTP::Server::PSGI: Accepting connections at http://0:7357/
t/multi_content_type.t .. ok
t/pod.t ................. ok
t/redirect.t ............ ok
t/simple.t .............. ok
t/two_app.t ............. ok
t/useragent.t ........... ok
t/white_label.t ......... ok
All tests successful.
Files=10, Tests=108, 36 wallclock secs ( 0.14 usr  0.02 sys + 22.03 cusr  1.57 csys = 23.76 CPU)
Result: PASS

------------------------------
PREREQUISITES
------------------------------

Prerequisite modules loaded:

    No requirements found

------------------------------
ENVIRONMENT AND OTHER CONTEXT
------------------------------

Environment variables:

    LANG = en_US.UTF-8
    LANGUAGE = en_US
    LC_CTYPE = en_US.UTF-8
    PATH = /home/rsrchboy/.perlbrew/libs/perl-5.18.1@trunk/bin:/home/rsrchboy/perl5/perlbrew/bin:/home/rsrchboy/perl5/perlbrew/perls/perl-5.18.1/bin:/home/rsrchboy/bin:/home/rsrchboy/.gem/ruby/1.8/bin:/usr/lib/lightdm/lightdm:/usr/local/sbin:/usr/local/bin:/usr/sbin:/usr/bin:/sbin:/bin:/usr/games:/usr/local/games
    PERL5LIB = /home/rsrchboy/.perlbrew/libs/perl-5.18.1@trunk/lib/perl5
    PERLBREW_BASHRC_VERSION = 0.66
    PERLBREW_HOME = /home/rsrchboy/.perlbrew
    PERLBREW_LIB = trunk
    PERLBREW_MANPATH = /home/rsrchboy/.perlbrew/libs/perl-5.18.1@trunk/man:/home/rsrchboy/perl5/perlbrew/perls/perl-5.18.1/man
    PERLBREW_PATH = /home/rsrchboy/.perlbrew/libs/perl-5.18.1@trunk/bin:/home/rsrchboy/perl5/perlbrew/bin:/home/rsrchboy/perl5/perlbrew/perls/perl-5.18.1/bin
    PERLBREW_PERL = perl-5.18.1
    PERLBREW_ROOT = /home/rsrchboy/perl5/perlbrew
    PERLBREW_VERSION = 0.66
    PERL_LOCAL_LIB_ROOT = /home/rsrchboy/.perlbrew/libs/perl-5.18.1@trunk
    PERL_MB_OPT = --install_base /home/rsrchboy/.perlbrew/libs/perl-5.18.1@trunk
    PERL_MM_OPT = INSTALL_BASE=/home/rsrchboy/.perlbrew/libs/perl-5.18.1@trunk
    SHELL = /bin/zsh
    TEMP = /tmp/user/1000
    TERM = screen-256color
    TMPDIR = /tmp/user/1000

Perl special variables (and OS-specific diagnostics, for MSWin32):

    EGID = 1000 4 24 27 30 46 112 124 1000
    EUID = 1000
    EXECUTABLE_NAME = /home/rsrchboy/perl5/perlbrew/perls/perl-5.18.1/bin/perl
    GID = 1000 4 24 27 30 46 112 124 1000
    UID = 1000

Perl module toolchain versions installed:

    Module              Have    
    ------------------- --------
    CPAN                2.00    
    CPAN::Meta          2.133380
    Cwd                 3.40    
    ExtUtils::CBuilder  0.280212
    ExtUtils::Command   1.18    
    ExtUtils::Install   1.59    
    ExtUtils::MakeMaker 6.86    
    ExtUtils::Manifest  1.63    
    ExtUtils::ParseXS   3.22    
    File::Spec          3.40    
    JSON                2.90    
    JSON::PP            2.27203 
    Module::Build       0.4204  
    Module::Signature   0.73    
    Parse::CPAN::Meta   1.4409  
    Test::Harness       3.30    
    Test::More          1.001002
    YAML                0.88    
    YAML::Syck          1.27    
    version             0.9907  


--

Summary of my perl5 (revision 5 version 18 subversion 1) configuration:
   
  Platform:
    osname=linux, osvers=3.11.0-12-generic, archname=x86_64-linux
    uname='linux apollo 3.11.0-12-generic #19-ubuntu smp wed oct 9 16:20:46 utc 2013 x86_64 x86_64 x86_64 gnulinux '
    config_args='-de -Dprefix=/home/rsrchboy/perl5/perlbrew/perls/perl-5.18.1 -Aeval:scriptdir=/home/rsrchboy/perl5/perlbrew/perls/perl-5.18.1/bin'
    hint=recommended, useposix=true, d_sigaction=define
    useithreads=undef, usemultiplicity=undef
    useperlio=define, d_sfio=undef, uselargefiles=define, usesocks=undef
    use64bitint=define, use64bitall=define, uselongdouble=undef
    usemymalloc=n, bincompat5005=undef
  Compiler:
    cc='cc', ccflags ='-fno-strict-aliasing -pipe -fstack-protector -I/usr/local/include -D_LARGEFILE_SOURCE -D_FILE_OFFSET_BITS=64',
    optimize='-O2',
    cppflags='-fno-strict-aliasing -pipe -fstack-protector -I/usr/local/include'
    ccversion='', gccversion='4.8.1', gccosandvers=''
    intsize=4, longsize=8, ptrsize=8, doublesize=8, byteorder=12345678
    d_longlong=define, longlongsize=8, d_longdbl=define, longdblsize=16
    ivtype='long', ivsize=8, nvtype='double', nvsize=8, Off_t='off_t', lseeksize=8
    alignbytes=8, prototype=define
  Linker and Libraries:
    ld='cc', ldflags =' -fstack-protector -L/usr/local/lib'
    libpth=/usr/local/lib /lib/x86_64-linux-gnu /lib/../lib /usr/lib/x86_64-linux-gnu /usr/lib/../lib /lib /usr/lib
    libs=-lnsl -ldl -lm -lcrypt -lutil -lc
    perllibs=-lnsl -ldl -lm -lcrypt -lutil -lc
    libc=, so=so, useshrplib=false, libperl=libperl.a
    gnulibc_version='2.17'
  Dynamic Linking:
    dlsrc=dl_dlopen.xs, dlext=so, d_dlsymun=undef, ccdlflags='-Wl,-E'
    cccdlflags='-fPIC', lddlflags='-shared -O2 -L/usr/local/lib -fstack-protector'


Characteristics of this binary (from libperl): 
  Compile-time options: HAS_TIMES PERLIO_LAYERS PERL_DONT_CREATE_GVSV
                        PERL_HASH_FUNC_ONE_AT_A_TIME_HARD PERL_MALLOC_WRAP
                        PERL_PRESERVE_IVUV PERL_SAWAMPERSAND USE_64_BIT_ALL
                        USE_64_BIT_INT USE_LARGE_FILES USE_LOCALE
                        USE_LOCALE_COLLATE USE_LOCALE_CTYPE
                        USE_LOCALE_NUMERIC USE_PERLIO USE_PERL_ATOF
  Built under linux
  Compiled at Nov  4 2013 17:38:59
  %ENV:
    PERL5LIB="/home/rsrchboy/.perlbrew/libs/perl-5.18.1@trunk/lib/perl5"
    PERLBREW_BASHRC_VERSION="0.66"
    PERLBREW_HOME="/home/rsrchboy/.perlbrew"
    PERLBREW_LIB="trunk"
    PERLBREW_MANPATH="/home/rsrchboy/.perlbrew/libs/perl-5.18.1@trunk/man:/home/rsrchboy/perl5/perlbrew/perls/perl-5.18.1/man"
    PERLBREW_PATH="/home/rsrchboy/.perlbrew/libs/perl-5.18.1@trunk/bin:/home/rsrchboy/perl5/perlbrew/bin:/home/rsrchboy/perl5/perlbrew/perls/perl-5.18.1/bin"
    PERLBREW_PERL="perl-5.18.1"
    PERLBREW_ROOT="/home/rsrchboy/perl5/perlbrew"
    PERLBREW_VERSION="0.66"
    PERL_LOCAL_LIB_ROOT="/home/rsrchboy/.perlbrew/libs/perl-5.18.1@trunk"
    PERL_MB_OPT="--install_base /home/rsrchboy/.perlbrew/libs/perl-5.18.1@trunk"
    PERL_MM_OPT="INSTALL_BASE=/home/rsrchboy/.perlbrew/libs/perl-5.18.1@trunk"
  @INC:
    /home/rsrchboy/.perlbrew/libs/perl-5.18.1@trunk/lib/perl5/x86_64-linux
    /home/rsrchboy/.perlbrew/libs/perl-5.18.1@trunk/lib/perl5
    /home/rsrchboy/perl5/perlbrew/perls/perl-5.18.1/lib/site_perl/5.18.1/x86_64-linux
    /home/rsrchboy/perl5/perlbrew/perls/perl-5.18.1/lib/site_perl/5.18.1
    /home/rsrchboy/perl5/perlbrew/perls/perl-5.18.1/lib/5.18.1/x86_64-linux
    /home/rsrchboy/perl5/perlbrew/perls/perl-5.18.1/lib/5.18.1
    .