Imager v1.024_002 Perl 5 v5.26.2 darwin-thread-multi-2level
- Status
- Pass
- From
- David Cantrell (DCANTRELL)
- Dist
-
Imager v1.024_002
- Platform
- Perl 5 v5.26.2 darwin-thread-multi-2level
- Date
- 2024-04-23 00:31:41
- ID
- dae5289a-0108-11ef-93fc-ed5bd42bf7bd
This distribution has been tested as part of the CPAN Testers
project, supporting the Perl programming language. See
http://wiki.cpantesters.org/ for more information or email
questions to cpan-testers-discuss@perl.org
--
Dear Tony Cook,
This is a computer-generated report for Imager-1.024_002
on perl 5.26.2, created by CPAN-Reporter-1.2019.
Thank you for uploading your work to CPAN. Congratulations!
All tests were successful.
Sections of this report:
* Tester comments
* Program output
* Prerequisites
* Environment and other context
------------------------------
TESTER COMMENTS
------------------------------
Additional comments from tester:
this report is from an automated smoke testing program
and was not reviewed by a human for accuracy
------------------------------
PROGRAM OUTPUT
------------------------------
Output from '/usr/bin/make test':
"/Users/cpantesting/cpantesting/perl-5.26.2/bin/perl" -MExtUtils::Command::MM -e 'cp_nonempty' -- Imager.bs blib/arch/auto/Imager/Imager.bs 644
"/Users/cpantesting/cpantesting/perl-5.26.2/bin/perl" -MExtUtils::Command::MM -e 'cp_nonempty' -- CountColor.bs ../blib/arch/auto/Imager/CountColor/CountColor.bs 644
Manifying 1 pod document
"/Users/cpantesting/cpantesting/perl-5.26.2/bin/perl" -MExtUtils::Command::MM -e 'cp_nonempty' -- DynTest.bs ../blib/arch/auto/Imager/Filter/DynTest/DynTest.bs 644
"/Users/cpantesting/cpantesting/perl-5.26.2/bin/perl" -MExtUtils::Command::MM -e 'cp_nonempty' -- FT2.bs ../blib/arch/auto/Imager/Font/FT2/FT2.bs 644
Manifying 1 pod document
"/Users/cpantesting/cpantesting/perl-5.26.2/bin/perl" -MExtUtils::Command::MM -e 'cp_nonempty' -- Flines.bs ../blib/arch/auto/Imager/Filter/Flines/Flines.bs 644
Manifying 1 pod document
"/Users/cpantesting/cpantesting/perl-5.26.2/bin/perl" -MExtUtils::Command::MM -e 'cp_nonempty' -- GIF.bs ../blib/arch/auto/Imager/File/GIF/GIF.bs 644
Manifying 1 pod document
"/Users/cpantesting/cpantesting/perl-5.26.2/bin/perl" -MExtUtils::Command::MM -e 'cp_nonempty' -- ICO.bs ../blib/arch/auto/Imager/File/ICO/ICO.bs 644
Manifying 1 pod document
"/Users/cpantesting/cpantesting/perl-5.26.2/bin/perl" -MExtUtils::Command::MM -e 'cp_nonempty' -- JPEG.bs ../blib/arch/auto/Imager/File/JPEG/JPEG.bs 644
Manifying 1 pod document
"/Users/cpantesting/cpantesting/perl-5.26.2/bin/perl" -MExtUtils::Command::MM -e 'cp_nonempty' -- Mandelbrot.bs ../blib/arch/auto/Imager/Filter/Mandelbrot/Mandelbrot.bs 644
Manifying 1 pod document
"/Users/cpantesting/cpantesting/perl-5.26.2/bin/perl" -MExtUtils::Command::MM -e 'cp_nonempty' -- PNG.bs ../blib/arch/auto/Imager/File/PNG/PNG.bs 644
Manifying 1 pod document
"/Users/cpantesting/cpantesting/perl-5.26.2/bin/perl" -MExtUtils::Command::MM -e 'cp_nonempty' -- SGI.bs ../blib/arch/auto/Imager/File/SGI/SGI.bs 644
Manifying 1 pod document
"/Users/cpantesting/cpantesting/perl-5.26.2/bin/perl" -MExtUtils::Command::MM -e 'cp_nonempty' -- TIFF.bs ../blib/arch/auto/Imager/File/TIFF/TIFF.bs 644
Manifying 1 pod document
make[1]: Nothing to be done for `all'.
"/Users/cpantesting/cpantesting/perl-5.26.2/bin/perl" -MExtUtils::Command::MM -e 'cp_nonempty' -- CountColor.bs ../blib/arch/auto/Imager/CountColor/CountColor.bs 644
PERL_DL_NONLAZY=1 "/Users/cpantesting/cpantesting/perl-5.26.2/bin/perl" "-MExtUtils::Command::MM" "-MTest::Harness" "-e" "undef *Test::Harness::Switches; test_harness(0, '../blib/lib', '../blib/arch')" t/*.t
t/t00countcolor.t .. ok
All tests successful.
Files=1, Tests=9, 1 wallclock secs ( 0.03 usr 0.02 sys + 0.17 cusr 0.05 csys = 0.27 CPU)
Result: PASS
"/Users/cpantesting/cpantesting/perl-5.26.2/bin/perl" -MExtUtils::Command::MM -e 'cp_nonempty' -- DynTest.bs ../blib/arch/auto/Imager/Filter/DynTest/DynTest.bs 644
PERL_DL_NONLAZY=1 "/Users/cpantesting/cpantesting/perl-5.26.2/bin/perl" "-MExtUtils::Command::MM" "-MTest::Harness" "-e" "undef *Test::Harness::Switches; test_harness(0, '../blib/lib', '../blib/arch')" t/*.t
t/t00dyntest.t .. ok
All tests successful.
Files=1, Tests=4, 0 wallclock secs ( 0.02 usr 0.01 sys + 0.17 cusr 0.04 csys = 0.24 CPU)
Result: PASS
"/Users/cpantesting/cpantesting/perl-5.26.2/bin/perl" -MExtUtils::Command::MM -e 'cp_nonempty' -- FT2.bs ../blib/arch/auto/Imager/Font/FT2/FT2.bs 644
PERL_DL_NONLAZY=1 "/Users/cpantesting/cpantesting/perl-5.26.2/bin/perl" "-MExtUtils::Command::MM" "-MTest::Harness" "-e" "undef *Test::Harness::Switches; test_harness(0, '../blib/lib', '../blib/arch')" t/*.t
FreeType2 runtime 2.13.2 compile-time 2.13.2
t/t10ft2.t ..... ok
t/t20thread.t .. ok
t/t90std.t ..... ok
All tests successful.
Files=3, Tests=234, 8 wallclock secs ( 0.07 usr 0.02 sys + 1.68 cusr 4.81 csys = 6.58 CPU)
Result: PASS
"/Users/cpantesting/cpantesting/perl-5.26.2/bin/perl" -MExtUtils::Command::MM -e 'cp_nonempty' -- Flines.bs ../blib/arch/auto/Imager/Filter/Flines/Flines.bs 644
PERL_DL_NONLAZY=1 "/Users/cpantesting/cpantesting/perl-5.26.2/bin/perl" "-MExtUtils::Command::MM" "-MTest::Harness" "-e" "undef *Test::Harness::Switches; test_harness(0, '../blib/lib', '../blib/arch')" t/*.t
t/t00flines.t .. ok
All tests successful.
Files=1, Tests=3, 0 wallclock secs ( 0.03 usr 0.01 sys + 0.18 cusr 0.06 csys = 0.28 CPU)
Result: PASS
"/Users/cpantesting/cpantesting/perl-5.26.2/bin/perl" -MExtUtils::Command::MM -e 'cp_nonempty' -- GIF.bs ../blib/arch/auto/Imager/File/GIF/GIF.bs 644
PERL_DL_NONLAZY=1 "/Users/cpantesting/cpantesting/perl-5.26.2/bin/perl" "-MExtUtils::Command::MM" "-MTest::Harness" "-e" "undef *Test::Harness::Switches; test_harness(0, '../blib/lib', '../blib/arch')" t/*.t
# giflib version (from header) 5.2
t/t10gif.t ..... ok
t/t20new.t ..... ok
t/t30fixed.t ... ok
t/t40limit.t ... ok
t/t50header.t .. ok
All tests successful.
Files=5, Tests=204, 7 wallclock secs ( 0.08 usr 0.02 sys + 2.15 cusr 3.34 csys = 5.59 CPU)
Result: PASS
"/Users/cpantesting/cpantesting/perl-5.26.2/bin/perl" -MExtUtils::Command::MM -e 'cp_nonempty' -- ICO.bs ../blib/arch/auto/Imager/File/ICO/ICO.bs 644
PERL_DL_NONLAZY=1 "/Users/cpantesting/cpantesting/perl-5.26.2/bin/perl" "-MExtUtils::Command::MM" "-MTest::Harness" "-e" "undef *Test::Harness::Switches; test_harness(0, '../blib/lib', '../blib/arch')" t/*.t
t/t10icon.t ......... ok
t/t20readone.t ...... ok
t/t21readmult.t ..... ok
t/t30cursor.t ....... ok
t/t40readcurone.t ... ok
t/t41curmultread.t .. ok
t/t50readfail.t ..... ok
t/t60writefail.t .... ok
t/t70icosing.t ...... ok
t/t71icomult.t ...... ok
t/t72cursing.t ...... ok
t/t73curmult.t ...... ok
All tests successful.
Files=12, Tests=253, 3 wallclock secs ( 0.09 usr 0.04 sys + 2.05 cusr 0.41 csys = 2.59 CPU)
Result: PASS
"/Users/cpantesting/cpantesting/perl-5.26.2/bin/perl" -MExtUtils::Command::MM -e 'cp_nonempty' -- JPEG.bs ../blib/arch/auto/Imager/File/JPEG/JPEG.bs 644
PERL_DL_NONLAZY=1 "/Users/cpantesting/cpantesting/perl-5.26.2/bin/perl" "-MExtUtils::Command::MM" "-MTest::Harness" "-e" "undef *Test::Harness::Switches; test_harness(0, '../blib/lib', '../blib/arch')" t/*.t
t/t00load.t ... ok
# libjpeg version: libjpeg-turbo version 3.0.2 api 80
t/t10jpeg.t ... ok
t/t20limit.t .. ok
All tests successful.
Files=3, Tests=188, 5 wallclock secs ( 0.07 usr 0.02 sys + 1.63 cusr 2.66 csys = 4.38 CPU)
Result: PASS
"/Users/cpantesting/cpantesting/perl-5.26.2/bin/perl" -MExtUtils::Command::MM -e 'cp_nonempty' -- Mandelbrot.bs ../blib/arch/auto/Imager/Filter/Mandelbrot/Mandelbrot.bs 644
PERL_DL_NONLAZY=1 "/Users/cpantesting/cpantesting/perl-5.26.2/bin/perl" "-MExtUtils::Command::MM" "-MTest::Harness" "-e" "undef *Test::Harness::Switches; test_harness(0, '../blib/lib', '../blib/arch')" t/*.t
t/t00mandel.t .. ok
All tests successful.
Files=1, Tests=3, 1 wallclock secs ( 0.03 usr 0.01 sys + 0.17 cusr 0.04 csys = 0.25 CPU)
Result: PASS
"/Users/cpantesting/cpantesting/perl-5.26.2/bin/perl" -MExtUtils::Command::MM -e 'cp_nonempty' -- PNG.bs ../blib/arch/auto/Imager/File/PNG/PNG.bs 644
PERL_DL_NONLAZY=1 "/Users/cpantesting/cpantesting/perl-5.26.2/bin/perl" "-MExtUtils::Command::MM" "-MTest::Harness" "-e" "undef *Test::Harness::Switches; test_harness(0, '../blib/lib', '../blib/arch')" t/*.t
t/00load.t .. ok
# Library version 10643
t/10png.t ... ok
All tests successful.
Files=2, Tests=260, 2 wallclock secs ( 0.07 usr 0.01 sys + 1.10 cusr 0.59 csys = 1.77 CPU)
Result: PASS
"/Users/cpantesting/cpantesting/perl-5.26.2/bin/perl" -MExtUtils::Command::MM -e 'cp_nonempty' -- SGI.bs ../blib/arch/auto/Imager/File/SGI/SGI.bs 644
PERL_DL_NONLAZY=1 "/Users/cpantesting/cpantesting/perl-5.26.2/bin/perl" "-MExtUtils::Command::MM" "-MTest::Harness" "-e" "undef *Test::Harness::Switches; test_harness(0, '../blib/lib', '../blib/arch')" t/*.t
t/00load.t ... ok
t/10read.t ... ok
t/20write.t .. ok
t/30limit.t .. ok
All tests successful.
Files=4, Tests=175, 3 wallclock secs ( 0.09 usr 0.02 sys + 1.06 cusr 1.21 csys = 2.38 CPU)
Result: PASS
"/Users/cpantesting/cpantesting/perl-5.26.2/bin/perl" -MExtUtils::Command::MM -e 'cp_nonempty' -- TIFF.bs ../blib/arch/auto/Imager/File/TIFF/TIFF.bs 644
PERL_DL_NONLAZY=1 "/Users/cpantesting/cpantesting/perl-5.26.2/bin/perl" "-MExtUtils::Command::MM" "-MTest::Harness" "-e" "undef *Test::Harness::Switches; test_harness(0, '../blib/lib', '../blib/arch')" t/*.t
# libtiff binary release 4.6.0
# build version date 20230908
# build version 4.6.0
t/10tiff.t .. ok
All tests successful.
Files=1, Tests=258, 5 wallclock secs ( 0.07 usr 0.01 sys + 1.26 cusr 2.75 csys = 4.09 CPU)
Result: PASS
make[1]: Nothing to be done for `test_dynamic'.
PERL_DL_NONLAZY=1 "/Users/cpantesting/cpantesting/perl-5.26.2/bin/perl" "-MExtUtils::Command::MM" "-MTest::Harness" "-e" "undef *Test::Harness::Switches; test_harness(0, 'blib/lib', 'blib/arch')" t/*.t t/*/*.t
t/000-load.t ......................... ok
t/100-base/010-introvert.t ........... ok
t/100-base/020-color.t ............... ok
t/100-base/030-countc.t .............. ok
t/100-base/040-extra8.t .............. ok
t/100-base/050-data8.t ............... ok
t/100-base/100-linear.t .............. ok
t/100-base/800-tr18561.t ............. ok
t/100-base/801-tr18561b.t ............ ok
t/150-type/020-sixteen.t ............. ok
t/150-type/030-double.t .............. ok
t/150-type/040-palette.t ............. ok
t/150-type/050-float.t ............... ok
t/150-type/060-lin16.t ............... ok
t/150-type/070-lindbl.t .............. ok
t/150-type/100-masked.t .............. ok
t/150-type/300-extra16.t ............. ok
t/150-type/310-extradbl.t ............ ok
t/150-type/320-extramask.t ........... ok
t/200-file/010-iolayer.t ............. ok
t/200-file/100-files.t ............... ok
t/200-file/200-nojpeg.t .............. skipped: have jpeg support - this tests the lack of it
t/200-file/210-nopng.t ............... skipped: png available, and this tests the lack of it
t/200-file/220-nogif.t ............... skipped: gif support available and this tests the lack of it
t/200-file/230-notiff.t .............. skipped: tiff support available - this tests the lack of it
t/200-file/300-raw.t ................. ok
t/200-file/310-pnm.t ................. ok
t/200-file/320-bmp.t ................. ok
t/200-file/330-tga.t ................. ok
t/200-file/400-basic.t ............... ok
t/200-file/450-preload.t ............. ok
t/250-draw/010-draw.t ................ ok
t/250-draw/020-flood.t ............... ok
t/250-draw/030-paste.t ............... ok
t/250-draw/040-rubthru.t ............. ok
t/250-draw/050-polyaa.t .............. ok
t/250-draw/060-polypoly.t ............ ok
t/250-draw/100-fill.t ................ ok
t/250-draw/200-compose.t ............. ok
t/300-transform/010-scale.t .......... ok
t/300-transform/020-combine.t ........ ok
t/300-transform/030-copyflip.t ....... ok
t/300-transform/040-crop.t ........... ok
t/300-transform/050-convert.t ........ ok
t/300-transform/060-map.t ............ ok
t/300-transform/200-trimcolorlist.t .. ok
t/300-transform/210-trim.t ........... ok
t/300-transform/500-trans.t .......... skipped: No Affix::Infix2Postfix
t/300-transform/600-trans2.t ......... ok
t/300-transform/610-postfix.t ........ ok
t/300-transform/620-infix.t .......... ok
t/300-transform/630-assem.t .......... ok
t/350-font/010-font.t ................ ok
t/350-font/020-tt.t .................. ok
t/350-font/030-ttoo.t ................ ok
t/350-font/040-ttstd.t ............... skipped: No tt available
t/350-font/100-texttools.t ........... ok
t/400-filter/010-filters.t ........... ok
t/400-filter/020-autolevels.t ........ ok
Inline version 0.86
t/450-api/100-inline.t ............... ok
t/450-api/110-inlinectx.t ............ ok
t/450-api/130-cpp.t .................. skipped: Inline::CPP required for testing C++ compatibility
t/850-thread/010-base.t .............. ok
t/850-thread/100-error.t ............. ok
t/850-thread/110-log.t ............... ok
t/900-util/010-test.t ................ ok
t/900-util/020-error.t ............... ok
t/900-util/030-log.t ................. ok
t/900-util/040-limit.t ............... ok
t/900-util/050-matrix.t .............. ok
t/900-util/060-extutil.t ............. ok
t/900-util/060-hlines.t .............. ok
t/950-kwalitee/010-pod.t ............. ok
t/950-kwalitee/020-samples.t ......... ok
t/950-kwalitee/030-podcover.t ........ ok
t/950-kwalitee/040-strict.t .......... ok
t/950-kwalitee/050-meta.t ............ ok
t/950-kwalitee/060-podstruct.t ....... ok
t/950-kwalitee/070-mymeta.t .......... ok
t/950-kwalitee/080-nousevars.t ....... ok
All tests successful.
Files=80, Tests=9222, 67 wallclock secs ( 1.67 usr 0.40 sys + 29.91 cusr 20.47 csys = 52.45 CPU)
Result: PASS
------------------------------
PREREQUISITES
------------------------------
Prerequisite modules loaded:
requires:
Module Need Have
------------------- ---- --------
Exporter 5.57 5.72
Scalar::Util 1.00 1.63
Test::More 0.99 1.302198
XSLoader 0 0.27
build_requires:
Module Need Have
------------------- ---- --------
ExtUtils::MakeMaker 0 7.58
Test::More 0.99 1.302198
configure_requires:
Module Need Have
------------------- ---- --------
ExtUtils::MakeMaker 0 7.58
opt_requires:
Module Need Have
------------------- ---- --------
Parse::RecDescent 0 1.967015
------------------------------
ENVIRONMENT AND OTHER CONTEXT
------------------------------
Environment variables:
AUTOMATED_TESTING = 1
NONINTERACTIVE_TESTING = 1
PATH = /Users/cpantesting/perl5/perlbrew/bin:/Users/cpantesting/perl5/perlbrew/perls/perl-5.32.0/bin:/usr/local/bin:/System/Cryptexes/App/usr/bin:/usr/bin:/bin:/usr/sbin:/sbin:/Library/Apple/usr/bin:/Users/cpantesting/.cargo/bin
PERL = 5.26.2
PERL5LIB =
PERL5OPT =
PERL5_CPANPLUS_IS_RUNNING = 55285
PERL5_CPAN_IS_RUNNING = 55285
PERLBREW_HOME = /Users/cpantesting/.perlbrew
PERLBREW_MANPATH = /Users/cpantesting/perl5/perlbrew/perls/perl-5.32.0/man
PERLBREW_PATH = /Users/cpantesting/perl5/perlbrew/bin:/Users/cpantesting/perl5/perlbrew/perls/perl-5.32.0/bin
PERLBREW_PERL = perl-5.32.0
PERLBREW_ROOT = /Users/cpantesting/perl5/perlbrew
PERLBREW_SHELLRC_VERSION = 0.94
PERLBREW_VERSION = 0.94
PERLVER = 5.26.2
PERL_INLINE_DIRECTORY = /Users/cpantesting/.Inline-5.26.2
PERL_MM_USE_DEFAULT = 1
PERL_USE_UNSAFE_INC = 0
SHELL = /bin/bash
TERM = screen
Perl special variables (and OS-specific diagnostics, for MSWin32):
$^X = /Users/cpantesting/cpantesting/perl-5.26.2/bin/perl
$UID/$EUID = 503 / 503
$GID = 20 20 12 61 703 702 701 100
$EGID = 20 20 12 61 703 702 701 100
Perl module toolchain versions installed:
Module Have
------------------- ----------
CPAN 2.18
CPAN::Meta 2.150010
Cwd 3.67
ExtUtils::CBuilder 0.280235
ExtUtils::Command 7.58
ExtUtils::Install 2.06
ExtUtils::MakeMaker 7.58
ExtUtils::Manifest 1.70
ExtUtils::ParseXS 3.34
File::Spec 3.67
JSON 4.10
JSON::PP 2.27400_02
Module::Build 0.4231
Module::Signature n/a
Parse::CPAN::Meta 2.150010
Test2 1.302198
Test::Harness 3.38
Test::More 1.302198
YAML n/a
YAML::Syck n/a
version 0.9917
--
Summary of my perl5 (revision 5 version 26 subversion 2) configuration:
Platform:
osname=darwin
osvers=19.6.0
archname=darwin-thread-multi-2level
uname='darwin harrow.local 19.6.0 darwin kernel version 19.6.0: thu oct 29 22:56:45 pdt 2020; root:xnu-6153.141.2.2~1release_x86_64 x86_64 '
config_args='-de -Dusethreads -Dprefix=/Users/cpantesting/cpantesting/perl-5.26.2'
hint=recommended
useposix=true
d_sigaction=define
useithreads=define
usemultiplicity=define
use64bitint=define
use64bitall=define
uselongdouble=undef
usemymalloc=n
default_inc_excludes_dot=define
bincompat5005=undef
Compiler:
cc='cc'
ccflags ='-fno-common -DPERL_DARWIN -mmacosx-version-min=10.15 -fno-strict-aliasing -pipe -fstack-protector-strong -I/usr/local/include -DPERL_USE_SAFE_PUTENV'
optimize='-O3'
cppflags='-fno-common -DPERL_DARWIN -mmacosx-version-min=10.15 -fno-strict-aliasing -pipe -fstack-protector-strong -I/usr/local/include'
ccversion=''
gccversion='Apple LLVM 12.0.0 (clang-1200.0.32.27)'
gccosandvers=''
intsize=4
longsize=8
ptrsize=8
doublesize=8
byteorder=12345678
doublekind=3
d_longlong=define
longlongsize=8
d_longdbl=define
longdblsize=16
longdblkind=3
ivtype='long'
ivsize=8
nvtype='double'
nvsize=8
Off_t='off_t'
lseeksize=8
alignbytes=8
prototype=define
Linker and Libraries:
ld='cc'
ldflags =' -mmacosx-version-min=10.15 -fstack-protector-strong -L/usr/local/lib'
libpth=/usr/local/lib /Library/Developer/CommandLineTools/usr/lib/clang/12.0.0/lib /Library/Developer/CommandLineTools/SDKs/MacOSX10.15.sdk/usr/lib /Library/Developer/CommandLineTools/usr/lib /usr/lib
libs=-lpthread -lgdbm -ldbm -ldl -lm -lutil -lc
perllibs=-lpthread -ldl -lm -lutil -lc
libc=
so=dylib
useshrplib=false
libperl=libperl.a
gnulibc_version=''
Dynamic Linking:
dlsrc=dl_dlopen.xs
dlext=bundle
d_dlsymun=undef
ccdlflags=' '
cccdlflags=' '
lddlflags=' -mmacosx-version-min=10.15 -bundle -undefined dynamic_lookup -L/usr/local/lib -fstack-protector-strong'
Characteristics of this binary (from libperl):
Compile-time options:
HAS_TIMES
MULTIPLICITY
PERLIO_LAYERS
PERL_COPY_ON_WRITE
PERL_DONT_CREATE_GVSV
PERL_IMPLICIT_CONTEXT
PERL_MALLOC_WRAP
PERL_OP_PARENT
PERL_PRESERVE_IVUV
PERL_USE_SAFE_PUTENV
USE_64_BIT_ALL
USE_64_BIT_INT
USE_ITHREADS
USE_LARGE_FILES
USE_LOCALE
USE_LOCALE_COLLATE
USE_LOCALE_CTYPE
USE_LOCALE_NUMERIC
USE_LOCALE_TIME
USE_PERLIO
USE_PERL_ATOF
USE_REENTRANT_API
Built under darwin
Compiled at Dec 29 2020 22:52:38
%ENV:
PERL="5.26.2"
PERL5LIB=""
PERL5OPT=""
PERL5_CPANPLUS_IS_RUNNING="55285"
PERL5_CPAN_IS_RUNNING="55285"
PERLBREW_HOME="/Users/cpantesting/.perlbrew"
PERLBREW_MANPATH="/Users/cpantesting/perl5/perlbrew/perls/perl-5.32.0/man"
PERLBREW_PATH="/Users/cpantesting/perl5/perlbrew/bin:/Users/cpantesting/perl5/perlbrew/perls/perl-5.32.0/bin"
PERLBREW_PERL="perl-5.32.0"
PERLBREW_ROOT="/Users/cpantesting/perl5/perlbrew"
PERLBREW_SHELLRC_VERSION="0.94"
PERLBREW_VERSION="0.94"
PERLVER="5.26.2"
PERL_INLINE_DIRECTORY="/Users/cpantesting/.Inline-5.26.2"
PERL_MM_USE_DEFAULT="1"
PERL_USE_UNSAFE_INC="0"
@INC:
/Users/cpantesting/cpantesting/perl-5.26.2/lib/site_perl/5.26.2/darwin-thread-multi-2level
/Users/cpantesting/cpantesting/perl-5.26.2/lib/site_perl/5.26.2
/Users/cpantesting/cpantesting/perl-5.26.2/lib/5.26.2/darwin-thread-multi-2level
/Users/cpantesting/cpantesting/perl-5.26.2/lib/5.26.2