Term-App-Util-Interactive v0.002 Perl 5 v5.24.1 darwin-2level

Status
Pass
From
Slaven Rezić
Dist
Term-App-Util-Interactive v0.002
Platform
Perl 5 v5.24.1 darwin-2level
Date
2021-04-18 14:25:02
ID
dce9c792-a051-11eb-a23f-bd151f24ea8f
This distribution has been tested as part of the CPAN Testers
project, supporting the Perl programming language.  See
http://wiki.cpantesters.org/ for more information or email
questions to cpan-testers-discuss@perl.org


--
Dear perlancar,

This is a computer-generated report for Term-App-Util-Interactive-0.002
on perl 5.24.1, created by CPAN-Reporter-1.2018.

Thank you for uploading your work to CPAN.  Congratulations!
All tests were successful.

Sections of this report:

    * Tester comments
    * Program output
    * Prerequisites
    * Environment and other context

------------------------------
TESTER COMMENTS
------------------------------

Additional comments from tester:

none provided

------------------------------
PROGRAM OUTPUT
------------------------------

Output from '/usr/bin/make test':

PERL_DL_NONLAZY=1 "/opt/perl-5.24.1/bin/perl" "-MExtUtils::Command::MM" "-MTest::Harness" "-e" "undef *Test::Harness::Switches; test_harness(0, 'blib/lib', 'blib/arch')" t/*.t
t/00-compile.t ........... ok
t/author-critic.t ........ skipped: these tests are for testing by the author
t/author-pod-coverage.t .. skipped: these tests are for testing by the author
t/author-pod-syntax.t .... skipped: these tests are for testing by the author
t/release-rinci.t ........ skipped: these tests are for release candidate testing
All tests successful.
Files=5, Tests=1,  1 wallclock secs ( 0.03 usr  0.01 sys +  0.09 cusr  0.04 csys =  0.17 CPU)
Result: PASS

------------------------------
PREREQUISITES
------------------------------

Prerequisite modules loaded:

requires:

    Module              Need Have    
    ------------------- ---- --------
    strict              0    1.11    
    warnings            0    1.36    

build_requires:

    Module              Need Have    
    ------------------- ---- --------
    ExtUtils::MakeMaker 0    7.10_02 
    File::Spec          0    3.63_01 
    IO::Handle          0    1.36    
    IPC::Open3          0    1.20    
    Test::More          0    1.302075

configure_requires:

    Module              Need Have    
    ------------------- ---- --------
    ExtUtils::MakeMaker 0    7.10_02 


------------------------------
ENVIRONMENT AND OTHER CONTEXT
------------------------------

Environment variables:

    LANG = de_DE.UTF-8
    PATH = /usr/local/bin:/usr/bin:/bin:/usr/local/sbin:/usr/sbin:/sbin:/Users/slaven.rezic/bin/darwin18.0:/Users/slaven.rezic/bin/sh:/Users/slaven.rezic/bin:/Users/slaven.rezic/bin/pistachio-perl/bin:/usr/games:/Users/slaven.rezic/devel:/Users/slaven.rezic/work/drafts-slaven.rezic/misc:/Users/slaven.rezic/work2/fzf/bin:/Users/slaven.rezic/src/srezic-misc/scripts
    PERL5LIB = /Users/slaven.rezic/.cpan/build/2021041816/Term-Detect-Software-0.223-F5J_2U/blib/arch:/Users/slaven.rezic/.cpan/build/2021041816/Term-Detect-Software-0.223-F5J_2U/blib/lib:/Users/slaven.rezic/.cpan/build/2021041816/Proc-Find-Parents-0.631-zSaGwx/blib/arch:/Users/slaven.rezic/.cpan/build/2021041816/Proc-Find-Parents-0.631-zSaGwx/blib/lib:/Users/slaven.rezic/.cpan/build/2021041816/Term-App-Util-Size-0.002-pSAtRx/blib/arch:/Users/slaven.rezic/.cpan/build/2021041816/Term-App-Util-Size-0.002-pSAtRx/blib/lib:/Users/slaven.rezic/.cpan/build/2021041816/Term-Size-0.211-XeobHh/blib/arch:/Users/slaven.rezic/.cpan/build/2021041816/Term-Size-0.211-XeobHh/blib/lib
    PERL5OPT = 
    PERL5_CPANPLUS_IS_RUNNING = 95815
    PERL5_CPAN_IS_RUNNING = 95815
    PERL5_CPAN_IS_RUNNING_IN_RECURSION = 25356,95815
    PERLDOC = -MPod::Perldoc::ToTextOverstrike
    PERL_BATCH = yes
    PERL_CANARY_STABILITY_NOPROMPT = 1
    PERL_CPAN_REPORTER_CONFIG = /var/tmp/cpansmoker-501/2021041815/cpanreporter_004_config.ini
    PERL_EXTUTILS_AUTOINSTALL = --defaultdeps
    SHELL = /bin/zsh
    TERM = screen
    TMPDIR = /var/tmp/cpansmoker-501/2021041815

Perl special variables (and OS-specific diagnostics, for MSWin32):

    $^X = /opt/perl-5.24.1/bin/perl
    $UID/$EUID = 501 / 501
    $GID = 20 20 501 701 12 61 702 98 100 703
    $EGID = 20 20 501 701 12 61 702 98 100 703

Perl module toolchain versions installed:

    Module              Have      
    ------------------- ----------
    CPAN                2.11_01   
    CPAN::Meta          2.150005  
    Cwd                 3.63_01   
    ExtUtils::CBuilder  0.280225  
    ExtUtils::Command   7.10_02   
    ExtUtils::Install   2.04      
    ExtUtils::MakeMaker 7.10_02   
    ExtUtils::Manifest  1.70      
    ExtUtils::ParseXS   3.31      
    File::Spec          3.63_01   
    JSON                2.90      
    JSON::PP            4.04      
    Module::Build       0.4220    
    Module::Signature   0.83      
    Parse::CPAN::Meta   1.4417_001
    Test::Harness       3.36_01   
    Test::More          1.302075  
    YAML                1.22      
    YAML::Syck          1.29      
    version             0.9916    


--

Summary of my perl5 (revision 5 version 24 subversion 1) configuration:
   
  Platform:
    osname=darwin, osvers=15.4.0, archname=darwin-2level
    uname='darwin macbook.herceg.de 15.4.0 darwin kernel version 15.4.0: fri feb 26 22:08:05 pst 2016; root:xnu-3248.40.184~3release_x86_64 x86_64 '
    config_args='-ds -e -Dprefix=/opt/perl-5.24.1 -Dcf_email=srezic@cpan.org'
    hint=recommended, useposix=true, d_sigaction=define
    useithreads=undef, usemultiplicity=undef
    use64bitint=define, use64bitall=define, uselongdouble=undef
    usemymalloc=n, bincompat5005=undef
  Compiler:
    cc='cc', ccflags ='-fno-common -DPERL_DARWIN -mmacosx-version-min=10.11 -fno-strict-aliasing -pipe -fstack-protector-strong -I/usr/local/include -DPERL_USE_SAFE_PUTENV',
    optimize='-O3',
    cppflags='-fno-common -DPERL_DARWIN -mmacosx-version-min=10.11 -fno-strict-aliasing -pipe -fstack-protector-strong -I/usr/local/include'
    ccversion='', gccversion='4.2.1 Compatible Apple LLVM 7.3.0 (clang-703.0.31)', gccosandvers=''
    intsize=4, longsize=8, ptrsize=8, doublesize=8, byteorder=12345678, doublekind=3
    d_longlong=define, longlongsize=8, d_longdbl=define, longdblsize=16, longdblkind=3
    ivtype='long', ivsize=8, nvtype='double', nvsize=8, Off_t='off_t', lseeksize=8
    alignbytes=8, prototype=define
  Linker and Libraries:
    ld='cc', ldflags =' -mmacosx-version-min=10.11 -fstack-protector-strong -L/usr/local/lib'
    libpth=/usr/local/lib /Library/Developer/CommandLineTools/usr/bin/../lib/clang/7.3.0/lib /Library/Developer/CommandLineTools/usr/lib /usr/lib
    libs=-lpthread -ldbm -ldb -ldl -lm -lutil -lc
    perllibs=-lpthread -ldl -lm -lutil -lc
    libc=, so=dylib, useshrplib=false, libperl=libperl.a
    gnulibc_version=''
  Dynamic Linking:
    dlsrc=dl_dlopen.xs, dlext=bundle, d_dlsymun=undef, ccdlflags=' '
    cccdlflags=' ', lddlflags=' -mmacosx-version-min=10.11 -bundle -undefined dynamic_lookup -L/usr/local/lib -fstack-protector-strong'


Characteristics of this binary (from libperl): 
  Compile-time options: HAS_TIMES PERLIO_LAYERS PERL_COPY_ON_WRITE
                        PERL_DONT_CREATE_GVSV
                        PERL_HASH_FUNC_ONE_AT_A_TIME_HARD PERL_MALLOC_WRAP
                        PERL_PRESERVE_IVUV PERL_USE_SAFE_PUTENV
                        USE_64_BIT_ALL USE_64_BIT_INT USE_LARGE_FILES
                        USE_LOCALE USE_LOCALE_COLLATE USE_LOCALE_CTYPE
                        USE_LOCALE_NUMERIC USE_LOCALE_TIME USE_PERLIO
                        USE_PERL_ATOF
  Built under darwin
  Compiled at Feb 18 2017 15:13:35
  %ENV:
    PERL5LIB="/Users/slaven.rezic/.cpan/build/2021041816/Term-Detect-Software-0.223-F5J_2U/blib/arch:/Users/slaven.rezic/.cpan/build/2021041816/Term-Detect-Software-0.223-F5J_2U/blib/lib:/Users/slaven.rezic/.cpan/build/2021041816/Proc-Find-Parents-0.631-zSaGwx/blib/arch:/Users/slaven.rezic/.cpan/build/2021041816/Proc-Find-Parents-0.631-zSaGwx/blib/lib:/Users/slaven.rezic/.cpan/build/2021041816/Term-App-Util-Size-0.002-pSAtRx/blib/arch:/Users/slaven.rezic/.cpan/build/2021041816/Term-App-Util-Size-0.002-pSAtRx/blib/lib:/Users/slaven.rezic/.cpan/build/2021041816/Term-Size-0.211-XeobHh/blib/arch:/Users/slaven.rezic/.cpan/build/2021041816/Term-Size-0.211-XeobHh/blib/lib"
    PERL5OPT=""
    PERL5_CPANPLUS_IS_RUNNING="95815"
    PERL5_CPAN_IS_RUNNING="95815"
    PERL5_CPAN_IS_RUNNING_IN_RECURSION="25356,95815"
    PERLDOC="-MPod::Perldoc::ToTextOverstrike"
    PERL_BATCH="yes"
    PERL_CANARY_STABILITY_NOPROMPT="1"
    PERL_CPAN_REPORTER_CONFIG="/var/tmp/cpansmoker-501/2021041815/cpanreporter_004_config.ini"
    PERL_EXTUTILS_AUTOINSTALL="--defaultdeps"
  @INC:
    /Users/slaven.rezic/.cpan/build/2021041816/Term-Detect-Software-0.223-F5J_2U/blib/arch
    /Users/slaven.rezic/.cpan/build/2021041816/Term-Detect-Software-0.223-F5J_2U/blib/lib
    /Users/slaven.rezic/.cpan/build/2021041816/Proc-Find-Parents-0.631-zSaGwx/blib/arch
    /Users/slaven.rezic/.cpan/build/2021041816/Proc-Find-Parents-0.631-zSaGwx/blib/lib
    /Users/slaven.rezic/.cpan/build/2021041816/Term-App-Util-Size-0.002-pSAtRx/blib/arch
    /Users/slaven.rezic/.cpan/build/2021041816/Term-App-Util-Size-0.002-pSAtRx/blib/lib
    /Users/slaven.rezic/.cpan/build/2021041816/Term-Size-0.211-XeobHh/blib/arch
    /Users/slaven.rezic/.cpan/build/2021041816/Term-Size-0.211-XeobHh/blib/lib
    /opt/perl-5.24.1/lib/site_perl/5.24.1/darwin-2level
    /opt/perl-5.24.1/lib/site_perl/5.24.1
    /opt/perl-5.24.1/lib/5.24.1/darwin-2level
    /opt/perl-5.24.1/lib/5.24.1
    .