App-Cache v0.37 Perl 5 v5.10.0 darwin-2level

Status
Pass
From
Andreas J. König (ANDK)
Dist
App-Cache v0.37
Platform
Perl 5 v5.10.0 darwin-2level
Date
2010-08-13 04:47:23
ID
dcf9e24c-a695-11df-930d-080ccc5de705
This distribution has been tested as part of the CPAN Testers
project, supporting the Perl programming language.  See
http://wiki.cpantesters.org/ for more information or email
questions to cpan-testers-discuss@perl.org


--
Dear Leon Brocard,

This is a computer-generated report for App-Cache-0.37
on perl 5.10.0, created by CPAN-Reporter-1.18.

Thank you for uploading your work to CPAN.  Congratulations!
All tests were successful.

Sections of this report:

    * Tester comments
    * Program output
    * Prerequisites
    * Environment and other context

------------------------------
TESTER COMMENTS
------------------------------

Additional comments from tester:

none provided

------------------------------
PROGRAM OUTPUT
------------------------------

Output from '/usr/bin/make test':

PERL_DL_NONLAZY=1 /usr/local/perl-5.10/bin/perl "-MExtUtils::Command::MM" "-e" "test_harness(0, 'blib/lib', 'blib/arch')" t/*.t
t/pod.t ........... ok
t/pod_coverage.t .. ok
t/simple.t ........ ok
All tests successful.
Files=3, Tests=50, 11 wallclock secs ( 0.05 usr  0.02 sys +  0.64 cusr  0.13 csys =  0.84 CPU)
Result: PASS

------------------------------
PREREQUISITES
------------------------------

Prerequisite modules loaded:

requires:

    Module                         Need Have 
    ------------------------------ ---- -----
    Class::Accessor::Chained::Fast 0    0    
    File::Find::Rule               0    0.30 
    File::HomeDir                  0    0.91 
    File::stat                     0    1.00 
    HTTP::Cookies                  0    5.833
    LWP::UserAgent                 0    5.834
    Path::Class                    0    0.18 
    Storable                       0    2.21 
    Test::More                     0    0.96 

configure_requires:

    Module                         Need Have 
    ------------------------------ ---- -----
    ExtUtils::MakeMaker            0    6.56 


------------------------------
ENVIRONMENT AND OTHER CONTEXT
------------------------------

Environment variables:

    LANG = C
    PATH = /opt/local/bin:/Users/k/bin:/usr/local/bin:/opt/local/bin:/opt/local/sbin:/bin:/sbin:/usr/bin:/usr/sbin:/usr/local/perl/bin:/usr/X11/bin
    PERL5LIB = /Users/sand/.cpan/build/Data-Entropy-0.006-tqQXZa/blib/arch:/Users/sand/.cpan/build/Data-Entropy-0.006-tqQXZa/blib/lib
    PERL5OPT = 
    PERL5_CPANPLUS_IS_RUNNING = 16410
    PERL5_CPAN_IS_RUNNING = 16410
    SHELL = /bin/sh
    TERM = xterm

Perl special variables (and OS-specific diagnostics, for MSWin32):

    $^X = /usr/local/perl-5.10/bin/perl
    $UID/$EUID = 501 / 501
    $GID = 501 501
    $EGID = 501 501

Perl module toolchain versions installed:

    Module              Have  
    ------------------- ------
    CPAN                1.9304
    Cwd                 3.31  
    ExtUtils::CBuilder  0.2703
    ExtUtils::Command   1.16  
    ExtUtils::Install   1.54  
    ExtUtils::MakeMaker 6.56  
    ExtUtils::Manifest  1.57  
    ExtUtils::ParseXS   2.21  
    File::Spec          3.31  
    Module::Build       0.3607
    Module::Signature   0.64  
    Test::Harness       3.21  
    Test::More          0.96  
    YAML                0.71  
    YAML::Syck          1.12  
    version             0.76  


--

Summary of my perl5 (revision 5 version 10 subversion 0) configuration:
  Platform:
    osname=darwin, osvers=8.11.1, archname=darwin-2level
    uname='darwin k78.linux.bogus 8.11.1 darwin kernel version 8.11.1: wed oct 10 18:23:28 pdt 2007; root:xnu-792.25.20~1release_i386 i386 i386 '
    config_args='-Dprefix=/usr/local/perl-5.10 -Ui_db -des'
    hint=recommended, useposix=true, d_sigaction=define
    useithreads=undef, usemultiplicity=undef
    useperlio=define, d_sfio=undef, uselargefiles=define, usesocks=undef
    use64bitint=undef, use64bitall=undef, uselongdouble=undef
    usemymalloc=n, bincompat5005=undef
  Compiler:
    cc='cc', ccflags ='-fno-common -DPERL_DARWIN -no-cpp-precomp -fno-strict-aliasing -pipe -I/opt/local/include',
    optimize='-O3',
    cppflags='-no-cpp-precomp -fno-common -DPERL_DARWIN -no-cpp-precomp -fno-strict-aliasing -pipe -I/opt/local/include'
    ccversion='', gccversion='4.0.1 (Apple Computer, Inc. build 5363)', gccosandvers=''
    intsize=4, longsize=4, ptrsize=4, doublesize=8, byteorder=1234
    d_longlong=define, longlongsize=8, d_longdbl=define, longdblsize=16
    ivtype='long', ivsize=4, nvtype='double', nvsize=8, Off_t='off_t', lseeksize=8
    alignbytes=8, prototype=define
  Linker and Libraries:
    ld='env MACOSX_DEPLOYMENT_TARGET=10.3 cc', ldflags =' -L/opt/local/lib'
    libpth=/opt/local/lib /usr/lib
    libs=-ldbm -ldl -lm -lc
    perllibs=-ldl -lm -lc
    libc=/usr/lib/libc.dylib, so=dylib, useshrplib=false, libperl=libperl.a
    gnulibc_version=''
  Dynamic Linking:
    dlsrc=dl_dlopen.xs, dlext=bundle, d_dlsymun=undef, ccdlflags=' '
    cccdlflags=' ', lddlflags=' -bundle -undefined dynamic_lookup -L/opt/local/lib'


Characteristics of this binary (from libperl): 
  Compile-time options: PERL_DONT_CREATE_GVSV PERL_MALLOC_WRAP
                        USE_LARGE_FILES USE_PERLIO
  Built under darwin
  Compiled at Apr 20 2008 10:44:35
  %ENV:
    PERL5LIB="/Users/sand/.cpan/build/Data-Entropy-0.006-tqQXZa/blib/arch:/Users/sand/.cpan/build/Data-Entropy-0.006-tqQXZa/blib/lib"
    PERL5OPT=""
    PERL5_CPANPLUS_IS_RUNNING="16410"
    PERL5_CPAN_IS_RUNNING="16410"
  @INC:
    /Users/sand/.cpan/build/Data-Entropy-0.006-tqQXZa/blib/arch
    /Users/sand/.cpan/build/Data-Entropy-0.006-tqQXZa/blib/lib
    /usr/local/perl-5.10/lib/5.10.0/darwin-2level
    /usr/local/perl-5.10/lib/5.10.0
    /usr/local/perl-5.10/lib/site_perl/5.10.0/darwin-2level
    /usr/local/perl-5.10/lib/site_perl/5.10.0
    .