Task-Sites-ShlomiFish v0.0215 Perl 5 v5.36.0 x86_64-linux

Status
Pass
From
Slaven Rezić
Dist
Task-Sites-ShlomiFish v0.0215
Platform
Perl 5 v5.36.0 x86_64-linux
Date
2023-11-29 11:24:30
ID
dd2a4fda-8ea9-11ee-aaa5-d9fb6d8775ea
This distribution has been tested as part of the CPAN Testers
project, supporting the Perl programming language.  See
http://wiki.cpantesters.org/ for more information or email
questions to cpan-testers-discuss@perl.org


--
Dear Shlomi Fish,

This is a computer-generated report for Task-Sites-ShlomiFish-0.0215
on perl 5.36.0, created by CPAN-Reporter-1.2018.

Thank you for uploading your work to CPAN.  Congratulations!
All tests were successful.

Sections of this report:

    * Tester comments
    * Program output
    * Prerequisites
    * Environment and other context

------------------------------
TESTER COMMENTS
------------------------------

Additional comments from tester:

none provided

------------------------------
PROGRAM OUTPUT
------------------------------

Output from './Build test':

t/00-load.t ............... ok
t/cpan-changes.t .......... ok
t/pod-coverage.t .......... ok
t/pod.t ................... ok
t/style-trailing-space.t .. ok
All tests successful.
Files=5, Tests=8,  0 wallclock secs ( 0.02 usr  0.01 sys +  0.29 cusr  0.05 csys =  0.37 CPU)
Result: PASS

------------------------------
PREREQUISITES
------------------------------

Prerequisite modules loaded:

requires:

    Module                                                 Need   Have    
    ------------------------------------------------------ ------ --------
    App::XML::DocBook::Builder                             0      0.1100  
    base                                                   0      2.27    
    Carp                                                   0      1.52    
    Carp::Always                                           0      0.16    
    CGI                                                    0      4.56    
    CGI::Minimal                                           0      1.30    
    Class::Accessor                                        0      0.51    
    Config::IniFiles                                       0      3.000003
    Cwd                                                    0      3.84    
    DateTime                                               0      1.63    
    DateTime::Format::Strptime                             0      1.79    
    DBD::SQLite                                            0      1.72    
    DBI                                                    0      1.643   
    Encode                                                 0      3.19    
    Exporter                                               0      5.77    
    Fcntl                                                  0      1.15    
    File::Basename                                         0      2.85    
    File::Copy                                             0      2.39    
    File::Find                                             0      1.40    
    File::Find::Object                                     0      0.3.8   
    File::Find::Object::Rule                               0      0.0313  
    File::Path                                             0      2.18    
    File::Spec                                             0      3.84    
    File::Spec::Functions                                  0      3.84    
    File::Which                                            0      1.27    
    Games::Solitaire::Verify::Base                         0      0.2403  
    HTML::Acronyms                                         0      0.0.4   
    HTML::Links::Localize                                  0      0.2.11  
    HTML::Selector::XPath                                  0      0.26    
    HTML::T5                                               0      0.013   
    HTML::TextToHTML                                       0      2.5201  
    HTML::TokeParser::Simple                               0      3.16    
    HTML::TreeBuilder::LibXML                              0      0.26    
    HTML::Widgets::NavMenu::ToJSON                         0      0.0.8   
    HTML::Widgets::NavMenu::ToJSON::Data_Persistence::YAML 0      0.0.8   
    Imager                                                 0      1.019   
    IO::All                                                0      0.87    
    JSON                                                   0      4.10    
    MIME::Types                                            0      2.23    
    Moose                                                  0      2.2206  
    Parallel::ForkManager                                  0      2.02    
  ! Parallel::Map::Segmented                               0      n/a     
    perl                                                   5.014  5.036000
    Proc::ProcessTable                                     0      0.635   
    QuadPres                                               0      0.30.0  
    Set::CSS                                               0      0.2.0   
    Spork::Shlomify                                        0.0200 0.0403  
    strict                                                 0      1.12    
    String::ShellQuote                                     0      1.04    
    SVG                                                    0      2.87    
    Task::Latemp                                           0      0.0107  
    Template::Preprocessor::TTML                           0      0.0105  
    Test::Count                                            0      0.1105  
    Test::Count::Filter                                    0      0.1105  
    Test::HTML::Tidy::Recursive                            0      0.6.2   
    Test::More                                             0      1.302196
    Test::Perl::Critic                                     0      1.04    
    Test::TrailingSpace                                    0      0.0601  
    Text::Hunspell                                         0      2.16    
    Text::VimColor                                         0      0.29    
    URI::Find                                              0      20160806
    utf8                                                   0      1.24    
    vars                                                   0      1.05    
    warnings                                               0      1.58    
    XML::Amazon                                            0      0.14    
    XML::Feed                                              0      0.63    
    XML::Grammar::Fiction                                  v0.7.0 0.30.0  
    XML::Grammar::Fortune                                  0.0107 0.0900  
    XML::Grammar::Fortune::Synd::App                       0      0.0400  
    XML::Grammar::Fortune::ToText                          0      0.0900  
    XML::Grammar::ProductsSyndication                      0.0302 0.0406  
    XML::Grammar::Screenplay                               v0.7.0 0.30.0  
    XML::Grammar::Vered                                    0      0.2.1   
    XML::LibXML::XPathContext                              0      2.0207  
    XML::LibXSLT                                           0      2.002001
    XML::Parser                                            0      2.46    
    XML::Writer                                            0      0.900   

configure_requires:

    Module                                                 Need   Have    
    ------------------------------------------------------ ------ --------
    Module::Build                                          0.36   0.4234  


------------------------------
ENVIRONMENT AND OTHER CONTEXT
------------------------------

Environment variables:

    LANG = en_US.UTF-8
    PATH = /usr/local/bin:/usr/bin:/bin:/usr/local/sbin:/usr/sbin:/sbin:/home/cpansand/bin/linux-gnu:/home/cpansand/bin/sh:/home/cpansand/bin:/usr/games:/home/cpansand/devel:/home/eserte/src/srezic-misc/scripts
    PERL5LIB = 
    PERL5OPT = 
    PERL5_CPANPLUS_IS_RUNNING = 24026
    PERL5_CPAN_IS_RUNNING = 24026
    PERL5_CPAN_IS_RUNNING_IN_RECURSION = 23905,24026
    PERLDOC = -MPod::Perldoc::ToTextOverstrike
    PERL_BATCH = yes
    PERL_CANARY_STABILITY_NOPROMPT = 1
    PERL_CPAN_REPORTER_CONFIG = /var/tmp/cpansmoker-1023/2023112911/cpanreporter_000_config.ini
    PERL_EXTUTILS_AUTOINSTALL = --defaultdeps
    PERL_USE_UNSAFE_INC = 1
    SHELL = /usr/bin/zsh
    TERM = screen
    TMPDIR = /var/tmp/cpansmoker-1023/2023112911

Perl special variables (and OS-specific diagnostics, for MSWin32):

    $^X = /opt/perl-5.36.0/bin/perl
    $UID/$EUID = 1023 / 1023
    $GID = 1023 1023
    $EGID = 1023 1023

Perl module toolchain versions installed:

    Module              Have    
    ------------------- --------
    CPAN                2.36    
    CPAN::Meta          2.150010
    Cwd                 3.84    
    ExtUtils::CBuilder  0.280236
    ExtUtils::Command   7.70    
    ExtUtils::Install   2.20    
    ExtUtils::MakeMaker 7.70    
    ExtUtils::Manifest  1.75    
    ExtUtils::ParseXS   3.51    
    File::Spec          3.84    
    JSON                4.10    
    JSON::PP            4.12    
    Module::Build       0.4234  
    Module::Signature   0.88    
    Parse::CPAN::Meta   2.150010
    Test::Harness       3.47    
    Test::More          1.302196
    YAML                1.30    
    YAML::Syck          1.34    
    version             0.9930  


--

Summary of my perl5 (revision 5 version 36 subversion 0) configuration:
   
  Platform:
    osname=linux
    osvers=3.10.0-1160.76.1.el7.x86_64
    archname=x86_64-linux
    uname='linux cloud3.bbbike.org 3.10.0-1160.76.1.el7.x86_64 #1 smp wed aug 10 16:21:17 utc 2022 x86_64 x86_64 x86_64 gnulinux '
    config_args='-ds -e -Dprefix=/opt/perl-5.36.0 -Dcf_email=srezic@cpan.org'
    hint=recommended
    useposix=true
    d_sigaction=define
    useithreads=undef
    usemultiplicity=undef
    use64bitint=define
    use64bitall=define
    uselongdouble=undef
    usemymalloc=n
    default_inc_excludes_dot=define
  Compiler:
    cc='cc'
    ccflags ='-std=gnu99 -fwrapv -fno-strict-aliasing -pipe -fstack-protector-strong -I/usr/local/include -D_LARGEFILE_SOURCE -D_FILE_OFFSET_BITS=64 -D_FORTIFY_SOURCE=2'
    optimize='-O2'
    cppflags='-std=gnu99 -fwrapv -fno-strict-aliasing -pipe -fstack-protector-strong -I/usr/local/include'
    ccversion=''
    gccversion='4.8.5 20150623 (Red Hat 4.8.5-44)'
    gccosandvers=''
    intsize=4
    longsize=8
    ptrsize=8
    doublesize=8
    byteorder=12345678
    doublekind=3
    d_longlong=define
    longlongsize=8
    d_longdbl=define
    longdblsize=16
    longdblkind=3
    ivtype='long'
    ivsize=8
    nvtype='double'
    nvsize=8
    Off_t='off_t'
    lseeksize=8
    alignbytes=8
    prototype=define
  Linker and Libraries:
    ld='cc'
    ldflags =' -fstack-protector-strong -L/usr/local/lib'
    libpth=/usr/local/lib /usr/lib /usr/lib64 /usr/local/lib64
    libs=-lpthread -lnsl -lgdbm -ldb -ldl -lm -lcrypt -lutil -lc -lgdbm_compat
    perllibs=-lpthread -lnsl -ldl -lm -lcrypt -lutil -lc
    libc=libc-2.17.so
    so=so
    useshrplib=false
    libperl=libperl.a
    gnulibc_version='2.17'
  Dynamic Linking:
    dlsrc=dl_dlopen.xs
    dlext=so
    d_dlsymun=undef
    ccdlflags='-Wl,-E'
    cccdlflags='-fPIC'
    lddlflags='-shared -O2 -L/usr/local/lib -fstack-protector-strong'


Characteristics of this binary (from libperl): 
  Compile-time options:
    HAS_TIMES
    PERLIO_LAYERS
    PERL_COPY_ON_WRITE
    PERL_DONT_CREATE_GVSV
    PERL_MALLOC_WRAP
    PERL_OP_PARENT
    PERL_PRESERVE_IVUV
    USE_64_BIT_ALL
    USE_64_BIT_INT
    USE_LARGE_FILES
    USE_LOCALE
    USE_LOCALE_COLLATE
    USE_LOCALE_CTYPE
    USE_LOCALE_NUMERIC
    USE_LOCALE_TIME
    USE_PERLIO
    USE_PERL_ATOF
  Built under linux
  Compiled at Sep 20 2022 21:40:31
  %ENV:
    PERL5LIB=""
    PERL5OPT=""
    PERL5_CPANPLUS_IS_RUNNING="24026"
    PERL5_CPAN_IS_RUNNING="24026"
    PERL5_CPAN_IS_RUNNING_IN_RECURSION="23905,24026"
    PERLDOC="-MPod::Perldoc::ToTextOverstrike"
    PERL_BATCH="yes"
    PERL_CANARY_STABILITY_NOPROMPT="1"
    PERL_CPAN_REPORTER_CONFIG="/var/tmp/cpansmoker-1023/2023112911/cpanreporter_000_config.ini"
    PERL_EXTUTILS_AUTOINSTALL="--defaultdeps"
    PERL_USE_UNSAFE_INC="1"
  @INC:
    /opt/perl-5.36.0/lib/site_perl/5.36.0/x86_64-linux
    /opt/perl-5.36.0/lib/site_perl/5.36.0
    /opt/perl-5.36.0/lib/5.36.0/x86_64-linux
    /opt/perl-5.36.0/lib/5.36.0
    .