Mojolicious v9.40 Perl 5 v5.38.4 darwin-2level

Status
Pass
From
Dist
Mojolicious v9.40
Platform
Perl 5 v5.38.4 darwin-2level
Date
2025-05-16 21:00:57
ID
dd66fa7c-3298-11f0-9690-e9513cdff31c
This distribution has been tested as part of the CPAN Testers
project, supporting the Perl programming language.  See
http://wiki.cpantesters.org/ for more information or email
questions to cpan-testers-discuss@perl.org


--
Dear SRI,

This is a computer-generated report for Mojolicious-9.40
on perl 5.38.4, created by App::cpanminus::reporter 0.22 (1.7048).

Thank you for uploading your work to CPAN.  Congratulations!
All tests were successful.

Sections of this report:

    * Tester comments
    * Program output
    * Prerequisites
    * Environment and other context

------------------------------
TESTER COMMENTS
------------------------------

Additional comments from tester:

none provided

------------------------------
PROGRAM OUTPUT
------------------------------

Output from '':

Building and testing Mojolicious-9.40
cp script/hypnotoad blib/script/hypnotoad
"/Volumes/chambord/Users/ether/perl5/perlbrew/perls/38.4/bin/perl" -MExtUtils::MY -e 'MY->fixin(shift)' -- blib/script/hypnotoad
cp script/mojo blib/script/mojo
"/Volumes/chambord/Users/ether/perl5/perlbrew/perls/38.4/bin/perl" -MExtUtils::MY -e 'MY->fixin(shift)' -- blib/script/mojo
cp script/morbo blib/script/morbo
"/Volumes/chambord/Users/ether/perl5/perlbrew/perls/38.4/bin/perl" -MExtUtils::MY -e 'MY->fixin(shift)' -- blib/script/morbo
PERL_DL_NONLAZY=1 "/Volumes/chambord/Users/ether/perl5/perlbrew/perls/38.4/bin/perl" "-MExtUtils::Command::MM" "-MTest::Harness" "-e" "undef *Test::Harness::Switches; test_harness(0, 'blib/lib', 'blib/arch')" t/*.t t/*/*.t
t/mojo/base_util.t ......................... ok
t/mojo/cache.t ............................. ok
t/mojo/base.t .............................. ok
t/mojo/bytestream.t ........................ ok
t/mojo/asset.t ............................. ok
t/mojo/content.t ........................... ok
t/mojo/collection.t ........................ ok
t/mojo/date.t .............................. ok
t/mojo/cookie.t ............................ ok
t/mojo/cgi.t ............................... ok
t/mojo/cookiejar.t ......................... ok
t/mojo/eventemitter.t ...................... ok
t/mojo/dynamic_methods.t ................... ok
t/mojo/daemon_ipv6_tls.t ................... skipped: set TEST_IPV6 to enable this test (developer only!)
t/mojo/daemon.t ............................ ok
t/mojo/exception.t ......................... ok
t/mojo/file.t .............................. ok
t/mojo/headers.t ........................... ok
t/mojo/home.t .............................. ok
t/mojo/file_download.t ..................... ok
t/mojo/dom.t ............................... ok
t/mojo/ioloop_ipv6.t ....................... skipped: set TEST_IPV6 to enable this test (developer only!)
t/mojo/hypnotoad.t ......................... skipped: set TEST_HYPNOTOAD to enable this test (developer only!)
t/mojo/json_pointer.t ...................... ok
t/mojo/json.t .............................. ok
t/mojo/json_xs.t ........................... ok
t/mojo/ioloop_tls.t ........................ skipped: set TEST_TLS to enable this test (developer only!)
t/mojo/log.t ............................... ok
t/mojo/loader.t ............................ ok
t/mojo/path.t .............................. ok
t/mojo/parameters.t ........................ ok
t/mojo/promise_async_await.t ............... skipped: set TEST_ASYNC_AWAIT to enable this test (developer only!)
t/mojo/morbo.t ............................. skipped: set TEST_MORBO to enable this test (developer only!)
t/mojo/proxy.t ............................. ok
t/mojo/prefork.t ........................... skipped: set TEST_PREFORK to enable this test (developer only!)
t/mojo/reactor_ev.t ........................ skipped: set TEST_EV to enable this test (developer only!)
t/mojo/reactor_detect.t .................... ok
t/mojo/psgi.t .............................. ok
t/mojo/request_cgi.t ....................... ok
t/mojo/response.t .......................... ok
t/mojo/promise.t ........................... ok
t/mojo/roles.t ............................. ok
t/mojo/signatures.t ........................ ok
t/mojo/request.t ........................... ok
t/mojo/subprocess_ev.t ..................... skipped: set TEST_SUBPROCESS to enable this test (developer only!)
t/mojo/template.t .......................... ok
t/mojo/subprocess.t ........................ skipped: set TEST_SUBPROCESS to enable this test (developer only!)
t/mojo/tls.t ............................... skipped: set TEST_TLS to enable this test (developer only!)
t/mojo/url.t ............................... ok
t/mojo/transactor.t ........................ ok
t/mojo/user_agent_online.t ................. skipped: set TEST_ONLINE to enable this test (developer only!)
t/mojo/user_agent_socks.t .................. skipped: set TEST_SOCKS to enable this test (developer only!)
t/mojo/user_agent_tls.t .................... skipped: set TEST_TLS to enable this test (developer only!)
t/mojo/user_agent_unix.t ................... skipped: set TEST_UNIX to enable this test (developer only!)
t/mojo/util.t .............................. ok
t/mojo/websocket_frames.t .................. ok
t/mojo/websocket_proxy.t ................... ok
t/mojo/websocket_proxy_tls.t ............... skipped: set TEST_TLS to enable this test (developer only!)
t/mojolicious/charset_lite_app.t ........... ok
t/mojo/websocket.t ......................... ok
t/mojolicious/app.t ........................ ok
t/mojolicious/command.t .................... ok
t/mojolicious/dispatch.t ................... ok
t/mojolicious/dispatcher_lite_app.t ........ ok
t/mojolicious/commands.t ................... ok
t/mojolicious/embedded_app.t ............... ok
t/mojolicious/external_app.t ............... ok
t/mojolicious/embedded_lite_app.t .......... ok
t/mojolicious/exception_lite_app.t ......... ok
t/mojolicious/external_lite_app.t .......... ok
t/mojolicious/json_config_lite_app.t ....... ok
t/mojolicious/group_lite_app.t ............. ok
t/mojolicious/json_config_mode_lite_app.t .. ok
t/mojolicious/layouted_lite_app.t .......... ok
t/mojolicious/log_lite_app.t ............... ok
t/mojolicious/lite_app.t ................... ok
t/mojolicious/multipath_lite_app.t ......... ok
t/mojolicious/ojo.t ........................ ok
t/mojolicious/ojo_signatures.t ............. ok
t/mojolicious/pattern.t .................... ok
t/mojolicious/production_app.t ............. ok
t/mojo/reactor_poll.t ...................... ok
t/mojolicious/rebased_lite_app.t ........... ok
t/mojolicious/proxy_app.t .................. ok
t/mojolicious/renderer.t ................... ok
t/mojo/user_agent.t ........................ ok
t/mojolicious/routes.t ..................... ok
t/mojolicious/session_lite_app.t ........... ok
t/mojolicious/restful_lite_app.t ........... ok
t/mojolicious/signatures_lite_app.t ........ ok
t/mojolicious/static_lite_app.t ............ ok
t/mojolicious/static_prefix_lite_app.t ..... ok
t/mojolicious/tag_helper_lite_app.t ........ ok
t/mojolicious/testing_app.t ................ ok
t/mojolicious/tls_lite_app.t ............... skipped: set TEST_TLS to enable this test (developer only!)
t/mojolicious/twinkle_lite_app.t ........... ok
t/mojolicious/types.t ...................... ok
t/mojo/ioloop.t ............................ ok
t/mojolicious/upload_lite_app.t ............ ok
t/pod.t .................................... skipped: set TEST_POD to enable this test (developer only!)
t/pod_coverage.t ........................... skipped: set TEST_POD to enable this test (developer only!)
t/mojolicious/upload_stream_lite_app.t ..... ok
t/mojolicious/validation_lite_app.t ........ ok
t/mojolicious/yaml_config_lite_app.t ....... ok
t/test/mojo.t .............................. ok
t/mojolicious/websocket_lite_app.t ......... ok
t/mojolicious/longpolling_lite_app.t ....... ok
All tests successful.
Files=107, Tests=4296,  5 wallclock secs ( 0.72 usr  0.19 sys + 17.18 cusr  2.59 csys = 20.68 CPU)
Result: PASS

------------------------------
PREREQUISITES
------------------------------

Prerequisite modules loaded:

runtime:

    Module              Need  Have    
    ------------------- ----- --------
    IO::Socket::IP      0.37  0.41_01 
    perl                5.016 5.038004
    Sub::Util           1.41  1.69    

build:

    Module              Need  Have    
    ------------------- ----- --------
    ExtUtils::MakeMaker 0     7.70    

configure:

    Module              Need  Have    
    ------------------- ----- --------
    ExtUtils::MakeMaker 0     7.70    


------------------------------
ENVIRONMENT AND OTHER CONTEXT
------------------------------

Environment variables:

    HARNESS_OPTIONS = j6:c
    LANG = en_CA.UTF-8
    LC_ALL = en_CA.UTF-8
    LC_CTYPE = en_CA.UTF-8
    NO_NETWORK_TESTING = 1
    PATH = /Volumes/chambord/Users/ether/.perlbrew/libs/38.4@std/bin:/Volumes/chambord/Users/ether/perl5/perlbrew/bin:/Volumes/chambord/Users/ether/perl5/perlbrew/perls/38.4/bin:/Volumes/chambord/Users/ether/bin:/Volumes/chambord/Users/ether/git/misc/install/advocaat/bin:/Volumes/chambord/Users/ether/git/misc/install/generic/bin:/opt/local/bin:/opt/local/sbin:/Volumes/chambord/Users/ether/git/git-hub/lib:/usr/local/bin:/System/Cryptexes/App/usr/bin:/usr/bin:/bin:/usr/sbin:/sbin:/var/run/com.apple.security.cryptexd/codex.system/bootstrap/usr/local/bin:/var/run/com.apple.security.cryptexd/codex.system/bootstrap/usr/bin:/var/run/com.apple.security.cryptexd/codex.system/bootstrap/usr/appleinternal/bin:/Library/Apple/usr/bin:/opt/local/share/git-core/contrib/workdir
    PERL5LIB = /Volumes/chambord/Users/ether/.perlbrew/libs/38.4@std/lib/perl5
    PERLBREW_HOME = /Volumes/chambord/Users/ether/.perlbrew
    PERLBREW_LIB = std
    PERLBREW_MANPATH = /Volumes/chambord/Users/ether/.perlbrew/libs/38.4@std/man:/Volumes/chambord/Users/ether/perl5/perlbrew/perls/38.4/man
    PERLBREW_PATH = /Volumes/chambord/Users/ether/.perlbrew/libs/38.4@std/bin:/Volumes/chambord/Users/ether/perl5/perlbrew/bin:/Volumes/chambord/Users/ether/perl5/perlbrew/perls/38.4/bin
    PERLBREW_PERL = 38.4
    PERLBREW_ROOT = /Volumes/chambord/Users/ether/perl5/perlbrew
    PERLBREW_SHELLRC_VERSION = 1.01
    PERLBREW_VERSION = 1.01
    PERLDOC = -oansi
    PERLDOC_PAGER = less -sicMr
    PERL_AUTOINSTALL_PREFER_CPAN = 1
    PERL_INSTALL_QUIET = 1
    PERL_LOCAL_LIB_ROOT = /Volumes/chambord/Users/ether/.perlbrew/libs/38.4@std
    PERL_MB_OPT = --install_base /Volumes/chambord/Users/ether/.perlbrew/libs/38.4@std
    PERL_MM_OPT = INSTALL_BASE=/Volumes/chambord/Users/ether/.perlbrew/libs/38.4@std
    PERL_TEST_HARNESS_ASAP = 1
    PERL_USE_UNSAFE_INC = 0
    SHELL = /bin/bash
    TERM = xterm-color

Perl special variables (and OS-specific diagnostics, for MSWin32):

    EGID = 20 20 12 61 79 80 81 98 701 704 703 702 705 33 100 204 250
    EUID = 502
    EXECUTABLE_NAME = /Volumes/chambord/Users/ether/perl5/perlbrew/perls/38.4/bin/perl
    GID = 20 20 12 61 79 80 81 98 701 704 703 702 705 33 100 204 250
    UID = 502

Perl module toolchain versions installed:

    Module              Have    
    ------------------- --------
    CPAN                2.36    
    CPAN::Meta          2.150010
    Cwd                 3.89    
    ExtUtils::CBuilder  0.280238
    ExtUtils::Command   7.70    
    ExtUtils::Install   2.22    
    ExtUtils::MakeMaker 7.70    
    ExtUtils::Manifest  1.73    
    ExtUtils::ParseXS   3.51    
    File::Spec          3.88    
    JSON                4.10    
    JSON::PP            4.16    
    Module::Build       0.4234  
    Module::Signature   n/a     
    Parse::CPAN::Meta   2.150010
    Test::Harness       3.44    
    Test::More          1.302212
    YAML                n/a     
    YAML::Syck          n/a     
    version             0.9929  


--

Summary of my perl5 (revision 5 version 38 subversion 4) configuration:
   
  Platform:
    osname=darwin
    osvers=24.3.0
    archname=darwin-2level
    uname='darwin advocaat 24.3.0 darwin kernel version 24.3.0: thu jan 2 20:23:36 pst 2025; root:xnu-11215.81.4~3release_arm64_t8112 arm64 '
    config_args='-de -Dprefix=/Volumes/chambord/Users/ether/perl5/perlbrew/perls/38.4 -Dman1dir=none -Dman3dir=none -Aeval:scriptdir=/Volumes/chambord/Users/ether/perl5/perlbrew/perls/38.4/bin'
    hint=recommended
    useposix=true
    d_sigaction=define
    useithreads=undef
    usemultiplicity=undef
    use64bitint=define
    use64bitall=define
    uselongdouble=undef
    usemymalloc=n
    default_inc_excludes_dot=define
  Compiler:
    cc='cc'
    ccflags ='-fno-common -DPERL_DARWIN -mmacosx-version-min=15.3 -DNO_POSIX_2008_LOCALE -fno-strict-aliasing -pipe -fstack-protector-strong -I/opt/local/include'
    optimize='-O3'
    cppflags='-fno-common -DPERL_DARWIN -mmacosx-version-min=15.3 -DNO_POSIX_2008_LOCALE -fno-strict-aliasing -pipe -fstack-protector-strong -I/opt/local/include'
    ccversion=''
    gccversion='Apple LLVM 17.0.0 (clang-1700.0.13.3)'
    gccosandvers=''
    intsize=4
    longsize=8
    ptrsize=8
    doublesize=8
    byteorder=12345678
    doublekind=3
    d_longlong=define
    longlongsize=8
    d_longdbl=define
    longdblsize=8
    longdblkind=0
    ivtype='long'
    ivsize=8
    nvtype='double'
    nvsize=8
    Off_t='off_t'
    lseeksize=8
    alignbytes=8
    prototype=define
  Linker and Libraries:
    ld='cc'
    ldflags =' -mmacosx-version-min=15.3 -fstack-protector-strong -L/opt/local/lib'
    libpth=/Applications/Xcode.app/Contents/Developer/Toolchains/XcodeDefault.xctoolchain/usr/lib/clang/17/lib /Applications/Xcode.app/Contents/Developer/Platforms/MacOSX.platform/Developer/SDKs/MacOSX.sdk/usr/lib /Applications/Xcode.app/Contents/Developer/Toolchains/XcodeDefault.xctoolchain/usr/lib /opt/local/lib /usr/lib
    libs=-lgdbm
    perllibs=
    libc=
    so=dylib
    useshrplib=false
    libperl=libperl.a
    gnulibc_version=''
  Dynamic Linking:
    dlsrc=dl_dlopen.xs
    dlext=bundle
    d_dlsymun=undef
    ccdlflags=' '
    cccdlflags=' '
    lddlflags=' -mmacosx-version-min=15.3 -bundle -undefined dynamic_lookup -L/opt/local/lib -fstack-protector-strong'


Characteristics of this binary (from libperl): 
  Compile-time options:
    HAS_LONG_DOUBLE
    HAS_STRTOLD
    HAS_TIMES
    PERLIO_LAYERS
    PERL_COPY_ON_WRITE
    PERL_DONT_CREATE_GVSV
    PERL_HASH_FUNC_SIPHASH13
    PERL_HASH_USE_SBOX32
    PERL_MALLOC_WRAP
    PERL_OP_PARENT
    PERL_PRESERVE_IVUV
    PERL_USE_SAFE_PUTENV
    USE_64_BIT_ALL
    USE_64_BIT_INT
    USE_LARGE_FILES
    USE_LOCALE
    USE_LOCALE_COLLATE
    USE_LOCALE_CTYPE
    USE_LOCALE_NUMERIC
    USE_LOCALE_TIME
    USE_PERLIO
    USE_PERL_ATOF
  Built under darwin
  Compiled at Apr 13 2025 10:23:13
  %ENV:
    PERL5LIB="/Volumes/chambord/Users/ether/.perlbrew/libs/38.4@std/lib/perl5"
    PERLBREW_HOME="/Volumes/chambord/Users/ether/.perlbrew"
    PERLBREW_LIB="std"
    PERLBREW_MANPATH="/Volumes/chambord/Users/ether/.perlbrew/libs/38.4@std/man:/Volumes/chambord/Users/ether/perl5/perlbrew/perls/38.4/man"
    PERLBREW_PATH="/Volumes/chambord/Users/ether/.perlbrew/libs/38.4@std/bin:/Volumes/chambord/Users/ether/perl5/perlbrew/bin:/Volumes/chambord/Users/ether/perl5/perlbrew/perls/38.4/bin"
    PERLBREW_PERL="38.4"
    PERLBREW_ROOT="/Volumes/chambord/Users/ether/perl5/perlbrew"
    PERLBREW_SHELLRC_VERSION="1.01"
    PERLBREW_VERSION="1.01"
    PERLDOC="-oansi"
    PERLDOC_PAGER="less -sicMr"
    PERL_AUTOINSTALL_PREFER_CPAN="1"
    PERL_INSTALL_QUIET="1"
    PERL_LOCAL_LIB_ROOT="/Volumes/chambord/Users/ether/.perlbrew/libs/38.4@std"
    PERL_MB_OPT="--install_base /Volumes/chambord/Users/ether/.perlbrew/libs/38.4@std"
    PERL_MM_OPT="INSTALL_BASE=/Volumes/chambord/Users/ether/.perlbrew/libs/38.4@std"
    PERL_TEST_HARNESS_ASAP="1"
    PERL_USE_UNSAFE_INC="0"
  @INC:
    /Volumes/chambord/Users/ether/.perlbrew/libs/38.4@std/lib/perl5/darwin-2level
    /Volumes/chambord/Users/ether/.perlbrew/libs/38.4@std/lib/perl5
    /Volumes/chambord/Users/ether/perl5/perlbrew/perls/38.4/lib/site_perl/5.38.4/darwin-2level
    /Volumes/chambord/Users/ether/perl5/perlbrew/perls/38.4/lib/site_perl/5.38.4
    /Volumes/chambord/Users/ether/perl5/perlbrew/perls/38.4/lib/5.38.4/darwin-2level
    /Volumes/chambord/Users/ether/perl5/perlbrew/perls/38.4/lib/5.38.4