Report for Text-Hyphen-0.2

Back
From: metabase:user:80ac5046-6bf4-1014-8f9c-db8fddfe9d93
Subject: PASS Text-Hyphen-0.2 v5.22.0 Windows (Cygwin)
Date: 2015-10-09T03:18:09Z

This distribution has been tested as part of the CPAN Testers
project, supporting the Perl programming language.  See
http://wiki.cpantesters.org/ for more information or email
questions to cpan-testers-discuss@perl.org


--
Dear Alex Kapranoff,

This is a computer-generated report for Text-Hyphen-0.2
on perl 5.22.0, created by CPAN-Reporter-1.2014.

Thank you for uploading your work to CPAN.  Congratulations!
All tests were successful.

Sections of this report:

    * Tester comments
    * Program output
    * Prerequisites
    * Environment and other context

------------------------------
TESTER COMMENTS
------------------------------

Additional comments from tester:

this report is from an automated smoke testing program
and was not reviewed by a human for accuracy

------------------------------
PROGRAM OUTPUT
------------------------------

Output from './Build test':

# Testing Text::Hyphen 0.2, Perl 5.022000, /usr/bin/perl
t/00-load.t ....... ok
t/01-enhyphen.t ... ok
t/02-contexts.t ... ok
t/pod-coverage.t .. ok
t/pod.t ........... ok
All tests successful.
Files=5, Tests=22,  4 wallclock secs ( 0.06 usr  0.50 sys +  0.61 cusr  2.82 csys =  3.99 CPU)
Result: PASS

------------------------------
PREREQUISITES
------------------------------

Prerequisite modules loaded:

requires:

    Module        Need      Have    
    ------------- --------- --------
    perl          5.008_001 5.022000

build_requires:

    Module        Need      Have    
    ------------- --------- --------
    Test::More    0         1.001014

configure_requires:

    Module        Need      Have    
    ------------- --------- --------
    Module::Build 0.38      0.4214  
    perl          5.008_001 5.022000


------------------------------
ENVIRONMENT AND OTHER CONTEXT
------------------------------

Environment variables:

    AUTOMATED_TESTING = 1
    COMSPEC = C:\Windows\system32\cmd.exe
    LANG = en_US.UTF-8
    NUMBER_OF_PROCESSORS = 2
    PATH = /home/westmj/perl5/bin:/usr/local/bin:/usr/bin:/cygdrive/c/ProgramData/Oracle/Java/javapath:/cygdrive/c/Windows/system32:/cygdrive/c/Windows:/cygdrive/c/Windows/System32/Wbem:/cygdrive/c/Windows/System32/WindowsPowerShell/v1.0:/cygdrive/c/Program Files (x86)/ATI Technologies/ATI.ACE/Core-Static:/cygdrive/c/Program Files/jEdit:/cygdrive/c/Strawberry/c/bin:/cygdrive/c/Strawberry/perl/site/bin:/cygdrive/c/Strawberry/perl/bin
    PERL5LIB = /home/westmj/.cpan/build/Module-Build-Tiny-0.039-QcW7qi/blib/arch:/home/westmj/.cpan/build/Module-Build-Tiny-0.039-QcW7qi/blib/lib:/home/westmj/.cpan/build/ExtUtils-Helpers-0.022-fz7bFQ/blib/arch:/home/westmj/.cpan/build/ExtUtils-Helpers-0.022-fz7bFQ/blib/lib:/home/westmj/.cpan/build/ExtUtils-InstallPaths-0.011-erjkQg/blib/arch:/home/westmj/.cpan/build/ExtUtils-InstallPaths-0.011-erjkQg/blib/lib:/home/westmj/.cpan/build/ExtUtils-Config-0.008-3xXNWK/blib/arch:/home/westmj/.cpan/build/ExtUtils-Config-0.008-3xXNWK/blib/lib:/home/westmj/perl5/lib/perl5
    PERL5OPT = 
    PERL5_CPANPLUS_IS_RUNNING = 10408
    PERL5_CPAN_IS_RUNNING = 10408
    PERL5_CPAN_IS_RUNNING_IN_RECURSION = 7040,10408
    PERL_CR_SMOKER_CURRENT = Text-Hyphen-TR-0.01
    PERL_EXTUTILS_AUTOINSTALL = --defaultdeps
    PERL_LOCAL_LIB_ROOT = /home/westmj/perl5
    PERL_MB_OPT = --install_base "/home/westmj/perl5"
    PERL_MM_OPT = INSTALL_BASE=/home/westmj/perl5
    PERL_MM_USE_DEFAULT = 1
    PROCESSOR_IDENTIFIER = AMD64 Family 16 Model 6 Stepping 2, AuthenticAMD
    SHELL = /bin/bash
    TEMP = /tmp
    TERM = xterm

Perl special variables (and OS-specific diagnostics, for MSWin32):

    $^X = /usr/bin/perl
    $UID/$EUID = 197609 / 197609
    $GID = 197121 197121 197608 545 4 66049 11 15 4095 66048 262154 401408
    $EGID = 197121 197121 197608 545 4 66049 11 15 4095 66048 262154 401408

Perl module toolchain versions installed:

    Module              Have    
    ------------------- --------
    CPAN                2.11    
    CPAN::Meta          2.150005
    Cwd                 3.56    
    ExtUtils::CBuilder  0.280223
    ExtUtils::Command   7.05_25 
    ExtUtils::Install   2.04    
    ExtUtils::MakeMaker 7.05_25 
    ExtUtils::Manifest  1.70    
    ExtUtils::ParseXS   3.28    
    File::Spec          3.56    
    JSON                2.90    
    JSON::PP            2.27300 
    Module::Build       0.4214  
    Module::Signature   0.79    
    Parse::CPAN::Meta   1.4417  
    Test::Harness       3.35    
    Test::More          1.001014
    YAML                1.15    
    YAML::Syck          1.29    
    version             0.9909  


--

Summary of my perl5 (revision 5 version 22 subversion 0) configuration:
   
  Platform:
    osname=cygwin, osvers=2.0.4(0.28753), archname=cygwin-thread-multi
    uname='cygwin_nt-6.3 cygwin 2.0.4(0.28753) 2015-06-09 12:22 x86_64 cygwin '
    config_args='-d -e -Dprefix=/usr -Dmksymlinks -Darchname=x86_64-cygwin-threads -Dlibperl=cygperl5_22.dll -Dcc=gcc -Dld=g++ -Accflags=-ggdb -O2 -pipe -Wimplicit-function-declaration -fdebug-prefix-map=/mnt/share/maint/perl.x86_64/build=/usr/src/debug/perl-5.22.0-1 -fdebug-prefix-map=/mnt/share/maint/perl.x86_64/src/perl-5.22.0=/usr/src/debug/perl-5.22.0-1 -fwrapv'
    hint=recommended, useposix=true, d_sigaction=define
    useithreads=define, usemultiplicity=define
    use64bitint=define, use64bitall=define, uselongdouble=undef
    usemymalloc=n, bincompat5005=undef
  Compiler:
    cc='gcc', ccflags ='-DPERL_USE_SAFE_PUTENV -U__STRICT_ANSI__ -ggdb -O2 -pipe -Wimplicit-function-declaration -fdebug-prefix-map=/mnt/share/maint/perl.x86_64/build=/usr/src/debug/perl-5.22.0-1 -fdebug-prefix-map=/mnt/share/maint/perl.x86_64/src/perl-5.22.0=/usr/src/debug/perl-5.22.0-1 -fwrapv -fno-strict-aliasing -fstack-protector-strong -D_FORTIFY_SOURCE=2',
    optimize='-O3',
    cppflags='-DPERL_USE_SAFE_PUTENV -U__STRICT_ANSI__ -ggdb -O2 -pipe -Wimplicit-function-declaration -fdebug-prefix-map=/mnt/share/maint/perl.x86_64/build=/usr/src/debug/perl-5.22.0-1 -fdebug-prefix-map=/mnt/share/maint/perl.x86_64/src/perl-5.22.0=/usr/src/debug/perl-5.22.0-1 -fwrapv -fno-strict-aliasing -fstack-protector-strong'
    ccversion='', gccversion='4.9.3', gccosandvers=''
    intsize=4, longsize=8, ptrsize=8, doublesize=8, byteorder=12345678, doublekind=3
    d_longlong=define, longlongsize=8, d_longdbl=define, longdblsize=16, longdblkind=3
    ivtype='long', ivsize=8, nvtype='double', nvsize=8, Off_t='off_t', lseeksize=8
    alignbytes=8, prototype=define
  Linker and Libraries:
    ld='g++', ldflags =' -Wl,--enable-auto-import -Wl,--export-all-symbols -Wl,--enable-auto-image-base -fstack-protector-strong -L/usr/local/lib'
    libpth=/usr/lib/gcc/x86_64-pc-cygwin/4.9.3/include-fixed /usr/lib /usr/lib/gcc/x86_64-pc-cygwin/4.9.3/../../../../lib/../include/w32api /usr/local/lib /lib
    libs=-lpthread -ldb -ldl -lcrypt
    perllibs=-lpthread -ldl -lcrypt
    libc=/usr/lib/libc.a, so=dll, useshrplib=true, libperl=cygperl5_22.dll
    gnulibc_version=''
  Dynamic Linking:
    dlsrc=dl_dlopen.xs, dlext=dll, d_dlsymun=undef, ccdlflags=' '
    cccdlflags=' ', lddlflags=' --shared  -Wl,--enable-auto-import -Wl,--export-all-symbols -Wl,--enable-auto-image-base -L/usr/local/lib -fstack-protector-strong'


Characteristics of this binary (from libperl): 
  Compile-time options: HAS_TIMES MULTIPLICITY PERLIO_LAYERS
                        PERL_DONT_CREATE_GVSV
                        PERL_HASH_FUNC_ONE_AT_A_TIME_HARD
                        PERL_IMPLICIT_CONTEXT PERL_NEW_COPY_ON_WRITE
                        PERL_PRESERVE_IVUV PERL_USE_SAFE_PUTENV
                        USE_64_BIT_ALL USE_64_BIT_INT USE_ITHREADS
                        USE_LARGE_FILES USE_LOCALE USE_LOCALE_COLLATE
                        USE_LOCALE_CTYPE USE_LOCALE_NUMERIC USE_LOCALE_TIME
                        USE_PERLIO USE_PERL_ATOF USE_REENTRANT_API
  Built under cygwin
  Compiled at Jul 12 2015 18:24:40
  %ENV:
    PERL5LIB="/home/westmj/.cpan/build/Module-Build-Tiny-0.039-QcW7qi/blib/arch:/home/westmj/.cpan/build/Module-Build-Tiny-0.039-QcW7qi/blib/lib:/home/westmj/.cpan/build/ExtUtils-Helpers-0.022-fz7bFQ/blib/arch:/home/westmj/.cpan/build/ExtUtils-Helpers-0.022-fz7bFQ/blib/lib:/home/westmj/.cpan/build/ExtUtils-InstallPaths-0.011-erjkQg/blib/arch:/home/westmj/.cpan/build/ExtUtils-InstallPaths-0.011-erjkQg/blib/lib:/home/westmj/.cpan/build/ExtUtils-Config-0.008-3xXNWK/blib/arch:/home/westmj/.cpan/build/ExtUtils-Config-0.008-3xXNWK/blib/lib:/home/westmj/perl5/lib/perl5"
    PERL5OPT=""
    PERL5_CPANPLUS_IS_RUNNING="10408"
    PERL5_CPAN_IS_RUNNING="10408"
    PERL5_CPAN_IS_RUNNING_IN_RECURSION="7040,10408"
    PERL_CR_SMOKER_CURRENT="Text-Hyphen-TR-0.01"
    PERL_EXTUTILS_AUTOINSTALL="--defaultdeps"
    PERL_LOCAL_LIB_ROOT="/home/westmj/perl5"
    PERL_MB_OPT="--install_base "/home/westmj/perl5""
    PERL_MM_OPT="INSTALL_BASE=/home/westmj/perl5"
    PERL_MM_USE_DEFAULT="1"
  @INC:
    /home/westmj/.cpan/build/Module-Build-Tiny-0.039-QcW7qi/blib/arch
    /home/westmj/.cpan/build/Module-Build-Tiny-0.039-QcW7qi/blib/lib
    /home/westmj/.cpan/build/ExtUtils-Helpers-0.022-fz7bFQ/blib/arch
    /home/westmj/.cpan/build/ExtUtils-Helpers-0.022-fz7bFQ/blib/lib
    /home/westmj/.cpan/build/ExtUtils-InstallPaths-0.011-erjkQg/blib/arch
    /home/westmj/.cpan/build/ExtUtils-InstallPaths-0.011-erjkQg/blib/lib
    /home/westmj/.cpan/build/ExtUtils-Config-0.008-3xXNWK/blib/arch
    /home/westmj/.cpan/build/ExtUtils-Config-0.008-3xXNWK/blib/lib
    /home/westmj/perl5/lib/perl5/cygwin-thread-multi
    /home/westmj/perl5/lib/perl5
    /usr/lib/perl5/site_perl/5.22/x86_64-cygwin-threads
    /usr/lib/perl5/site_perl/5.22
    /usr/lib/perl5/vendor_perl/5.22/x86_64-cygwin-threads
    /usr/lib/perl5/vendor_perl/5.22
    /usr/lib/perl5/5.22/x86_64-cygwin-threads
    /usr/lib/perl5/5.22
    .