Sys-SigAction v0.23 Perl 5 v5.22.4 i86pc-solaris-thread-multi

Status
Pass
From
Serguei Trouchelle (STRO)
Dist
Sys-SigAction v0.23
Platform
Perl 5 v5.22.4 i86pc-solaris-thread-multi
Date
2018-03-07 00:31:27
ID
df5f521a-219e-11e8-87b9-1c7fdf030e9d
This distribution has been tested as part of the CPAN Testers
project, supporting the Perl programming language.  See
http://wiki.cpantesters.org/ for more information or email
questions to cpan-testers-discuss@perl.org


--
Dear Lincoln A Baxter,

This is a computer-generated report for Sys-SigAction-0.23
on perl 5.22.4, created by CPAN-Reporter-1.2018.

Thank you for uploading your work to CPAN.  Congratulations!
All tests were successful.

Sections of this report:

    * Tester comments
    * Program output
    * Prerequisites
    * Environment and other context

------------------------------
TESTER COMMENTS
------------------------------

Additional comments from tester:

this report is from an automated smoke testing program
and was not reviewed by a human for accuracy

------------------------------
PROGRAM OUTPUT
------------------------------

Output from '/usr/bin/make test':

PERL_DL_NONLAZY=1 "/home/stro/perl/5.22.4t/bin/perl" "-MExtUtils::Command::MM" "-MTest::Harness" "-e" "undef *Test::Harness::Switches; test_harness(0, 'blib/lib', 'blib/arch')" t/*.t
t/alternatives.t ...... ok
t/inline_nested.t ..... ok
t/mask.t .............. ok
t/name.t .............. ok
t/number.t ............ ok
t/recursive_nested.t .. ok

         
     NOTE: Setting safe=>1... with masked signals does not seem to work.
     The problem is that the masked signals are not masked when safe=>1.
     When safe=>0 they are.  

     If you have an application for safe=>1 and can come up with a patch
     for this module that gets this test working, or a patch to the test
     that shows how to fix it, please send it to me. 

     See the block below this one... which if executed would test safe mode
     with masked signals... it is a clone of part of mask.t that proves this
     is broken.

     This test can be executed from the command line as follows:

         SAFE_T=1 perl -Ilib t/safe.t

     Lincoln

     

t/safe.t .............. ok
# delta time was 0.109700, timer was for 0.1 secconds
t/timeout.t ........... ok
All tests successful.
Files=8, Tests=87,  9 wallclock secs ( 0.04 usr  0.01 sys +  0.40 cusr  0.08 csys =  0.53 CPU)
Result: PASS

------------------------------
PREREQUISITES
------------------------------

Prerequisite modules loaded:

requires:

    Module              Need     Have    
    ------------------- -------- --------
    perl                5.006000 5.022004
    POSIX               0        1.53_01 
    Test::More          0        1.302121

build_requires:

    Module              Need     Have    
    ------------------- -------- --------
    ExtUtils::MakeMaker 0        7.32    

configure_requires:

    Module              Need     Have    
    ------------------- -------- --------
    ExtUtils::MakeMaker 0        7.32    


------------------------------
ENVIRONMENT AND OTHER CONTEXT
------------------------------

Environment variables:

    AUTOMATED_TESTING = 1
    LANG = en_US.UTF-8
    PATH = /usr/gnu/bin:/usr/bin:/usr/sbin:/sbin:/usr/sfw/bin:
    PERL5LIB = 
    PERL5OPT = 
    PERL5_CPANPLUS_IS_RUNNING = 10484
    PERL5_CPAN_IS_RUNNING = 10484
    PERL5_CPAN_IS_RUNNING_IN_RECURSION = 27636,10484
    PERL_CR_SMOKER_CURRENT = Devel-IPerl-Plugin-EnvironmentModules-0.03
    PERL_EXTUTILS_AUTOINSTALL = --defaultdeps
    PERL_MM_USE_DEFAULT = 1
    SHELL = /bin/bash
    TERM = xterm

Perl special variables (and OS-specific diagnostics, for MSWin32):

    $^X = /home/stro/perl/5.22.4t/bin/perl
    $UID/$EUID = 101 / 101
    $GID = 10 10
    $EGID = 10 10

Perl module toolchain versions installed:

    Module              Have      
    ------------------- ----------
    CPAN                2.16      
    CPAN::Meta          2.150001  
    Cwd                 3.74      
    ExtUtils::CBuilder  0.280221  
    ExtUtils::Command   7.32      
    ExtUtils::Install   2.06      
    ExtUtils::MakeMaker 7.32      
    ExtUtils::Manifest  1.70      
    ExtUtils::ParseXS   3.35      
    File::Spec          3.74      
    JSON                2.97001   
    JSON::PP            2.27300_01
    Module::Build       0.4224    
    Module::Signature   n/a       
    Parse::CPAN::Meta   1.4414_001
    Test::Harness       3.35_01   
    Test::More          1.302121  
    YAML                1.23      
    YAML::Syck          1.30      
    version             0.9918    


--

Summary of my perl5 (revision 5 version 22 subversion 4) configuration:
   
  Platform:
    osname=solaris, osvers=2.11, archname=i86pc-solaris-thread-multi
    uname='sunos vm-openindiana-001 5.11 illumos-ed992b0aac i86pc i386 i86pc solaris '
    config_args=''
    hint=recommended, useposix=true, d_sigaction=define
    useithreads=define, usemultiplicity=define
    use64bitint=undef, use64bitall=undef, uselongdouble=undef
    usemymalloc=n, bincompat5005=undef
  Compiler:
    cc='/opt/SUNWspro/bin/cc', ccflags ='-D_REENTRANT -I/usr/gnu/include -D_LARGEFILE_SOURCE -D_FILE_OFFSET_BITS=64 -DPERL_USE_SAFE_PUTENV',
    optimize='-O',
    cppflags='-D_REENTRANT -I/usr/gnu/include'
    ccversion='Sun C 5.10 SunOS_i386 2009/06/03', gccversion='', gccosandvers=''
    intsize=4, longsize=4, ptrsize=4, doublesize=8, byteorder=1234, doublekind=3
    d_longlong=define, longlongsize=8, d_longdbl=define, longdblsize=12, longdblkind=3
    ivtype='long', ivsize=4, nvtype='double', nvsize=8, Off_t='off_t', lseeksize=8
    alignbytes=4, prototype=define
  Linker and Libraries:
    ld='/opt/SUNWspro/bin/cc', ldflags =' -L/usr/lib -L/usr/ccs/lib -L/opt/sunstudio12.1/prod/lib -L/lib -L/usr/gnu/lib '
    libpth=/usr/lib /usr/ccs/lib /opt/sunstudio12.1/prod/lib /lib /usr/gnu/lib
    libs=-lpthread -lsocket -lnsl -lgdbm -ldb -ldl -lm -lc
    perllibs=-lpthread -lsocket -lnsl -ldl -lm -lc
    libc=/lib/libc.so, so=so, useshrplib=false, libperl=libperl.a
    gnulibc_version=''
  Dynamic Linking:
    dlsrc=dl_dlopen.xs, dlext=so, d_dlsymun=undef, ccdlflags=' '
    cccdlflags='-KPIC', lddlflags='-G -L/usr/lib -L/usr/ccs/lib -L/opt/sunstudio12.1/prod/lib -L/lib -L/usr/gnu/lib'


Characteristics of this binary (from libperl): 
  Compile-time options: HAS_TIMES MULTIPLICITY PERLIO_LAYERS
                        PERL_DONT_CREATE_GVSV
                        PERL_HASH_FUNC_ONE_AT_A_TIME_HARD
                        PERL_IMPLICIT_CONTEXT PERL_MALLOC_WRAP
                        PERL_NEW_COPY_ON_WRITE PERL_PRESERVE_IVUV
                        PERL_USE_SAFE_PUTENV USE_ITHREADS USE_LARGE_FILES
                        USE_LOCALE USE_LOCALE_COLLATE USE_LOCALE_CTYPE
                        USE_LOCALE_NUMERIC USE_LOCALE_TIME USE_PERLIO
                        USE_PERL_ATOF USE_REENTRANT_API
  Built under solaris
  Compiled at Sep 21 2017 03:31:15
  %ENV:
    PERL5LIB=""
    PERL5OPT=""
    PERL5_CPANPLUS_IS_RUNNING="10484"
    PERL5_CPAN_IS_RUNNING="10484"
    PERL5_CPAN_IS_RUNNING_IN_RECURSION="27636,10484"
    PERL_CR_SMOKER_CURRENT="Devel-IPerl-Plugin-EnvironmentModules-0.03"
    PERL_EXTUTILS_AUTOINSTALL="--defaultdeps"
    PERL_MM_USE_DEFAULT="1"
  @INC:
    /home/stro/perl/5.22.4t/lib/site_perl/5.22.4/i86pc-solaris-thread-multi
    /home/stro/perl/5.22.4t/lib/site_perl/5.22.4
    /home/stro/perl/5.22.4t/lib/5.22.4/i86pc-solaris-thread-multi
    /home/stro/perl/5.22.4t/lib/5.22.4
    .