Data-NDS-Multifile v3.12 Perl 5 v5.12.0 RC5 i386-freebsd

Status
Pass
From
Squeeks (SQUEEK)
Dist
Data-NDS-Multifile v3.12
Platform
Perl 5 v5.12.0 RC5 i386-freebsd
Date
2010-04-12T22:58:17
ID
e1d75cdc-4686-11df-b8fe-9768225e3911
This distribution has been tested as part of the CPAN Testers
project, supporting the Perl programming language.  See
http://wiki.cpantesters.org/ for more information or email
questions to cpan-testers-discuss@perl.org


--
Dear Sullivan Beck,

This is a computer-generated report for Data-NDS-Multifile-3.12
on perl 5.12.0, created by CPAN-Reporter-1.1711.

Thank you for uploading your work to CPAN.  Congratulations!
All tests were successful.

Sections of this report:

    * Tester comments
    * Program output
    * Prerequisites
    * Environment and other context

------------------------------
TESTER COMMENTS
------------------------------

Additional comments from tester:

this report is from an automated smoke testing program
and was not reviewed by a human for accuracy

------------------------------
PROGRAM OUTPUT
------------------------------

Output from './Build test':

t/add_ele.hash.t ........... ok
t/add_ele.list.t ........... ok
t/copy_hash.t .............. ok
t/copy_list.t .............. ok
t/default_element.hash.t ... ok
t/default_element.list.t ... ok
t/delete_ele.hash.t ........ ok
t/delete_ele.list.t ........ ok
t/ele.hash.t ............... ok
t/ele.list.t ............... ok
t/eles.hash.t .............. ok
t/eles.list.t .............. ok
t/file.hash.error.t ........ ok
t/file.hash.t .............. ok
t/file.list.error.t ........ ok
t/file.list.t .............. ok
t/is_default_value.hash.t .. ok
t/keys.t ................... ok
t/path_in_use.t ............ ok
t/path_valid.t ............. ok
t/path_values.hash.t ....... ok
t/path_values.list.t ....... ok
t/pod.t .................... skipped: Test::Pod 1.00 required for testing POD
t/pod_coverage.t ........... skipped: Test::Pod::Coverage 1.00 required for testing POD coverage
t/rename_ele.hash.t ........ ok
t/update_ele.t ............. ok
t/value.t .................. ok
t/values.t ................. ok
t/which.hash.t ............. ok
t/which.list.t ............. ok
All tests successful.
Files=30, Tests=183, 14 wallclock secs ( 0.58 usr  0.32 sys +  9.87 cusr  2.79 csys = 13.55 CPU)
Result: PASS

------------------------------
PREREQUISITES
------------------------------

Prerequisite modules loaded:

requires:

    Module              Need  Have    
    ------------------- ----- --------
    Data::NDS           0     3.11    
    Data::NDS::Multiele 0     3.12    
    perl                5.001 5.012000
    Storable            0     2.22    
    YAML::Syck          0     1.07    

configure_requires:

    Module              Need  Have    
    ------------------- ----- --------
    Module::Build       0.36  0.3603  


------------------------------
ENVIRONMENT AND OTHER CONTEXT
------------------------------

Environment variables:

    AUTOMATED_TESTING = 1
    PATH = /home/squeek/perl5/perlbrew/bin:/home/squeek/perl5/perlbrew/perls/current/bin:/sbin:/bin:/usr/sbin:/usr/bin:/usr/games:/usr/local/sbin:/usr/local/bin:/home/squeek/bin
    PERL5LIB = /home/squeek/.cpan/build/Data-NDS-Multiele-3.12-Aeg4hK/blib/arch:/home/squeek/.cpan/build/Data-NDS-Multiele-3.12-Aeg4hK/blib/lib:/home/squeek/.cpan/build/Data-NDS-3.11-l3hx5q/blib/arch:/home/squeek/.cpan/build/Data-NDS-3.11-l3hx5q/blib/lib:/home/squeek/.cpan/build/Algorithm-Permute-0.12-rkxzBw/blib/arch:/home/squeek/.cpan/build/Algorithm-Permute-0.12-rkxzBw/blib/lib:/home/squeek/.cpan/build/Devel-Leak-0.03-q04tzL/blib/arch:/home/squeek/.cpan/build/Devel-Leak-0.03-q04tzL/blib/lib:/home/squeek/.cpan/build/YAML-Syck-1.07-n06TjK/blib/arch:/home/squeek/.cpan/build/YAML-Syck-1.07-n06TjK/blib/lib
    PERL5OPT = 
    PERL5_CPANPLUS_IS_RUNNING = 35281
    PERL5_CPAN_IS_RUNNING = 35281
    PERL5_CPAN_IS_RUNNING_IN_RECURSION = 35408,35281
    PERL_CR_SMOKER_CURRENT = Data-NDS-Multifile-3.12
    PERL_EXTUTILS_AUTOINSTALL = --defaultdeps
    PERL_MM_USE_DEFAULT = 1
    SHELL = /bin/csh
    TERM = screen

Perl special variables (and OS-specific diagnostics, for MSWin32):

    $^X = /home/squeek/perl5/perlbrew/bin/perl
    $UID/$EUID = 1002 / 1002
    $GID = 1002 1002 1002
    $EGID = 1002 1002 1002

Perl module toolchain versions installed:

    Module              Have   
    ------------------- -------
    CPAN                1.94_56
    Cwd                 3.31   
    ExtUtils::CBuilder  0.27   
    ExtUtils::Command   1.16   
    ExtUtils::Install   1.55   
    ExtUtils::MakeMaker 6.56   
    ExtUtils::Manifest  1.57   
    ExtUtils::ParseXS   2.21   
    File::Spec          3.31   
    Module::Build       0.3603 
    Module::Signature   n/a    
    Test::Harness       3.17   
    Test::More          0.94   
    YAML                0.71   
    YAML::Syck          1.07   
    version             0.82   


--

Summary of my perl5 (revision 5 version 12 subversion 0) configuration:
   
  Platform:
    osname=freebsd, osvers=7.2-release, archname=i386-freebsd
    uname='freebsd smoketest 7.2-release freebsd 7.2-release #0: fri may 1 08:49:13 utc 2009 root@walker.cse.buffalo.edu:usrobjusrsrcsysgeneric i386 '
    config_args='-de -Dprefix=/home/squeek/perl5/perlbrew/perls/perl-5.12.0-RC5'
    hint=recommended, useposix=true, d_sigaction=define
    useithreads=undef, usemultiplicity=undef
    useperlio=define, d_sfio=undef, uselargefiles=define, usesocks=undef
    use64bitint=undef, use64bitall=undef, uselongdouble=undef
    usemymalloc=n, bincompat5005=undef
  Compiler:
    cc='cc', ccflags ='-DHAS_FPSETMASK -DHAS_FLOATINGPOINT_H -fno-strict-aliasing -pipe -fstack-protector -I/usr/local/include',
    optimize='-O',
    cppflags='-DHAS_FPSETMASK -DHAS_FLOATINGPOINT_H -fno-strict-aliasing -pipe -fstack-protector -I/usr/local/include'
    ccversion='', gccversion='4.2.1 20070719  [FreeBSD]', gccosandvers=''
    intsize=4, longsize=4, ptrsize=4, doublesize=8, byteorder=1234
    d_longlong=define, longlongsize=8, d_longdbl=define, longdblsize=12
    ivtype='long', ivsize=4, nvtype='double', nvsize=8, Off_t='off_t', lseeksize=8
    alignbytes=4, prototype=define
  Linker and Libraries:
    ld='cc', ldflags ='-Wl,-E  -fstack-protector -L/usr/local/lib'
    libpth=/usr/lib /usr/local/lib
    libs=-lm -lcrypt -lutil -lc
    perllibs=-lm -lcrypt -lutil -lc
    libc=, so=so, useshrplib=false, libperl=libperl.a
    gnulibc_version=''
  Dynamic Linking:
    dlsrc=dl_dlopen.xs, dlext=so, d_dlsymun=undef, ccdlflags=' '
    cccdlflags='-DPIC -fPIC', lddlflags='-shared  -L/usr/local/lib -fstack-protector'


Characteristics of this binary (from libperl): 
  Compile-time options: PERL_DONT_CREATE_GVSV PERL_MALLOC_WRAP
                        USE_LARGE_FILES USE_PERLIO USE_PERL_ATOF
  Locally applied patches:
	RC5
  Built under freebsd
  Compiled at Apr 10 2010 10:22:11
  %ENV:
    PERL5LIB="/home/squeek/.cpan/build/Data-NDS-Multiele-3.12-Aeg4hK/blib/arch:/home/squeek/.cpan/build/Data-NDS-Multiele-3.12-Aeg4hK/blib/lib:/home/squeek/.cpan/build/Data-NDS-3.11-l3hx5q/blib/arch:/home/squeek/.cpan/build/Data-NDS-3.11-l3hx5q/blib/lib:/home/squeek/.cpan/build/Algorithm-Permute-0.12-rkxzBw/blib/arch:/home/squeek/.cpan/build/Algorithm-Permute-0.12-rkxzBw/blib/lib:/home/squeek/.cpan/build/Devel-Leak-0.03-q04tzL/blib/arch:/home/squeek/.cpan/build/Devel-Leak-0.03-q04tzL/blib/lib:/home/squeek/.cpan/build/YAML-Syck-1.07-n06TjK/blib/arch:/home/squeek/.cpan/build/YAML-Syck-1.07-n06TjK/blib/lib"
    PERL5OPT=""
    PERL5_CPANPLUS_IS_RUNNING="35281"
    PERL5_CPAN_IS_RUNNING="35281"
    PERL5_CPAN_IS_RUNNING_IN_RECURSION="35408,35281"
    PERL_CR_SMOKER_CURRENT="Data-NDS-Multifile-3.12"
    PERL_EXTUTILS_AUTOINSTALL="--defaultdeps"
    PERL_MM_USE_DEFAULT="1"
  @INC:
    /home/squeek/.cpan/build/Data-NDS-Multiele-3.12-Aeg4hK/blib/arch
    /home/squeek/.cpan/build/Data-NDS-Multiele-3.12-Aeg4hK/blib/lib
    /home/squeek/.cpan/build/Data-NDS-3.11-l3hx5q/blib/arch
    /home/squeek/.cpan/build/Data-NDS-3.11-l3hx5q/blib/lib
    /home/squeek/.cpan/build/Algorithm-Permute-0.12-rkxzBw/blib/arch
    /home/squeek/.cpan/build/Algorithm-Permute-0.12-rkxzBw/blib/lib
    /home/squeek/.cpan/build/Devel-Leak-0.03-q04tzL/blib/arch
    /home/squeek/.cpan/build/Devel-Leak-0.03-q04tzL/blib/lib
    /home/squeek/.cpan/build/YAML-Syck-1.07-n06TjK/blib/arch
    /home/squeek/.cpan/build/YAML-Syck-1.07-n06TjK/blib/lib
    /home/squeek/perl5/perlbrew/perls/perl-5.12.0-RC5/lib/site_perl/5.12.0/i386-freebsd
    /home/squeek/perl5/perlbrew/perls/perl-5.12.0-RC5/lib/site_perl/5.12.0
    /home/squeek/perl5/perlbrew/perls/perl-5.12.0-RC5/lib/5.12.0/i386-freebsd
    /home/squeek/perl5/perlbrew/perls/perl-5.12.0-RC5/lib/5.12.0
    .