Report for POE-Component-EasyDBI-1.23

Back
From: metabase:user:322078bc-2aae-11df-837a-5e0a49663a4f
Subject: PASS POE-Component-EasyDBI-1.23 v5.12.2 NetBSD
Date: 2010-11-03T15:27:37Z

This distribution has been tested as part of the CPAN Testers
project, supporting the Perl programming language.  See
http://wiki.cpantesters.org/ for more information or email
questions to cpan-testers-discuss@perl.org


--

Dear David Davis,
    
This is a computer-generated error report created automatically by
CPANPLUS, version 0.9010. Testers personal comments may appear 
at the end of this report.

MAKE TEST passed: PERL_DL_NONLAZY=1 /usr/bin/perl "-MExtUtils::Command::MM" "-e" "test_harness(0, 'blib/lib', 'blib/arch')" t/*.t
Unquoted string "i" may clash with future reserved word at t/1.t line 242.
t/1.t .. ok
Unquoted string "i" may clash with future reserved word at t/2.t line 266.

You should see an error next, this is intended
# DBD::SQLite::db prepare failed: near "PDATE": syntax error
# Query affected 3 rows
t/2.t .. ok
Unquoted string "i" may clash with future reserved word at t/3.t line 268.
# Query affected 3 rows
t/3.t .. ok
All tests successful.
Files=3, Tests=51,  3 wallclock secs ( 0.03 usr  0.01 sys +  0.46 cusr  0.09 csys =  0.59 CPU)
Result: PASS

[MSG] [Wed Nov  3 15:27:40 2010] Sending test report for 'POE-Component-EasyDBI-1.23'

This report was machine-generated by CPANPLUS::Dist::YACSmoke 0.58.

------------------------------
ENVIRONMENT AND OTHER CONTEXT
------------------------------

Environment variables:

    AUTOMATED_TESTING = 1
    PATH = /sbin:/usr/sbin:/bin:/usr/bin:/usr/pkg/sbin:/usr/pkg/bin:/usr/X11R7/bin:/usr/X11R6/bin:/usr/local/sbin:/usr/local/bin
    PERL5LIB = :/root/.cpanplus/5.12.2/build/POE-Component-EasyDBI-1.23/blib/lib:/root/.cpanplus/5.12.2/build/POE-Component-EasyDBI-1.23/blib/arch
    PERL5_CPANIDX_URL = http://cpan.mirror.local/cpanidx/
    PERL5_CPANPLUS_IS_RUNNING = 2557
    PERL5_CPANPLUS_IS_VERSION = 0.9010
    PERL_EXTUTILS_AUTOINSTALL = --defaultdeps
    PERL_MM_USE_DEFAULT = 1
    SHELL = /bin/sh
    TERM = vt100

Perl special variables (and OS-specific diagnostics, for MSWin32):

    Perl: $^X = /usr/bin/perl
    UID:  $<  = 0
    EUID: $>  = 0
    GID:  $(  = 0 0 2 3 4 5 20 31
    EGID: $)  = 0 0 2 3 4 5 20 31


-------------------------------


--

Summary of my perl5 (revision 5 version 12 subversion 2) configuration:
   
  Platform:
    osname=netbsd, osvers=5.1_rc3, archname=amd64-netbsd
    uname='netbsd fubar.bingosnet.co.uk 5.1_rc3 netbsd 5.1_rc3 (generic) #0: sat jun 12 20:26:01 utc 2010 builds@b8.netbsd.org:homebuildsabnetbsd-5-1-rc3amd64201006130031z-objhomebuildsabnetbsd-5-1-rc3srcsysarchamd64compilegeneric amd64 '
    config_args='-des -Dusemallocwrap=y -Dusemymalloc=n'
    hint=recommended, useposix=true, d_sigaction=define
    useithreads=undef, usemultiplicity=undef
    useperlio=define, d_sfio=undef, uselargefiles=define, usesocks=undef
    use64bitint=define, use64bitall=define, uselongdouble=undef
    usemymalloc=n, bincompat5005=undef
  Compiler:
    cc='cc', ccflags ='-fno-strict-aliasing -pipe -fstack-protector -I/usr/pkg/include',
    optimize='-O',
    cppflags='-fno-strict-aliasing -pipe -fstack-protector -I/usr/pkg/include'
    ccversion='', gccversion='4.1.3 20080704 prerelease (NetBSD nb2 20081120)', gccosandvers=''
    intsize=4, longsize=8, ptrsize=8, doublesize=8, byteorder=12345678
    d_longlong=define, longlongsize=8, d_longdbl=define, longdblsize=16
    ivtype='long', ivsize=8, nvtype='double', nvsize=8, Off_t='off_t', lseeksize=8
    alignbytes=8, prototype=define
  Linker and Libraries:
    ld='cc', ldflags =' -Wl,-rpath,/usr/pkg/lib -Wl,-rpath,/usr/local/lib -fstack-protector -L/usr/pkg/lib'
    libpth=/usr/pkg/lib /lib /usr/lib
    libs=-lm -lcrypt -lutil -lc -lposix
    perllibs=-lm -lcrypt -lutil -lc -lposix
    libc=/lib/libc.so, so=so, useshrplib=false, libperl=libperl.a
    gnulibc_version=''
  Dynamic Linking:
    dlsrc=dl_dlopen.xs, dlext=so, d_dlsymun=undef, ccdlflags='-Wl,-E '
    cccdlflags='-DPIC -fPIC ', lddlflags='--whole-archive -shared  -L/usr/pkg/lib -fstack-protector'


Characteristics of this binary (from libperl): 
  Compile-time options: PERL_DONT_CREATE_GVSV PERL_MALLOC_WRAP USE_64_BIT_ALL
                        USE_64_BIT_INT USE_LARGE_FILES USE_PERLIO
                        USE_PERL_ATOF
  Built under netbsd
  Compiled at Sep 14 2010 13:57:16
  %ENV:
    PERL5LIB=":/root/.cpanplus/5.12.2/build/POE-Component-EasyDBI-1.23/blib/lib:/root/.cpanplus/5.12.2/build/POE-Component-EasyDBI-1.23/blib/arch"
    PERL5_CPANIDX_URL="http://cpan.mirror.local/cpanidx/"
    PERL5_CPANPLUS_IS_RUNNING="2557"
    PERL5_CPANPLUS_IS_VERSION="0.9010"
    PERL_EXTUTILS_AUTOINSTALL="--defaultdeps"
    PERL_MM_USE_DEFAULT="1"
  @INC:
    /root/.cpanplus/5.12.2/build/POE-Component-EasyDBI-1.23/blib/lib
    /root/.cpanplus/5.12.2/build/POE-Component-EasyDBI-1.23/blib/arch
    /usr/lib/perl5/site_perl/5.12.2/amd64-netbsd
    /usr/lib/perl5/site_perl/5.12.2
    /usr/lib/perl5/5.12.2/amd64-netbsd
    /usr/lib/perl5/5.12.2
    .