Lorem v0.23.1 Perl 5 v5.26.1 x86_64-linux

Status
Pass
From
Andreas J. K├Ânig (ANDK)
Dist
Lorem v0.23.1
Platform
Perl 5 v5.26.1 x86_64-linux
Date
2017-10-25T04:42:22
ID
e3f845fc-b93e-11e7-87cc-6adc670be045
This distribution has been tested as part of the CPAN Testers
project, supporting the Perl programming language.  See
http://wiki.cpantesters.org/ for more information or email
questions to cpan-testers-discuss@perl.org


--
Dear Jeffrey Ray Hallock,

This is a computer-generated report for Lorem-0.23.1
on perl 5.26.1, created by CPAN-Reporter-1.2018.

Thank you for uploading your work to CPAN.  Congratulations!
All tests were successful.

Sections of this report:

    * Tester comments
    * Program output
    * Prerequisites
    * Environment and other context

------------------------------
TESTER COMMENTS
------------------------------

Additional comments from tester:

this report is from an automated smoke testing program
and was not reviewed by a human for accuracy

------------------------------
PROGRAM OUTPUT
------------------------------

Output from '/usr/bin/make test':

PERL_DL_NONLAZY=1 "/home/sand/src/perl/repoperls/installed-perls/host/k93msid/v5.26.1/d2d1/bin/perl" "-MExtUtils::Command::MM" "-MTest::Harness" "-e" "undef *Test::Harness::Switches; test_harness(0, 'blib/lib', 'blib/arch')" t/*.t
t/001_document.t ............ ok
t/002_pdf_surface.t ......... ok
t/003_print_operation.t ..... skipped: Tests run for module author only.
t/011_box_element.t ......... ok
t/012_div.t ................. ok
t/013_div_relative_width.t .. ok
t/014_table.t ............... ok
t/100_style.t ............... ok
t/101_style_dimensions.t .... ok
t/102_style_borders.t ....... ok
t/103_style_padding.t ....... ok
t/104_style_margin.t ........ ok
t/150_style_parsing.t ....... ok
t/151_style_parsing.t ....... ok
t/152_style_coercion.t ...... ok
t/200_lorum.t ............... ok
All tests successful.
Files=16, Tests=126, 34 wallclock secs ( 0.05 usr  0.09 sys + 13.47 cusr  1.43 csys = 15.04 CPU)
Result: PASS

------------------------------
PREREQUISITES
------------------------------

Prerequisite modules loaded:

requires:

    Module                         Need Have    
    ------------------------------ ---- --------
    Cairo                          0    1.106   
    Convert::Color                 0    0.11    
    Moose                          0    2.2006  
    MooseX::Clone                  0    0.06    
    MooseX::Role::Parameterized    0    1.10    
    MooseX::SemiAffordanceAccessor 0    0.10    
    MooseX::StrictConstructor      0    0.21    
    MooseX::Types                  0    0.50    
    Pango                          0    1.227   
    Readonly                       0    2.05    
    TryCatch                       0    1.003002

configure_requires:

    Module                         Need Have    
    ------------------------------ ---- --------
    ExtUtils::MakeMaker            6.30 7.31_04 


------------------------------
ENVIRONMENT AND OTHER CONTEXT
------------------------------

Environment variables:

    AUTOMATED_TESTING = 1
    LANG = en_US.UTF-8
    PATH = /home/sand/bin:/usr/local/bin:/usr/bin:/bin:/usr/games:/usr/local/perl/bin:/usr/X11/bin:/sbin:/usr/sbin
    PERL5LIB = /tmp/loop_over_bdir-29975-QMorbB/Pango-1.227-0/blib/arch:/tmp/loop_over_bdir-29975-QMorbB/Pango-1.227-0/blib/lib:/tmp/loop_over_bdir-29975-QMorbB/Glib-1.326-0/blib/arch:/tmp/loop_over_bdir-29975-QMorbB/Glib-1.326-0/blib/lib:/tmp/loop_over_bdir-29975-QMorbB/MooseX-SemiAffordanceAccessor-0.10-0/blib/arch:/tmp/loop_over_bdir-29975-QMorbB/MooseX-SemiAffordanceAccessor-0.10-0/blib/lib:/tmp/loop_over_bdir-29975-QMorbB/MooseX-Clone-0.06-0/blib/arch:/tmp/loop_over_bdir-29975-QMorbB/MooseX-Clone-0.06-0/blib/lib
    PERL5OPT = 
    PERL5_CPANPLUS_IS_RUNNING = 29986
    PERL5_CPAN_IS_RUNNING = 29986
    PERL5_CPAN_IS_RUNNING_IN_RECURSION = 5940,29986
    PERL_CANARY_STABILITY_NOPROMPT = 1
    PERL_MM_USE_DEFAULT = 1
    PERL_USE_UNSAFE_INC = 1
    SHELL = /usr/bin/zsh
    TERM = screen

Perl special variables (and OS-specific diagnostics, for MSWin32):

    $^X = /home/sand/src/perl/repoperls/installed-perls/host/k93msid/v5.26.1/d2d1/bin/perl
    $UID/$EUID = 1005 / 1005
    $GID = 1005 1005
    $EGID = 1005 1005

Perl module toolchain versions installed:

    Module              Have    
    ------------------- --------
    CPAN                2.18    
    CPAN::Meta          2.150010
    Cwd                 3.67    
    ExtUtils::CBuilder  0.280226
    ExtUtils::Command   7.31_04 
    ExtUtils::Install   2.06    
    ExtUtils::MakeMaker 7.31_04 
    ExtUtils::Manifest  1.70    
    ExtUtils::ParseXS   3.34    
    File::Spec          3.67    
    JSON                2.94    
    JSON::PP            2.94    
    Module::Build       0.4224  
    Module::Signature   0.81    
    Parse::CPAN::Meta   2.150010
    Test::Harness       3.39    
    Test::More          1.302106
    YAML                1.23    
    YAML::Syck          1.30    
    version             0.9917  


--

Summary of my perl5 (revision 5 version 26 subversion 1) configuration:
  Commit id: 714a461a2ab3017f19ea0f7bbb4934b2309d3aa8
  Platform:
    osname=linux
    osvers=4.12.0-2-amd64
    archname=x86_64-linux
    uname='linux k93msid 4.12.0-2-amd64 #1 smp debian 4.12.13-1 (2017-09-19) x86_64 gnulinux '
    config_args='-Dprefix=/home/sand/src/perl/repoperls/installed-perls/host/k93msid/v5.26.1/d2d1 -Dmyhostname=k93msid -Dinstallusrbinperl=n -Uversiononly -Dusedevel -des -Ui_db -Dlibswanted=cl pthread socket inet nsl gdbm dbm malloc dl ld sun m crypt sec util c cposix posix ucb BSD gdbm_compat -Uuseithreads -Uuselongdouble -DDEBUGGING=both'
    hint=recommended
    useposix=true
    d_sigaction=define
    useithreads=undef
    usemultiplicity=undef
    use64bitint=define
    use64bitall=define
    uselongdouble=undef
    usemymalloc=n
    default_inc_excludes_dot=define
    bincompat5005=undef
  Compiler:
    cc='cc'
    ccflags ='-fwrapv -DDEBUGGING -fno-strict-aliasing -pipe -fstack-protector-strong -I/usr/local/include -D_LARGEFILE_SOURCE -D_FILE_OFFSET_BITS=64 -D_FORTIFY_SOURCE=2'
    optimize='-O2 -g'
    cppflags='-fwrapv -DDEBUGGING -fno-strict-aliasing -pipe -fstack-protector-strong -I/usr/local/include'
    ccversion=''
    gccversion='7.2.0'
    gccosandvers=''
    intsize=4
    longsize=8
    ptrsize=8
    doublesize=8
    byteorder=12345678
    doublekind=3
    d_longlong=define
    longlongsize=8
    d_longdbl=define
    longdblsize=16
    longdblkind=3
    ivtype='long'
    ivsize=8
    nvtype='double'
    nvsize=8
    Off_t='off_t'
    lseeksize=8
    alignbytes=8
    prototype=define
  Linker and Libraries:
    ld='cc'
    ldflags =' -fstack-protector-strong -L/usr/local/lib'
    libpth=/usr/local/lib /usr/lib/gcc/x86_64-linux-gnu/7/include-fixed /usr/include/x86_64-linux-gnu /usr/lib /lib/x86_64-linux-gnu /lib/../lib /usr/lib/x86_64-linux-gnu /usr/lib/../lib /lib
    libs=-lpthread -lnsl -ldl -lm -lcrypt -lutil -lc
    perllibs=-lpthread -lnsl -ldl -lm -lcrypt -lutil -lc
    libc=libc-2.24.so
    so=so
    useshrplib=false
    libperl=libperl.a
    gnulibc_version='2.24'
  Dynamic Linking:
    dlsrc=dl_dlopen.xs
    dlext=so
    d_dlsymun=undef
    ccdlflags='-Wl,-E'
    cccdlflags='-fPIC'
    lddlflags='-shared -O2 -g -L/usr/local/lib -fstack-protector-strong'


Characteristics of this binary (from libperl): 
  Compile-time options:
    DEBUGGING
    HAS_TIMES
    PERLIO_LAYERS
    PERL_COPY_ON_WRITE
    PERL_DONT_CREATE_GVSV
    PERL_MALLOC_WRAP
    PERL_OP_PARENT
    PERL_PRESERVE_IVUV
    PERL_USE_DEVEL
    USE_64_BIT_ALL
    USE_64_BIT_INT
    USE_LARGE_FILES
    USE_LOCALE
    USE_LOCALE_COLLATE
    USE_LOCALE_CTYPE
    USE_LOCALE_NUMERIC
    USE_LOCALE_TIME
    USE_PERLIO
    USE_PERL_ATOF
  Built under linux
  Compiled at Oct  2 2017 14:20:02
  %ENV:
    PERL5LIB="/tmp/loop_over_bdir-29975-QMorbB/Pango-1.227-0/blib/arch:/tmp/loop_over_bdir-29975-QMorbB/Pango-1.227-0/blib/lib:/tmp/loop_over_bdir-29975-QMorbB/Glib-1.326-0/blib/arch:/tmp/loop_over_bdir-29975-QMorbB/Glib-1.326-0/blib/lib:/tmp/loop_over_bdir-29975-QMorbB/MooseX-SemiAffordanceAccessor-0.10-0/blib/arch:/tmp/loop_over_bdir-29975-QMorbB/MooseX-SemiAffordanceAccessor-0.10-0/blib/lib:/tmp/loop_over_bdir-29975-QMorbB/MooseX-Clone-0.06-0/blib/arch:/tmp/loop_over_bdir-29975-QMorbB/MooseX-Clone-0.06-0/blib/lib"
    PERL5OPT=""
    PERL5_CPANPLUS_IS_RUNNING="29986"
    PERL5_CPAN_IS_RUNNING="29986"
    PERL5_CPAN_IS_RUNNING_IN_RECURSION="5940,29986"
    PERL_CANARY_STABILITY_NOPROMPT="1"
    PERL_MM_USE_DEFAULT="1"
    PERL_USE_UNSAFE_INC="1"
  @INC:
    /tmp/loop_over_bdir-29975-QMorbB/Pango-1.227-0/blib/arch
    /tmp/loop_over_bdir-29975-QMorbB/Pango-1.227-0/blib/lib
    /tmp/loop_over_bdir-29975-QMorbB/Glib-1.326-0/blib/arch
    /tmp/loop_over_bdir-29975-QMorbB/Glib-1.326-0/blib/lib
    /tmp/loop_over_bdir-29975-QMorbB/MooseX-SemiAffordanceAccessor-0.10-0/blib/arch
    /tmp/loop_over_bdir-29975-QMorbB/MooseX-SemiAffordanceAccessor-0.10-0/blib/lib
    /tmp/loop_over_bdir-29975-QMorbB/MooseX-Clone-0.06-0/blib/arch
    /tmp/loop_over_bdir-29975-QMorbB/MooseX-Clone-0.06-0/blib/lib
    /home/sand/src/perl/repoperls/installed-perls/host/k93msid/v5.26.1/d2d1/lib/site_perl/5.26.1/x86_64-linux
    /home/sand/src/perl/repoperls/installed-perls/host/k93msid/v5.26.1/d2d1/lib/site_perl/5.26.1
    /home/sand/src/perl/repoperls/installed-perls/host/k93msid/v5.26.1/d2d1/lib/5.26.1/x86_64-linux
    /home/sand/src/perl/repoperls/installed-perls/host/k93msid/v5.26.1/d2d1/lib/5.26.1
    .