Test-WWW-Mechanize-Catalyst v0.62 Perl 5 v5.30.1 x86_64-linux-thread-multi
- Status
- Pass
- From
- Michael Pinson
- Dist
-
Test-WWW-Mechanize-Catalyst v0.62
- Platform
- Perl 5 v5.30.1 x86_64-linux-thread-multi
- Date
- 2020-03-30 23:33:42
- ID
- e41571d4-72de-11ea-9a05-0d49f2a1ffcf
This distribution has been tested as part of the CPAN Testers
project, supporting the Perl programming language. See
http://wiki.cpantesters.org/ for more information or email
questions to cpan-testers-discuss@perl.org
--
Dear Matt S Trout,
This is a computer-generated report for Test-WWW-Mechanize-Catalyst-0.62
on perl 5.30.1, created by CPAN-Reporter-1.2018.
Thank you for uploading your work to CPAN. Congratulations!
All tests were successful.
Sections of this report:
* Tester comments
* Program output
* Prerequisites
* Environment and other context
------------------------------
TESTER COMMENTS
------------------------------
Additional comments from tester:
none provided
------------------------------
PROGRAM OUTPUT
------------------------------
Output from '/usr/bin/make test':
PERL_DL_NONLAZY=1 "/usr/bin/perl" "-MExtUtils::Command::MM" "-MTest::Harness" "-e" "undef *Test::Harness::Switches; test_harness(0, 'inc', 'blib/lib', 'blib/arch')" t/*.t
t/auth-test.t ........... ok
t/cookies.t ............. ok
t/decoded_content.t ..... ok
#
# ###################################################################
# Starting an external Catalyst HTTP server on port 7357
# To change the port, please set the TWMC_TEST_PORT env variable.
# (The server will be automatically shut-down right after the tests).
# ###################################################################
HTTP::Server::PSGI: Accepting connections at http://0:7357/
t/multi_content_type.t .. ok
t/pod.t ................. ok
t/redirect.t ............ ok
Term::Size::Any is not installed, can't autodetect terminal column width
Trouble trying to detect your terminal size, looking at $ENV{COLUMNS}
Cannot determine desired terminal width, using default of 80 columns
t/simple.t .............. ok
t/two_app.t ............. ok
t/useragent.t ........... ok
t/utf8.t ................ ok
t/white_label.t ......... ok
All tests successful.
Files=11, Tests=109, 19 wallclock secs ( 0.05 usr 0.02 sys + 8.35 cusr 0.61 csys = 9.03 CPU)
Result: PASS
------------------------------
PREREQUISITES
------------------------------
Prerequisite modules loaded:
requires:
Module Need Have
---------------------------------------- -------- --------
Catalyst 5.90 5.90126
Class::Load 0.19 0.25
LWP 5.816 6.43
Moose 0.67 2.2012
namespace::clean 0.09 0.27
perl 5.008004 5.030001
Test::WWW::Mechanize 1.14 1.52
WWW::Mechanize 1.54 1.96
build_requires:
Module Need Have
---------------------------------------- -------- --------
Catalyst::Plugin::Session::State::Cookie 0 0.17
Catalyst::Plugin::Session::Store::Dummy 0 0
ExtUtils::MakeMaker 6.59 7.44
Test::Exception 0 0.43
Test::More 0.88 1.302173
Test::utf8 0 1.02
configure_requires:
Module Need Have
---------------------------------------- -------- --------
ExtUtils::MakeMaker 6.59 7.44
------------------------------
ENVIRONMENT AND OTHER CONTEXT
------------------------------
Environment variables:
LANG = en_US.UTF-8
LANGUAGE =
PATH = /usr/local/sbin:/usr/local/bin:/sbin:/bin:/usr/sbin:/usr/bin:/root/bin
PERL5LIB =
PERL5OPT =
PERL5_CPANPLUS_IS_RUNNING = 21127
PERL5_CPAN_IS_RUNNING = 21127
PERL_USE_UNSAFE_INC = 1
SHELL = /bin/bash
TERM = xterm-256color
Perl special variables (and OS-specific diagnostics, for MSWin32):
$^X = /usr/bin/perl
$UID/$EUID = 0 / 0
$GID = 0 0 1 2 3 4 6 10 27
$EGID = 0 0 1 2 3 4 6 10 27
Perl module toolchain versions installed:
Module Have
------------------- --------
CPAN 2.22
CPAN::Meta 2.150010
Cwd 3.78
ExtUtils::CBuilder 0.280234
ExtUtils::Command 7.44
ExtUtils::Install 2.14
ExtUtils::MakeMaker 7.44
ExtUtils::Manifest 1.72
ExtUtils::ParseXS 3.40
File::Spec 3.78
JSON 4.02
JSON::PP 4.04
Module::Build 0.4231
Module::Signature 0.83
Parse::CPAN::Meta 2.150010
Test::Harness 3.42
Test::More 1.302173
YAML 1.30
YAML::Syck 1.32
version 0.9924
--
Summary of my perl5 (revision 5 version 30 subversion 1) configuration:
Platform:
osname=linux
osvers=4.9.0-sabayon
archname=x86_64-linux-thread-multi
uname='linux andromeda.sabayon.org 4.9.0-sabayon #1 smp sun mar 11 11:25:15 utc 2018 x86_64 intel(r) xeon(r) cpu e5-26xx (sandy bridge) genuineintel gnulinux '
config_args='-des -Dinstallprefix=/usr -Dinstallusrbinperl=n -Ui_xlocale -Di_ndbm -Di_gdbm -Di_db -Dusethreads -DDEBUGGING=none -Dinc_version_list=5.28.2 5.26.2 -Dlibpth=/usr/local/lib64 /lib64 /usr/lib64 -Dnoextensions=ODBM_File -Duseshrplib -Darchname=x86_64-linux-thread -Dcc=x86_64-pc-linux-gnu-gcc -Doptimize=-O2 -march=x86-64 -pipe -Dldflags=-Wl,-O1 -Wl,--as-needed -Dprefix=/usr -Dsiteprefix=/usr/local -Dvendorprefix=/usr -Dscriptdir=/usr/bin -Dprivlib=/usr/lib64/perl5/5.30.1 -Darchlib=/usr/lib64/perl5/5.30.1/x86_64-linux-thread-multi -Dsitelib=/usr/local/lib64/perl5/5.30.1 -Dsitearch=/usr/local/lib64/perl5/5.30.1/x86_64-linux-thread-multi -Dvendorlib=/usr/lib64/perl5/vendor_perl/5.30.1 -Dvendorarch=/usr/lib64/perl5/vendor_perl/5.30.1/x86_64-linux-thread-multi -Dman1dir=/usr/share/man/man1 -Dman3dir=/usr/share/man/man3 -Dsiteman1dir=/usr/local/man/man1 -Dsiteman3dir=/usr/local/man/man3 -Dvendorman1dir=/usr/share/man/man1 -Dvendorman3dir=/usr/share/man/man3 -Dman1ext=1 -Dman3ext=3pm -Dlibperl=libperl.so.5.30.1 -Dlocincpth=/usr/include -Dglibpth=/lib64 /usr/lib64 -Duselargefiles -Dd_semctl_semun -Dcf_by=Gentoo -Dmyhostname=localhost -Dperladmin=root@localhost -Ud_csh -Dsh=/bin/sh -Dtargetsh=/bin/sh -Uusenm -Ui_xlocale -Di_ndbm -Di_gdbm -Di_db -Dusethreads -DDEBUGGING=none -Dinc_version_list=5.28.2 5.26.2 -Dlibpth=/usr/local/lib64 /lib64 /usr/lib64 -Dnoextensions=ODBM_File'
hint=recommended
useposix=true
d_sigaction=define
useithreads=define
usemultiplicity=define
use64bitint=define
use64bitall=define
uselongdouble=undef
usemymalloc=n
default_inc_excludes_dot=define
bincompat5005=undef
Compiler:
cc='x86_64-pc-linux-gnu-gcc'
ccflags ='-D_REENTRANT -D_GNU_SOURCE -fwrapv -fno-strict-aliasing -pipe -D_LARGEFILE_SOURCE -D_FILE_OFFSET_BITS=64'
optimize='-O2 -march=x86-64 -pipe'
cppflags='-D_REENTRANT -D_GNU_SOURCE -fwrapv -fno-strict-aliasing -pipe'
ccversion=''
gccversion='8.2.0'
gccosandvers=''
intsize=4
longsize=8
ptrsize=8
doublesize=8
byteorder=12345678
doublekind=3
d_longlong=define
longlongsize=8
d_longdbl=define
longdblsize=16
longdblkind=3
ivtype='long'
ivsize=8
nvtype='double'
nvsize=8
Off_t='off_t'
lseeksize=8
alignbytes=8
prototype=define
Linker and Libraries:
ld='x86_64-pc-linux-gnu-gcc'
ldflags ='-Wl,-O1 -Wl,--as-needed'
libpth=/usr/local/lib64 /lib64 /usr/lib64 /usr/lib/gcc/x86_64-pc-linux-gnu/8.2.0/include-fixed /usr/lib /lib/../lib64 /usr/lib/../lib64 /lib
libs=-lgdbm -ldb -ldl -lm -lcrypt -lutil -lpthread -lc -lgdbm_compat
perllibs=-ldl -lm -lcrypt -lutil -lpthread -lc
libc=libc-2.29.so
so=so
useshrplib=true
libperl=libperl.so.5.30.1
gnulibc_version='2.29'
Dynamic Linking:
dlsrc=dl_dlopen.xs
dlext=so
d_dlsymun=undef
ccdlflags='-Wl,-E'
cccdlflags='-fPIC'
lddlflags='-shared -O2 -march=x86-64 -pipe -Wl,-O1 -Wl,--as-needed'
Characteristics of this binary (from libperl):
Compile-time options:
HAS_TIMES
MULTIPLICITY
PERLIO_LAYERS
PERL_COPY_ON_WRITE
PERL_DONT_CREATE_GVSV
PERL_IMPLICIT_CONTEXT
PERL_MALLOC_WRAP
PERL_OP_PARENT
PERL_PRESERVE_IVUV
USE_64_BIT_ALL
USE_64_BIT_INT
USE_ITHREADS
USE_LARGE_FILES
USE_LOCALE
USE_LOCALE_COLLATE
USE_LOCALE_CTYPE
USE_LOCALE_NUMERIC
USE_LOCALE_TIME
USE_PERLIO
USE_PERL_ATOF
USE_REENTRANT_API
USE_THREAD_SAFE_LOCALE
Locally applied patches:
gentoo/hints_hpux - Fix hpux hints
gentoo/aix_soname - aix gcc detection and shared library soname support
gentoo/EUMM-RUNPATH - https://bugs.gentoo.org/105054 cpan/ExtUtils-MakeMaker: drop $PORTAGE_TMPDIR from LD_RUN_PATH
gentoo/config_over - Remove -rpath and append LDFLAGS to lddlflags
gentoo/opensolaris_headers - Add headers for opensolaris
gentoo/patchlevel - List packaged patches for perl-5.30.1(#1) in patchlevel.h
gentoo/cleanup-paths - Cleanup PATH and shrpenv
gentoo/enc2xs - Tweak enc2xs to follow symlinks and ignore missing @INC directories.
gentoo/darwin-cc-ld - https://bugs.gentoo.org/297751 darwin: Use $CC to link
gentoo/cpan_definstalldirs - Provide a sensible INSTALLDIRS default for modules installed from CPAN.
gentoo/interix - Fix interix hints
gentoo/create_libperl_soname - https://bugs.gentoo.org/286840 Set libperl soname
gentoo/mod_paths - Add /etc/perl to @INC
gentoo/EUMM_perllocalpod - cpan/ExtUtils-MakeMaker: remove targets that generate perllocal.pod
gentoo/drop_fstack_protector - https://bugs.gentoo.org/348557 Don't force -fstack-protector on everyone
gentoo/usr_local - Configure: Don't include sources in /usr/local/ for compiling perl
gentoo/D-SHA-CFLAGS - https://bugs.gentoo.org/506818 Do not set custom CFLAGS in cpan/Digest-SHA
gentoo/io_socket_ip_tests - cpan/IO-Socket-IP: Disable network tests
gentoo/tests - Fix EUMM podlocal tests
gentoo/no-nsl-cl.patch -
gentoo/no_porting_tests - Disable porting tests which create fun false-failures all over travis
gentoo/pathtools_enoent - Disable PathTools tests which fails under sandboxing
debian/cpan-missing-site-dirs - Fix CPAN::FirstTime defaults with nonexisting site dirs if a parent is writable
debian/makemaker-pasthru - Pass LD settings through to subdirectories
fixes/memoize_storable_nstore - [rt.cpan.org #77790] Memoize::Storable: respect 'nstore' option not respected
fixes/podman-pipe - Better errors for man pages from standard input
fixes/respect_umask - Respect umask during installation
fixes/net_smtp_docs - [rt.cpan.org #36038] Document the Net::SMTP 'Port' option
fixes/document_makemaker_ccflags - [rt.cpan.org #68613] Document that CCFLAGS should include $Config{ccflags}
fixes/parallel-manisort.patch - Fix parallel building
Built under linux
Compiled at Mar 15 2020 12:46:42
%ENV:
PERL5LIB=""
PERL5OPT=""
PERL5_CPANPLUS_IS_RUNNING="21127"
PERL5_CPAN_IS_RUNNING="21127"
PERL_USE_UNSAFE_INC="1"
@INC:
/etc/perl
/usr/local/lib64/perl5/5.30.1/x86_64-linux-thread-multi
/usr/local/lib64/perl5/5.30.1
/usr/lib64/perl5/vendor_perl/5.30.1/x86_64-linux-thread-multi
/usr/lib64/perl5/vendor_perl/5.30.1
/usr/local/lib64/perl5
/usr/lib64/perl5/vendor_perl
/usr/lib64/perl5/5.30.1/x86_64-linux-thread-multi
/usr/lib64/perl5/5.30.1
.