Report for Test-WWW-Mechanize-Catalyst-0.59

Back
From: metabase:user:e94e3604-ece3-11e3-b331-bbb01749199b
Subject: PASS Test-WWW-Mechanize-Catalyst-0.59 v5.10.1 GNU/Linux
Date: 2014-06-05T20:20:53Z

This distribution has been tested as part of the CPAN Testers
project, supporting the Perl programming language.  See
http://wiki.cpantesters.org/ for more information or email
questions to cpan-testers-discuss@perl.org


--
Dear Dagfinn Ilmari Mannsaker,

This is a computer-generated report for Test-WWW-Mechanize-Catalyst-0.59
on perl 5.10.1, created by CPAN-Reporter-1.2011.

Thank you for uploading your work to CPAN.  Congratulations!
All tests were successful.

Sections of this report:

    * Tester comments
    * Program output
    * Prerequisites
    * Environment and other context

------------------------------
TESTER COMMENTS
------------------------------

Additional comments from tester:

none provided

------------------------------
PROGRAM OUTPUT
------------------------------

Output from '/usr/bin/make test':

PERL_DL_NONLAZY=1 /usr/bin/perl "-MExtUtils::Command::MM" "-e" "test_harness(0, 'inc', 'blib/lib', 'blib/arch')" t/*.t
Class::MOP::load_class is deprecated at /usr/local/lib64/perl5/Class/MOP.pm line 71.
	Class::MOP::load_class('Catalyst::Plugin::Unicode::Encoding', undef) called at /usr/local/share/perl5/Catalyst.pm line 3017
	Catalyst::setup_plugins('Catty', undef) called at /usr/local/share/perl5/Catalyst.pm line 1110
	Catalyst::setup('Catty') called at t/lib/Catty.pm line 14
	require Catty.pm called at /usr/local/share/perl5/Module/Runtime.pm line 317
	Module::Runtime::require_module('Catty') called at /usr/local/share/perl5/Class/Load.pm line 177
	Class::Load::try {...} () called at /usr/local/share/perl5/Try/Tiny.pm line 76
	eval {...} called at /usr/local/share/perl5/Try/Tiny.pm line 72
	Try::Tiny::try('CODE(0x37808b8)', 'Try::Tiny::Catch=REF(0x378dd90)') called at /usr/local/share/perl5/Class/Load.pm line 183
	Class::Load::try_load_class('Catty', undef) called at /usr/local/share/perl5/Class/Load.pm line 38
	Class::Load::load_class('Catty') called at lib/Test/WWW/Mechanize/Catalyst.pm line 245
	Test::WWW::Mechanize::Catalyst::import('Test::WWW::Mechanize::Catalyst', 'Catty') called at t/auth-test.t line 7
	main::BEGIN() called at t/lib/Catty.pm line 0
	eval {...} called at t/lib/Catty.pm line 0
Class::MOP::is_class_loaded is deprecated at /usr/local/lib64/perl5/Class/MOP.pm line 89.
	Class::MOP::is_class_loaded('Catalyst::Stats') called at /usr/local/share/perl5/Catalyst/Utils.pm line 300
	Catalyst::Utils::ensure_class_loaded('Catalyst::Stats') called at /usr/local/share/perl5/Catalyst.pm line 2930
	Catalyst::setup_stats('Catty', undef) called at /usr/local/share/perl5/Catalyst.pm line 1116
	Catalyst::setup('Catty') called at t/lib/Catty.pm line 14
	require Catty.pm called at /usr/local/share/perl5/Module/Runtime.pm line 317
	Module::Runtime::require_module('Catty') called at /usr/local/share/perl5/Class/Load.pm line 177
	Class::Load::try {...} () called at /usr/local/share/perl5/Try/Tiny.pm line 76
	eval {...} called at /usr/local/share/perl5/Try/Tiny.pm line 72
	Try::Tiny::try('CODE(0x37808b8)', 'Try::Tiny::Catch=REF(0x378dd90)') called at /usr/local/share/perl5/Class/Load.pm line 183
	Class::Load::try_load_class('Catty', undef) called at /usr/local/share/perl5/Class/Load.pm line 38
	Class::Load::load_class('Catty') called at lib/Test/WWW/Mechanize/Catalyst.pm line 245
	Test::WWW::Mechanize::Catalyst::import('Test::WWW::Mechanize::Catalyst', 'Catty') called at t/auth-test.t line 7
	main::BEGIN() called at t/lib/Catty.pm line 0
	eval {...} called at t/lib/Catty.pm line 0
Class::MOP::is_class_loaded is deprecated at /usr/local/lib64/perl5/Class/MOP.pm line 89.
	Class::MOP::is_class_loaded('Catty') called at /usr/local/share/perl5/Catalyst/Component.pm line 94
	Catalyst::Component::BUILDARGS('Catty::Controller::Root', 'Catty', 'HASH(0x436d540)') called at /usr/local/lib64/perl5/Moose/Role.pm line 79
	Moose::Role::super() called at /usr/local/share/perl5/Catalyst/Component/ApplicationAttribute.pm line 14
	Catalyst::Component::ApplicationAttribute::__ANON__('Catty::Controller::Root', 'Catty', 'HASH(0x436d540)') called at /usr/local/lib64/perl5/Moose/Meta/Method/Overridden.pm line 40
	Catalyst::Controller::BUILDARGS('Catty::Controller::Root', 'Catty', 'HASH(0x436d540)') called at /usr/local/lib64/perl5/Moose/Object.pm line 24
	Moose::Object::new('Catty::Controller::Root', 'Catty', 'HASH(0x436d540)') called at constructor Catalyst::Controller::new (defined at /usr/local/share/perl5/Catalyst/Controller.pm line 566) line 4
	Catalyst::Controller::new('Catty::Controller::Root', 'Catty', 'HASH(0x436d540)') called at /usr/local/share/perl5/Catalyst/Component.pm line 121
	Catalyst::Component::COMPONENT('Catty::Controller::Root', 'Catty', 'HASH(0x436d540)') called at /usr/local/share/perl5/Catalyst.pm line 2612
	eval {...} called at /usr/local/share/perl5/Catalyst.pm line 2612
	Catalyst::setup_component('Catty', 'Catty::Controller::Root') called at /usr/local/share/perl5/Catalyst.pm line 2539
	Catalyst::setup_components('Catty') called at /usr/local/share/perl5/Catalyst.pm line 1177
	Catalyst::setup('Catty') called at t/lib/Catty.pm line 14
	require Catty.pm called at /usr/local/share/perl5/Module/Runtime.pm line 317
	Module::Runtime::require_module('Catty') called at /usr/local/share/perl5/Class/Load.pm line 177
	Class::Load::try {...} () called at /usr/local/share/perl5/Try/Tiny.pm line 76
	eval {...} called at /usr/local/share/perl5/Try/Tiny.pm line 72
	Try::Tiny::try('CODE(0x37808b8)', 'Try::Tiny::Catch=REF(0x378dd90)') called at /usr/local/share/perl5/Class/Load.pm line 183
	Class::Load::try_load_class('Catty', undef) called at /usr/local/share/perl5/Class/Load.pm line 38
	Class::Load::load_class('Catty') called at lib/Test/WWW/Mechanize/Catalyst.pm line 245
	Test::WWW::Mechanize::Catalyst::import('Test::WWW::Mechanize::Catalyst', 'Catty') called at t/auth-test.t line 7
	main::BEGIN() called at t/lib/Catty.pm line 0
	eval {...} called at t/lib/Catty.pm line 0
Class::MOP::load_class is deprecated at /usr/local/lib64/perl5/Class/MOP.pm line 71.
	Class::MOP::load_class('Catalyst::DispatchType::Index') called at /usr/local/share/perl5/Catalyst/Dispatcher.pm line 663
	eval {...} called at /usr/local/share/perl5/Catalyst/Dispatcher.pm line 663
	Catalyst::Dispatcher::_load_dispatch_types('Catalyst::Dispatcher=HASH(0x4082df0)', 'Index', 'Path') called at /usr/local/share/perl5/Catalyst/Dispatcher.pm line 603
	Catalyst::Dispatcher::setup_actions('Catalyst::Dispatcher=HASH(0x4082df0)', 'Catty') called at /usr/local/share/perl5/Catalyst.pm line 2499
	Catalyst::setup_actions('Catty') called at /usr/local/share/perl5/Catalyst.pm line 1195
	Catalyst::setup('Catty') called at t/lib/Catty.pm line 14
	require Catty.pm called at /usr/local/share/perl5/Module/Runtime.pm line 317
	Module::Runtime::require_module('Catty') called at /usr/local/share/perl5/Class/Load.pm line 177
	Class::Load::try {...} () called at /usr/local/share/perl5/Try/Tiny.pm line 76
	eval {...} called at /usr/local/share/perl5/Try/Tiny.pm line 72
	Try::Tiny::try('CODE(0x37808b8)', 'Try::Tiny::Catch=REF(0x378dd90)') called at /usr/local/share/perl5/Class/Load.pm line 183
	Class::Load::try_load_class('Catty', undef) called at /usr/local/share/perl5/Class/Load.pm line 38
	Class::Load::load_class('Catty') called at lib/Test/WWW/Mechanize/Catalyst.pm line 245
	Test::WWW::Mechanize::Catalyst::import('Test::WWW::Mechanize::Catalyst', 'Catty') called at t/auth-test.t line 7
	main::BEGIN() called at t/lib/Catty.pm line 0
	eval {...} called at t/lib/Catty.pm line 0
Class::MOP::load_class is deprecated at /usr/local/lib64/perl5/Class/MOP.pm line 71.
	Class::MOP::load_class('Catalyst::Action') called at /usr/local/share/perl5/Catalyst/Controller.pm line 320
	Catalyst::Controller::action_class('Catty::Controller::Root=HASH(0x4375280)', 'namespace', '', 'name', '_DISPATCH', 'class', 'Catty::Controller::Root', 'attributes', 'HASH(0x3cde6e8)', ...) called at /usr/local/share/perl5/Catalyst/Controller.pm line 328
	Catalyst::Controller::create_action('Catty::Controller::Root=HASH(0x4375280)', 'name', '_DISPATCH', 'code', 'CODE(0x3ca54c0)', 'reverse', '_DISPATCH', 'namespace', '', ...) called at /usr/local/share/perl5/Catalyst/Controller.pm line 285
	Catalyst::Controller::register_action_methods('Catty::Controller::Root=HASH(0x4375280)', 'Catty', 'Moose::Meta::Class::__ANON__::SERIAL::7=HASH(0x4382a50)', 'Moose::Meta::Class::__ANON__::SERIAL::7=HASH(0x43769d0)', 'Moose::Meta::Class::__ANON__::SERIAL::7=HASH(0x4376550)', 'Moose::Meta::Class::__ANON__::SERIAL::7=HASH(0x4390e38)', 'Moose::Meta::Class::__ANON__::SERIAL::7=HASH(0x4376118)', 'Moose::Meta::Class::__ANON__::SERIAL::7=HASH(0x43a8ea8)', 'Moose::Meta::Class::__ANON__::SERIAL::7=HASH(0x43a8f38)', ...) called at /usr/local/share/perl5/Catalyst/Controller.pm line 254
	Catalyst::Controller::register_actions('Catty::Controller::Root=HASH(0x4375280)', 'Catty') called at /usr/local/share/perl5/Catalyst/Dispatcher.pm line 607
	Catalyst::Dispatcher::setup_actions('Catalyst::Dispatcher=HASH(0x4082df0)', 'Catty') called at /usr/local/share/perl5/Catalyst.pm line 2499
	Catalyst::setup_actions('Catty') called at /usr/local/share/perl5/Catalyst.pm line 1195
	Catalyst::setup('Catty') called at t/lib/Catty.pm line 14
	require Catty.pm called at /usr/local/share/perl5/Module/Runtime.pm line 317
	Module::Runtime::require_module('Catty') called at /usr/local/share/perl5/Class/Load.pm line 177
	Class::Load::try {...} () called at /usr/local/share/perl5/Try/Tiny.pm line 76
	eval {...} called at /usr/local/share/perl5/Try/Tiny.pm line 72
	Try::Tiny::try('CODE(0x37808b8)', 'Try::Tiny::Catch=REF(0x378dd90)') called at /usr/local/share/perl5/Class/Load.pm line 183
	Class::Load::try_load_class('Catty', undef) called at /usr/local/share/perl5/Class/Load.pm line 38
	Class::Load::load_class('Catty') called at lib/Test/WWW/Mechanize/Catalyst.pm line 245
	Test::WWW::Mechanize::Catalyst::import('Test::WWW::Mechanize::Catalyst', 'Catty') called at t/auth-test.t line 7
	main::BEGIN() called at t/lib/Catty.pm line 0
	eval {...} called at t/lib/Catty.pm line 0
t/auth-test.t ........... ok
Class::MOP::load_class is deprecated at /usr/local/lib64/perl5/Class/MOP.pm line 71.
	Class::MOP::load_class('Catalyst::Plugin::Unicode::Encoding', undef) called at /usr/local/share/perl5/Catalyst.pm line 3017
	Catalyst::setup_plugins('CattySession', 'ARRAY(0x4045700)') called at /usr/local/share/perl5/Catalyst.pm line 1110
	Catalyst::setup('CattySession') called at t/lib/CattySession.pm line 18
	require CattySession.pm called at /usr/local/share/perl5/Module/Runtime.pm line 317
	Module::Runtime::require_module('CattySession') called at /usr/local/share/perl5/Class/Load.pm line 177
	Class::Load::try {...} () called at /usr/local/share/perl5/Try/Tiny.pm line 76
	eval {...} called at /usr/local/share/perl5/Try/Tiny.pm line 72
	Try::Tiny::try('CODE(0x373f828)', 'Try::Tiny::Catch=REF(0x374e1f0)') called at /usr/local/share/perl5/Class/Load.pm line 183
	Class::Load::try_load_class('CattySession', undef) called at /usr/local/share/perl5/Class/Load.pm line 38
	Class::Load::load_class('CattySession') called at lib/Test/WWW/Mechanize/Catalyst.pm line 245
	Test::WWW::Mechanize::Catalyst::import('Test::WWW::Mechanize::Catalyst', 'CattySession') called at t/cookies.t line 20
	main::BEGIN() called at t/lib/CattySession.pm line 0
	eval {...} called at t/lib/CattySession.pm line 0
Class::MOP::is_class_loaded is deprecated at /usr/local/lib64/perl5/Class/MOP.pm line 89.
	Class::MOP::is_class_loaded('Catalyst::Stats') called at /usr/local/share/perl5/Catalyst/Utils.pm line 300
	Catalyst::Utils::ensure_class_loaded('Catalyst::Stats') called at /usr/local/share/perl5/Catalyst.pm line 2930
	Catalyst::setup_stats('CattySession', undef) called at /usr/local/share/perl5/Catalyst.pm line 1116
	Catalyst::setup('CattySession') called at t/lib/CattySession.pm line 18
	require CattySession.pm called at /usr/local/share/perl5/Module/Runtime.pm line 317
	Module::Runtime::require_module('CattySession') called at /usr/local/share/perl5/Class/Load.pm line 177
	Class::Load::try {...} () called at /usr/local/share/perl5/Try/Tiny.pm line 76
	eval {...} called at /usr/local/share/perl5/Try/Tiny.pm line 72
	Try::Tiny::try('CODE(0x373f828)', 'Try::Tiny::Catch=REF(0x374e1f0)') called at /usr/local/share/perl5/Class/Load.pm line 183
	Class::Load::try_load_class('CattySession', undef) called at /usr/local/share/perl5/Class/Load.pm line 38
	Class::Load::load_class('CattySession') called at lib/Test/WWW/Mechanize/Catalyst.pm line 245
	Test::WWW::Mechanize::Catalyst::import('Test::WWW::Mechanize::Catalyst', 'CattySession') called at t/cookies.t line 20
	main::BEGIN() called at t/lib/CattySession.pm line 0
	eval {...} called at t/lib/CattySession.pm line 0
Class::MOP::is_class_loaded is deprecated at /usr/local/lib64/perl5/Class/MOP.pm line 89.
	Class::MOP::is_class_loaded('CattySession') called at /usr/local/share/perl5/Catalyst/Component.pm line 94
	Catalyst::Component::BUILDARGS('CattySession::Controller::Root', 'CattySession', 'HASH(0x42ebda8)') called at /usr/local/lib64/perl5/Moose/Role.pm line 79
	Moose::Role::super() called at /usr/local/share/perl5/Catalyst/Component/ApplicationAttribute.pm line 14
	Catalyst::Component::ApplicationAttribute::__ANON__('CattySession::Controller::Root', 'CattySession', 'HASH(0x42ebda8)') called at /usr/local/lib64/perl5/Moose/Meta/Method/Overridden.pm line 40
	Catalyst::Controller::BUILDARGS('CattySession::Controller::Root', 'CattySession', 'HASH(0x42ebda8)') called at /usr/local/lib64/perl5/Moose/Object.pm line 24
	Moose::Object::new('CattySession::Controller::Root', 'CattySession', 'HASH(0x42ebda8)') called at constructor Catalyst::Controller::new (defined at /usr/local/share/perl5/Catalyst/Controller.pm line 566) line 4
	Catalyst::Controller::new('CattySession::Controller::Root', 'CattySession', 'HASH(0x42ebda8)') called at /usr/local/share/perl5/Catalyst/Component.pm line 121
	Catalyst::Component::COMPONENT('CattySession::Controller::Root', 'CattySession', 'HASH(0x42ebda8)') called at /usr/local/share/perl5/Catalyst.pm line 2612
	eval {...} called at /usr/local/share/perl5/Catalyst.pm line 2612
	Catalyst::setup_component('CattySession', 'CattySession::Controller::Root') called at /usr/local/share/perl5/Catalyst.pm line 2539
	Catalyst::setup_components('CattySession') called at /usr/local/share/perl5/Catalyst.pm line 1177
	Catalyst::setup('CattySession') called at t/lib/CattySession.pm line 18
	require CattySession.pm called at /usr/local/share/perl5/Module/Runtime.pm line 317
	Module::Runtime::require_module('CattySession') called at /usr/local/share/perl5/Class/Load.pm line 177
	Class::Load::try {...} () called at /usr/local/share/perl5/Try/Tiny.pm line 76
	eval {...} called at /usr/local/share/perl5/Try/Tiny.pm line 72
	Try::Tiny::try('CODE(0x373f828)', 'Try::Tiny::Catch=REF(0x374e1f0)') called at /usr/local/share/perl5/Class/Load.pm line 183
	Class::Load::try_load_class('CattySession', undef) called at /usr/local/share/perl5/Class/Load.pm line 38
	Class::Load::load_class('CattySession') called at lib/Test/WWW/Mechanize/Catalyst.pm line 245
	Test::WWW::Mechanize::Catalyst::import('Test::WWW::Mechanize::Catalyst', 'CattySession') called at t/cookies.t line 20
	main::BEGIN() called at t/lib/CattySession.pm line 0
	eval {...} called at t/lib/CattySession.pm line 0
Class::MOP::load_class is deprecated at /usr/local/lib64/perl5/Class/MOP.pm line 71.
	Class::MOP::load_class('Catalyst::DispatchType::Index') called at /usr/local/share/perl5/Catalyst/Dispatcher.pm line 663
	eval {...} called at /usr/local/share/perl5/Catalyst/Dispatcher.pm line 663
	Catalyst::Dispatcher::_load_dispatch_types('Catalyst::Dispatcher=HASH(0x4071b28)', 'Index', 'Path') called at /usr/local/share/perl5/Catalyst/Dispatcher.pm line 603
	Catalyst::Dispatcher::setup_actions('Catalyst::Dispatcher=HASH(0x4071b28)', 'CattySession') called at /usr/local/share/perl5/Catalyst.pm line 2499
	Catalyst::setup_actions('CattySession') called at /usr/local/share/perl5/Catalyst.pm line 1195
	Catalyst::setup('CattySession') called at t/lib/CattySession.pm line 18
	require CattySession.pm called at /usr/local/share/perl5/Module/Runtime.pm line 317
	Module::Runtime::require_module('CattySession') called at /usr/local/share/perl5/Class/Load.pm line 177
	Class::Load::try {...} () called at /usr/local/share/perl5/Try/Tiny.pm line 76
	eval {...} called at /usr/local/share/perl5/Try/Tiny.pm line 72
	Try::Tiny::try('CODE(0x373f828)', 'Try::Tiny::Catch=REF(0x374e1f0)') called at /usr/local/share/perl5/Class/Load.pm line 183
	Class::Load::try_load_class('CattySession', undef) called at /usr/local/share/perl5/Class/Load.pm line 38
	Class::Load::load_class('CattySession') called at lib/Test/WWW/Mechanize/Catalyst.pm line 245
	Test::WWW::Mechanize::Catalyst::import('Test::WWW::Mechanize::Catalyst', 'CattySession') called at t/cookies.t line 20
	main::BEGIN() called at t/lib/CattySession.pm line 0
	eval {...} called at t/lib/CattySession.pm line 0
Class::MOP::load_class is deprecated at /usr/local/lib64/perl5/Class/MOP.pm line 71.
	Class::MOP::load_class('Catalyst::Action') called at /usr/local/share/perl5/Catalyst/Controller.pm line 320
	Catalyst::Controller::action_class('CattySession::Controller::Root=HASH(0x403bfd0)', 'namespace', '', 'name', '_DISPATCH', 'class', 'CattySession::Controller::Root', 'attributes', 'HASH(0x3c7e680)', ...) called at /usr/local/share/perl5/Catalyst/Controller.pm line 328
	Catalyst::Controller::create_action('CattySession::Controller::Root=HASH(0x403bfd0)', 'name', '_DISPATCH', 'code', 'CODE(0x3c4f5f0)', 'reverse', '_DISPATCH', 'namespace', '', ...) called at /usr/local/share/perl5/Catalyst/Controller.pm line 285
	Catalyst::Controller::register_action_methods('CattySession::Controller::Root=HASH(0x403bfd0)', 'CattySession', 'Moose::Meta::Class::__ANON__::SERIAL::8=HASH(0x43167b8)', 'Moose::Meta::Class::__ANON__::SERIAL::8=HASH(0x432c788)', 'Moose::Meta::Class::__ANON__::SERIAL::8=HASH(0x4326770)', 'Moose::Meta::Class::__ANON__::SERIAL::8=HASH(0x431b9e0)', 'Moose::Meta::Class::__ANON__::SERIAL::8=HASH(0x4326338)', 'Moose::Meta::Class::__ANON__::SERIAL::8=HASH(0x432d2c8)', 'Moose::Meta::Class::__ANON__::SERIAL::8=HASH(0x432d358)', ...) called at /usr/local/share/perl5/Catalyst/Controller.pm line 254
	Catalyst::Controller::register_actions('CattySession::Controller::Root=HASH(0x403bfd0)', 'CattySession') called at /usr/local/share/perl5/Catalyst/Dispatcher.pm line 607
	Catalyst::Dispatcher::setup_actions('Catalyst::Dispatcher=HASH(0x4071b28)', 'CattySession') called at /usr/local/share/perl5/Catalyst.pm line 2499
	Catalyst::setup_actions('CattySession') called at /usr/local/share/perl5/Catalyst.pm line 1195
	Catalyst::setup('CattySession') called at t/lib/CattySession.pm line 18
	require CattySession.pm called at /usr/local/share/perl5/Module/Runtime.pm line 317
	Module::Runtime::require_module('CattySession') called at /usr/local/share/perl5/Class/Load.pm line 177
	Class::Load::try {...} () called at /usr/local/share/perl5/Try/Tiny.pm line 76
	eval {...} called at /usr/local/share/perl5/Try/Tiny.pm line 72
	Try::Tiny::try('CODE(0x373f828)', 'Try::Tiny::Catch=REF(0x374e1f0)') called at /usr/local/share/perl5/Class/Load.pm line 183
	Class::Load::try_load_class('CattySession', undef) called at /usr/local/share/perl5/Class/Load.pm line 38
	Class::Load::load_class('CattySession') called at lib/Test/WWW/Mechanize/Catalyst.pm line 245
	Test::WWW::Mechanize::Catalyst::import('Test::WWW::Mechanize::Catalyst', 'CattySession') called at t/cookies.t line 20
	main::BEGIN() called at t/lib/CattySession.pm line 0
	eval {...} called at t/lib/CattySession.pm line 0
t/cookies.t ............. ok
Class::MOP::load_class is deprecated at /usr/local/lib64/perl5/Class/MOP.pm line 71.
	Class::MOP::load_class('Catalyst::Plugin::Unicode::Encoding', undef) called at /usr/local/share/perl5/Catalyst.pm line 3017
	Catalyst::setup_plugins('Catty', undef) called at /usr/local/share/perl5/Catalyst.pm line 1110
	Catalyst::setup('Catty') called at t/lib/Catty.pm line 14
	require Catty.pm called at /usr/local/share/perl5/Module/Runtime.pm line 317
	Module::Runtime::require_module('Catty') called at /usr/local/share/perl5/Class/Load.pm line 177
	Class::Load::try {...} () called at /usr/local/share/perl5/Try/Tiny.pm line 76
	eval {...} called at /usr/local/share/perl5/Try/Tiny.pm line 72
	Try::Tiny::try('CODE(0x293b998)', 'Try::Tiny::Catch=REF(0x2948e60)') called at /usr/local/share/perl5/Class/Load.pm line 183
	Class::Load::try_load_class('Catty', undef) called at /usr/local/share/perl5/Class/Load.pm line 38
	Class::Load::load_class('Catty') called at lib/Test/WWW/Mechanize/Catalyst.pm line 245
	Test::WWW::Mechanize::Catalyst::import('Test::WWW::Mechanize::Catalyst', 'Catty') called at t/decoded_content.t line 7
	main::BEGIN() called at t/lib/Catty.pm line 0
	eval {...} called at t/lib/Catty.pm line 0
Class::MOP::is_class_loaded is deprecated at /usr/local/lib64/perl5/Class/MOP.pm line 89.
	Class::MOP::is_class_loaded('Catalyst::Stats') called at /usr/local/share/perl5/Catalyst/Utils.pm line 300
	Catalyst::Utils::ensure_class_loaded('Catalyst::Stats') called at /usr/local/share/perl5/Catalyst.pm line 2930
	Catalyst::setup_stats('Catty', undef) called at /usr/local/share/perl5/Catalyst.pm line 1116
	Catalyst::setup('Catty') called at t/lib/Catty.pm line 14
	require Catty.pm called at /usr/local/share/perl5/Module/Runtime.pm line 317
	Module::Runtime::require_module('Catty') called at /usr/local/share/perl5/Class/Load.pm line 177
	Class::Load::try {...} () called at /usr/local/share/perl5/Try/Tiny.pm line 76
	eval {...} called at /usr/local/share/perl5/Try/Tiny.pm line 72
	Try::Tiny::try('CODE(0x293b998)', 'Try::Tiny::Catch=REF(0x2948e60)') called at /usr/local/share/perl5/Class/Load.pm line 183
	Class::Load::try_load_class('Catty', undef) called at /usr/local/share/perl5/Class/Load.pm line 38
	Class::Load::load_class('Catty') called at lib/Test/WWW/Mechanize/Catalyst.pm line 245
	Test::WWW::Mechanize::Catalyst::import('Test::WWW::Mechanize::Catalyst', 'Catty') called at t/decoded_content.t line 7
	main::BEGIN() called at t/lib/Catty.pm line 0
	eval {...} called at t/lib/Catty.pm line 0
Class::MOP::is_class_loaded is deprecated at /usr/local/lib64/perl5/Class/MOP.pm line 89.
	Class::MOP::is_class_loaded('Catty') called at /usr/local/share/perl5/Catalyst/Component.pm line 94
	Catalyst::Component::BUILDARGS('Catty::Controller::Root', 'Catty', 'HASH(0x35288a0)') called at /usr/local/lib64/perl5/Moose/Role.pm line 79
	Moose::Role::super() called at /usr/local/share/perl5/Catalyst/Component/ApplicationAttribute.pm line 14
	Catalyst::Component::ApplicationAttribute::__ANON__('Catty::Controller::Root', 'Catty', 'HASH(0x35288a0)') called at /usr/local/lib64/perl5/Moose/Meta/Method/Overridden.pm line 40
	Catalyst::Controller::BUILDARGS('Catty::Controller::Root', 'Catty', 'HASH(0x35288a0)') called at /usr/local/lib64/perl5/Moose/Object.pm line 24
	Moose::Object::new('Catty::Controller::Root', 'Catty', 'HASH(0x35288a0)') called at constructor Catalyst::Controller::new (defined at /usr/local/share/perl5/Catalyst/Controller.pm line 566) line 4
	Catalyst::Controller::new('Catty::Controller::Root', 'Catty', 'HASH(0x35288a0)') called at /usr/local/share/perl5/Catalyst/Component.pm line 121
	Catalyst::Component::COMPONENT('Catty::Controller::Root', 'Catty', 'HASH(0x35288a0)') called at /usr/local/share/perl5/Catalyst.pm line 2612
	eval {...} called at /usr/local/share/perl5/Catalyst.pm line 2612
	Catalyst::setup_component('Catty', 'Catty::Controller::Root') called at /usr/local/share/perl5/Catalyst.pm line 2539
	Catalyst::setup_components('Catty') called at /usr/local/share/perl5/Catalyst.pm line 1177
	Catalyst::setup('Catty') called at t/lib/Catty.pm line 14
	require Catty.pm called at /usr/local/share/perl5/Module/Runtime.pm line 317
	Module::Runtime::require_module('Catty') called at /usr/local/share/perl5/Class/Load.pm line 177
	Class::Load::try {...} () called at /usr/local/share/perl5/Try/Tiny.pm line 76
	eval {...} called at /usr/local/share/perl5/Try/Tiny.pm line 72
	Try::Tiny::try('CODE(0x293b998)', 'Try::Tiny::Catch=REF(0x2948e60)') called at /usr/local/share/perl5/Class/Load.pm line 183
	Class::Load::try_load_class('Catty', undef) called at /usr/local/share/perl5/Class/Load.pm line 38
	Class::Load::load_class('Catty') called at lib/Test/WWW/Mechanize/Catalyst.pm line 245
	Test::WWW::Mechanize::Catalyst::import('Test::WWW::Mechanize::Catalyst', 'Catty') called at t/decoded_content.t line 7
	main::BEGIN() called at t/lib/Catty.pm line 0
	eval {...} called at t/lib/Catty.pm line 0
Class::MOP::load_class is deprecated at /usr/local/lib64/perl5/Class/MOP.pm line 71.
	Class::MOP::load_class('Catalyst::DispatchType::Index') called at /usr/local/share/perl5/Catalyst/Dispatcher.pm line 663
	eval {...} called at /usr/local/share/perl5/Catalyst/Dispatcher.pm line 663
	Catalyst::Dispatcher::_load_dispatch_types('Catalyst::Dispatcher=HASH(0x323e010)', 'Index', 'Path') called at /usr/local/share/perl5/Catalyst/Dispatcher.pm line 603
	Catalyst::Dispatcher::setup_actions('Catalyst::Dispatcher=HASH(0x323e010)', 'Catty') called at /usr/local/share/perl5/Catalyst.pm line 2499
	Catalyst::setup_actions('Catty') called at /usr/local/share/perl5/Catalyst.pm line 1195
	Catalyst::setup('Catty') called at t/lib/Catty.pm line 14
	require Catty.pm called at /usr/local/share/perl5/Module/Runtime.pm line 317
	Module::Runtime::require_module('Catty') called at /usr/local/share/perl5/Class/Load.pm line 177
	Class::Load::try {...} () called at /usr/local/share/perl5/Try/Tiny.pm line 76
	eval {...} called at /usr/local/share/perl5/Try/Tiny.pm line 72
	Try::Tiny::try('CODE(0x293b998)', 'Try::Tiny::Catch=REF(0x2948e60)') called at /usr/local/share/perl5/Class/Load.pm line 183
	Class::Load::try_load_class('Catty', undef) called at /usr/local/share/perl5/Class/Load.pm line 38
	Class::Load::load_class('Catty') called at lib/Test/WWW/Mechanize/Catalyst.pm line 245
	Test::WWW::Mechanize::Catalyst::import('Test::WWW::Mechanize::Catalyst', 'Catty') called at t/decoded_content.t line 7
	main::BEGIN() called at t/lib/Catty.pm line 0
	eval {...} called at t/lib/Catty.pm line 0
Class::MOP::load_class is deprecated at /usr/local/lib64/perl5/Class/MOP.pm line 71.
	Class::MOP::load_class('Catalyst::Action') called at /usr/local/share/perl5/Catalyst/Controller.pm line 320
	Catalyst::Controller::action_class('Catty::Controller::Root=HASH(0x35305e0)', 'namespace', '', 'name', '_DISPATCH', 'class', 'Catty::Controller::Root', 'attributes', 'HASH(0x2e998a8)', ...) called at /usr/local/share/perl5/Catalyst/Controller.pm line 328
	Catalyst::Controller::create_action('Catty::Controller::Root=HASH(0x35305e0)', 'name', '_DISPATCH', 'code', 'CODE(0x2e607c0)', 'reverse', '_DISPATCH', 'namespace', '', ...) called at /usr/local/share/perl5/Catalyst/Controller.pm line 285
	Catalyst::Controller::register_action_methods('Catty::Controller::Root=HASH(0x35305e0)', 'Catty', 'Moose::Meta::Class::__ANON__::SERIAL::7=HASH(0x353de00)', 'Moose::Meta::Class::__ANON__::SERIAL::7=HASH(0x3531d30)', 'Moose::Meta::Class::__ANON__::SERIAL::7=HASH(0x35318b0)', 'Moose::Meta::Class::__ANON__::SERIAL::7=HASH(0x354c238)', 'Moose::Meta::Class::__ANON__::SERIAL::7=HASH(0x3531478)', 'Moose::Meta::Class::__ANON__::SERIAL::7=HASH(0x3564278)', 'Moose::Meta::Class::__ANON__::SERIAL::7=HASH(0x3564308)', ...) called at /usr/local/share/perl5/Catalyst/Controller.pm line 254
	Catalyst::Controller::register_actions('Catty::Controller::Root=HASH(0x35305e0)', 'Catty') called at /usr/local/share/perl5/Catalyst/Dispatcher.pm line 607
	Catalyst::Dispatcher::setup_actions('Catalyst::Dispatcher=HASH(0x323e010)', 'Catty') called at /usr/local/share/perl5/Catalyst.pm line 2499
	Catalyst::setup_actions('Catty') called at /usr/local/share/perl5/Catalyst.pm line 1195
	Catalyst::setup('Catty') called at t/lib/Catty.pm line 14
	require Catty.pm called at /usr/local/share/perl5/Module/Runtime.pm line 317
	Module::Runtime::require_module('Catty') called at /usr/local/share/perl5/Class/Load.pm line 177
	Class::Load::try {...} () called at /usr/local/share/perl5/Try/Tiny.pm line 76
	eval {...} called at /usr/local/share/perl5/Try/Tiny.pm line 72
	Try::Tiny::try('CODE(0x293b998)', 'Try::Tiny::Catch=REF(0x2948e60)') called at /usr/local/share/perl5/Class/Load.pm line 183
	Class::Load::try_load_class('Catty', undef) called at /usr/local/share/perl5/Class/Load.pm line 38
	Class::Load::load_class('Catty') called at lib/Test/WWW/Mechanize/Catalyst.pm line 245
	Test::WWW::Mechanize::Catalyst::import('Test::WWW::Mechanize::Catalyst', 'Catty') called at t/decoded_content.t line 7
	main::BEGIN() called at t/lib/Catty.pm line 0
	eval {...} called at t/lib/Catty.pm line 0
t/decoded_content.t ..... ok
# 
# ###################################################################
# Starting an external Catalyst HTTP server on port 7357
# To change the port, please set the TWMC_TEST_PORT env variable.
# (The server will be automatically shut-down right after the tests).
# ###################################################################
Class::MOP::load_class is deprecated at /usr/local/lib64/perl5/Class/MOP.pm line 71.
	Class::MOP::load_class('Catalyst::Plugin::Unicode::Encoding', undef) called at /usr/local/share/perl5/Catalyst.pm line 3017
	Catalyst::setup_plugins('ExternalCatty', undef) called at /usr/local/share/perl5/Catalyst.pm line 1110
	Catalyst::setup('ExternalCatty') called at t/lib/ExternalCatty.pm line 9
	require ExternalCatty.pm called at t/multi_content_type.t line 28
	main::BEGIN() called at t/lib/ExternalCatty.pm line 0
	eval {...} called at t/lib/ExternalCatty.pm line 0
	eval 'package main;

#line 28 t/multi_content_type.t
use ExternalCatty @{$args[0]};
1;

;' called at /usr/share/perl5/Test/More.pm line 992
	Test::More::_eval('package main;\x{a}\x{a}#line 28 t/multi_content_type.t\x{a}use ExternalCa...', 'ARRAY(0x189af88)') called at /usr/share/perl5/Test/More.pm line 967
	Test::More::use_ok('ExternalCatty') called at t/multi_content_type.t line 28
Class::MOP::is_class_loaded is deprecated at /usr/local/lib64/perl5/Class/MOP.pm line 89.
	Class::MOP::is_class_loaded('Catalyst::Stats') called at /usr/local/share/perl5/Catalyst/Utils.pm line 300
	Catalyst::Utils::ensure_class_loaded('Catalyst::Stats') called at /usr/local/share/perl5/Catalyst.pm line 2930
	Catalyst::setup_stats('ExternalCatty', undef) called at /usr/local/share/perl5/Catalyst.pm line 1116
	Catalyst::setup('ExternalCatty') called at t/lib/ExternalCatty.pm line 9
	require ExternalCatty.pm called at t/multi_content_type.t line 28
	main::BEGIN() called at t/lib/ExternalCatty.pm line 0
	eval {...} called at t/lib/ExternalCatty.pm line 0
	eval 'package main;

#line 28 t/multi_content_type.t
use ExternalCatty @{$args[0]};
1;

;' called at /usr/share/perl5/Test/More.pm line 992
	Test::More::_eval('package main;\x{a}\x{a}#line 28 t/multi_content_type.t\x{a}use ExternalCa...', 'ARRAY(0x189af88)') called at /usr/share/perl5/Test/More.pm line 967
	Test::More::use_ok('ExternalCatty') called at t/multi_content_type.t line 28
Class::MOP::is_class_loaded is deprecated at /usr/local/lib64/perl5/Class/MOP.pm line 89.
	Class::MOP::is_class_loaded('ExternalCatty') called at /usr/local/share/perl5/Catalyst/Component.pm line 94
	Catalyst::Component::BUILDARGS('ExternalCatty::Controller::Root', 'ExternalCatty', 'HASH(0x3ba1790)') called at /usr/local/lib64/perl5/Moose/Role.pm line 79
	Moose::Role::super() called at /usr/local/share/perl5/Catalyst/Component/ApplicationAttribute.pm line 14
	Catalyst::Component::ApplicationAttribute::__ANON__('ExternalCatty::Controller::Root', 'ExternalCatty', 'HASH(0x3ba1790)') called at /usr/local/lib64/perl5/Moose/Meta/Method/Overridden.pm line 40
	Catalyst::Controller::BUILDARGS('ExternalCatty::Controller::Root', 'ExternalCatty', 'HASH(0x3ba1790)') called at /usr/local/lib64/perl5/Moose/Object.pm line 24
	Moose::Object::new('ExternalCatty::Controller::Root', 'ExternalCatty', 'HASH(0x3ba1790)') called at constructor Catalyst::Controller::new (defined at /usr/local/share/perl5/Catalyst/Controller.pm line 566) line 4
	Catalyst::Controller::new('ExternalCatty::Controller::Root', 'ExternalCatty', 'HASH(0x3ba1790)') called at /usr/local/share/perl5/Catalyst/Component.pm line 121
	Catalyst::Component::COMPONENT('ExternalCatty::Controller::Root', 'ExternalCatty', 'HASH(0x3ba1790)') called at /usr/local/share/perl5/Catalyst.pm line 2612
	eval {...} called at /usr/local/share/perl5/Catalyst.pm line 2612
	Catalyst::setup_component('ExternalCatty', 'ExternalCatty::Controller::Root') called at /usr/local/share/perl5/Catalyst.pm line 2539
	Catalyst::setup_components('ExternalCatty') called at /usr/local/share/perl5/Catalyst.pm line 1177
	Catalyst::setup('ExternalCatty') called at t/lib/ExternalCatty.pm line 9
	require ExternalCatty.pm called at t/multi_content_type.t line 28
	main::BEGIN() called at t/lib/ExternalCatty.pm line 0
	eval {...} called at t/lib/ExternalCatty.pm line 0
	eval 'package main;

#line 28 t/multi_content_type.t
use ExternalCatty @{$args[0]};
1;

;' called at /usr/share/perl5/Test/More.pm line 992
	Test::More::_eval('package main;\x{a}\x{a}#line 28 t/multi_content_type.t\x{a}use ExternalCa...', 'ARRAY(0x189af88)') called at /usr/share/perl5/Test/More.pm line 967
	Test::More::use_ok('ExternalCatty') called at t/multi_content_type.t line 28
Class::MOP::load_class is deprecated at /usr/local/lib64/perl5/Class/MOP.pm line 71.
	Class::MOP::load_class('Catalyst::DispatchType::Index') called at /usr/local/share/perl5/Catalyst/Dispatcher.pm line 663
	eval {...} called at /usr/local/share/perl5/Catalyst/Dispatcher.pm line 663
	Catalyst::Dispatcher::_load_dispatch_types('Catalyst::Dispatcher=HASH(0x3a54de0)', 'Index', 'Path') called at /usr/local/share/perl5/Catalyst/Dispatcher.pm line 603
	Catalyst::Dispatcher::setup_actions('Catalyst::Dispatcher=HASH(0x3a54de0)', 'ExternalCatty') called at /usr/local/share/perl5/Catalyst.pm line 2499
	Catalyst::setup_actions('ExternalCatty') called at /usr/local/share/perl5/Catalyst.pm line 1195
	Catalyst::setup('ExternalCatty') called at t/lib/ExternalCatty.pm line 9
	require ExternalCatty.pm called at t/multi_content_type.t line 28
	main::BEGIN() called at t/lib/ExternalCatty.pm line 0
	eval {...} called at t/lib/ExternalCatty.pm line 0
	eval 'package main;

#line 28 t/multi_content_type.t
use ExternalCatty @{$args[0]};
1;

;' called at /usr/share/perl5/Test/More.pm line 992
	Test::More::_eval('package main;\x{a}\x{a}#line 28 t/multi_content_type.t\x{a}use ExternalCa...', 'ARRAY(0x189af88)') called at /usr/share/perl5/Test/More.pm line 967
	Test::More::use_ok('ExternalCatty') called at t/multi_content_type.t line 28
Class::MOP::load_class is deprecated at /usr/local/lib64/perl5/Class/MOP.pm line 71.
	Class::MOP::load_class('Catalyst::Action') called at /usr/local/share/perl5/Catalyst/Controller.pm line 320
	Catalyst::Controller::action_class('ExternalCatty', 'namespace', '', 'name', '_DISPATCH', 'class', 'ExternalCatty', 'attributes', 'HASH(0x36590f8)', ...) called at /usr/local/share/perl5/Catalyst/Controller.pm line 328
	Catalyst::Controller::create_action('ExternalCatty', 'name', '_DISPATCH', 'code', 'CODE(0x362bc30)', 'reverse', '_DISPATCH', 'namespace', '', ...) called at /usr/local/share/perl5/Catalyst/Controller.pm line 285
	Catalyst::Controller::register_action_methods('ExternalCatty', 'ExternalCatty', 'Moose::Meta::Class::__ANON__::SERIAL::7=HASH(0x3d26d40)', 'Moose::Meta::Class::__ANON__::SERIAL::7=HASH(0x3d3fac0)', 'Moose::Meta::Class::__ANON__::SERIAL::7=HASH(0x3d38458)', 'Moose::Meta::Class::__ANON__::SERIAL::7=HASH(0x3d2ad68)', 'Moose::Meta::Class::__ANON__::SERIAL::7=HASH(0x3d38020)') called at /usr/local/share/perl5/Catalyst/Controller.pm line 254
	Catalyst::Controller::register_actions('ExternalCatty', 'ExternalCatty') called at /usr/local/share/perl5/Catalyst/Dispatcher.pm line 607
	Catalyst::Dispatcher::setup_actions('Catalyst::Dispatcher=HASH(0x3a54de0)', 'ExternalCatty') called at /usr/local/share/perl5/Catalyst.pm line 2499
	Catalyst::setup_actions('ExternalCatty') called at /usr/local/share/perl5/Catalyst.pm line 1195
	Catalyst::setup('ExternalCatty') called at t/lib/ExternalCatty.pm line 9
	require ExternalCatty.pm called at t/multi_content_type.t line 28
	main::BEGIN() called at t/lib/ExternalCatty.pm line 0
	eval {...} called at t/lib/ExternalCatty.pm line 0
	eval 'package main;

#line 28 t/multi_content_type.t
use ExternalCatty @{$args[0]};
1;

;' called at /usr/share/perl5/Test/More.pm line 992
	Test::More::_eval('package main;\x{a}\x{a}#line 28 t/multi_content_type.t\x{a}use ExternalCa...', 'ARRAY(0x189af88)') called at /usr/share/perl5/Test/More.pm line 967
	Test::More::use_ok('ExternalCatty') called at t/multi_content_type.t line 28
Class::MOP::load_class is deprecated at /usr/local/lib64/perl5/Class/MOP.pm line 71.
	Class::MOP::load_class('MooseX::Role::Parameterized::Meta::Role::Parameterized') called at /usr/local/share/perl5/MooseX/Role/Parameterized/Meta/Role/Parameterizable.pm line 60
	MooseX::Role::Parameterized::Meta::Role::Parameterizable::generate_role('MooseX::Role::Parameterized::Meta::Role::Parameterizable=HASH...', 'consumer', 'Moose::Meta::Role=HASH(0x3fc8450)', 'parameters', 'HASH(0x4010cb0)') called at /usr/local/share/perl5/MooseX/Role/Parameterized/Meta/Role/Parameterizable.pm line 104
	MooseX::Role::Parameterized::Meta::Role::Parameterizable::apply('MooseX::Role::Parameterized::Meta::Role::Parameterizable=HASH...', 'Moose::Meta::Role=HASH(0x3fc8450)') called at /usr/local/lib64/perl5/Moose/Util.pm line 175
	Moose::Util::_apply_all_roles('Moose::Meta::Role=HASH(0x3fc8450)', undef, 'MooseX::Getopt::GLD') called at /usr/local/lib64/perl5/Moose/Util.pm line 117
	Moose::Util::apply_all_roles('Moose::Meta::Role=HASH(0x3fc8450)', 'MooseX::Getopt::GLD') called at /usr/local/lib64/perl5/Moose/Role.pm line 27
	Moose::Role::with('Moose::Meta::Role=HASH(0x3fc8450)', 'MooseX::Getopt::GLD') called at /usr/local/lib64/perl5/Moose/Exporter.pm line 405
	Moose::Role::with('MooseX::Getopt::GLD') called at /usr/local/share/perl5/MooseX/Getopt.pm line 14
	require MooseX/Getopt.pm called at /usr/local/share/perl5/Catalyst/ScriptRole.pm line 4
	Catalyst::ScriptRole::BEGIN() called at /usr/local/share/perl5/MooseX/Getopt.pm line 0
	eval {...} called at /usr/local/share/perl5/MooseX/Getopt.pm line 0
	require Catalyst/ScriptRole.pm called at /usr/local/share/perl5/Module/Runtime.pm line 317
	Module::Runtime::require_module('Catalyst::ScriptRole') called at /usr/local/share/perl5/Module/Runtime.pm line 348
	Module::Runtime::use_module('Catalyst::ScriptRole') called at /usr/local/lib64/perl5/Moose/Util.pm line 150
	Moose::Util::_apply_all_roles('Moose::Meta::Class=HASH(0x3d85e38)', undef, 'Catalyst::ScriptRole') called at /usr/local/lib64/perl5/Moose/Util.pm line 117
	Moose::Util::apply_all_roles('Moose::Meta::Class=HASH(0x3d85e38)', 'Catalyst::ScriptRole') called at /usr/local/lib64/perl5/Moose.pm line 60
	Moose::with('Moose::Meta::Class=HASH(0x3d85e38)', 'Catalyst::ScriptRole') called at /usr/local/lib64/perl5/Moose/Exporter.pm line 405
	Moose::with('Catalyst::ScriptRole') called at /usr/local/share/perl5/Catalyst/Script/Server.pm line 7
	require Catalyst/Script/Server.pm called at /usr/local/share/perl5/Module/Runtime.pm line 317
	Module::Runtime::require_module('Catalyst::Script::Server') called at /usr/local/share/perl5/Class/Load.pm line 177
	Class::Load::try {...} () called at /usr/local/share/perl5/Try/Tiny.pm line 76
	eval {...} called at /usr/local/share/perl5/Try/Tiny.pm line 72
	Try::Tiny::try('CODE(0x3d85580)', 'Try::Tiny::Catch=REF(0x3d856b8)') called at /usr/local/share/perl5/Class/Load.pm line 183
	Class::Load::try_load_class('Catalyst::Script::Server', undef) called at /usr/local/share/perl5/Class/Load.pm line 59
	Class::Load::load_first_existing_class('ExternalCatty::Script::Server', 'Catalyst::Script::Server') called at /usr/local/share/perl5/Catalyst/ScriptRunner.pm line 13
	Catalyst::ScriptRunner::find_script_class('Catalyst::ScriptRunner', 'ExternalCatty', 'Server') called at /usr/local/share/perl5/Catalyst/ScriptRunner.pm line 42
	Catalyst::ScriptRunner::run('Catalyst::ScriptRunner', 'ExternalCatty', 'Server') called at t/lib/ExternalCatty.pm line 28
	ExternalCatty::background('ExternalCatty', 7357) called at t/multi_content_type.t line 30
Duplicate specification "host|h=s" for option "h"
Class::MOP::load_class is deprecated at /usr/local/lib64/perl5/Class/MOP.pm line 71.
	Class::MOP::load_class('ExternalCatty') called at /usr/local/share/perl5/Catalyst/ScriptRole.pm line 90
	Catalyst::ScriptRole::_run_application('Catalyst::Script::Server=HASH(0x42b7f78)') called at /usr/local/share/perl5/Catalyst/Script/Server.pm line 240
	Catalyst::Script::Server::run('Catalyst::Script::Server=HASH(0x42b7f78)') called at /usr/local/share/perl5/Catalyst/ScriptRunner.pm line 50
	Catalyst::ScriptRunner::run('Catalyst::ScriptRunner', 'ExternalCatty', 'Server') called at t/lib/ExternalCatty.pm line 28
	ExternalCatty::background('ExternalCatty', 7357) called at t/multi_content_type.t line 30
HTTP::Server::PSGI: Accepting connections at http://0:7357/
t/multi_content_type.t .. ok
t/pod.t ................. ok
Class::MOP::load_class is deprecated at /usr/local/lib64/perl5/Class/MOP.pm line 71.
	Class::MOP::load_class('Catalyst::Plugin::Unicode::Encoding', undef) called at /usr/local/share/perl5/Catalyst.pm line 3017
	Catalyst::setup_plugins('Catty', undef) called at /usr/local/share/perl5/Catalyst.pm line 1110
	Catalyst::setup('Catty') called at t/lib/Catty.pm line 14
	require Catty.pm called at /usr/local/share/perl5/Module/Runtime.pm line 317
	Module::Runtime::require_module('Catty') called at /usr/local/share/perl5/Class/Load.pm line 177
	Class::Load::try {...} () called at /usr/local/share/perl5/Try/Tiny.pm line 76
	eval {...} called at /usr/local/share/perl5/Try/Tiny.pm line 72
	Try::Tiny::try('CODE(0x20d0f20)', 'Try::Tiny::Catch=REF(0x20e13a8)') called at /usr/local/share/perl5/Class/Load.pm line 183
	Class::Load::try_load_class('Catty', undef) called at /usr/local/share/perl5/Class/Load.pm line 38
	Class::Load::load_class('Catty') called at lib/Test/WWW/Mechanize/Catalyst.pm line 245
	Test::WWW::Mechanize::Catalyst::import('Test::WWW::Mechanize::Catalyst', 'Catty') called at t/redirect.t line 7
	main::BEGIN() called at t/lib/Catty.pm line 0
	eval {...} called at t/lib/Catty.pm line 0
Class::MOP::is_class_loaded is deprecated at /usr/local/lib64/perl5/Class/MOP.pm line 89.
	Class::MOP::is_class_loaded('Catalyst::Stats') called at /usr/local/share/perl5/Catalyst/Utils.pm line 300
	Catalyst::Utils::ensure_class_loaded('Catalyst::Stats') called at /usr/local/share/perl5/Catalyst.pm line 2930
	Catalyst::setup_stats('Catty', undef) called at /usr/local/share/perl5/Catalyst.pm line 1116
	Catalyst::setup('Catty') called at t/lib/Catty.pm line 14
	require Catty.pm called at /usr/local/share/perl5/Module/Runtime.pm line 317
	Module::Runtime::require_module('Catty') called at /usr/local/share/perl5/Class/Load.pm line 177
	Class::Load::try {...} () called at /usr/local/share/perl5/Try/Tiny.pm line 76
	eval {...} called at /usr/local/share/perl5/Try/Tiny.pm line 72
	Try::Tiny::try('CODE(0x20d0f20)', 'Try::Tiny::Catch=REF(0x20e13a8)') called at /usr/local/share/perl5/Class/Load.pm line 183
	Class::Load::try_load_class('Catty', undef) called at /usr/local/share/perl5/Class/Load.pm line 38
	Class::Load::load_class('Catty') called at lib/Test/WWW/Mechanize/Catalyst.pm line 245
	Test::WWW::Mechanize::Catalyst::import('Test::WWW::Mechanize::Catalyst', 'Catty') called at t/redirect.t line 7
	main::BEGIN() called at t/lib/Catty.pm line 0
	eval {...} called at t/lib/Catty.pm line 0
Class::MOP::is_class_loaded is deprecated at /usr/local/lib64/perl5/Class/MOP.pm line 89.
	Class::MOP::is_class_loaded('Catty') called at /usr/local/share/perl5/Catalyst/Component.pm line 94
	Catalyst::Component::BUILDARGS('Catty::Controller::Root', 'Catty', 'HASH(0x2cbde18)') called at /usr/local/lib64/perl5/Moose/Role.pm line 79
	Moose::Role::super() called at /usr/local/share/perl5/Catalyst/Component/ApplicationAttribute.pm line 14
	Catalyst::Component::ApplicationAttribute::__ANON__('Catty::Controller::Root', 'Catty', 'HASH(0x2cbde18)') called at /usr/local/lib64/perl5/Moose/Meta/Method/Overridden.pm line 40
	Catalyst::Controller::BUILDARGS('Catty::Controller::Root', 'Catty', 'HASH(0x2cbde18)') called at /usr/local/lib64/perl5/Moose/Object.pm line 24
	Moose::Object::new('Catty::Controller::Root', 'Catty', 'HASH(0x2cbde18)') called at constructor Catalyst::Controller::new (defined at /usr/local/share/perl5/Catalyst/Controller.pm line 566) line 4
	Catalyst::Controller::new('Catty::Controller::Root', 'Catty', 'HASH(0x2cbde18)') called at /usr/local/share/perl5/Catalyst/Component.pm line 121
	Catalyst::Component::COMPONENT('Catty::Controller::Root', 'Catty', 'HASH(0x2cbde18)') called at /usr/local/share/perl5/Catalyst.pm line 2612
	eval {...} called at /usr/local/share/perl5/Catalyst.pm line 2612
	Catalyst::setup_component('Catty', 'Catty::Controller::Root') called at /usr/local/share/perl5/Catalyst.pm line 2539
	Catalyst::setup_components('Catty') called at /usr/local/share/perl5/Catalyst.pm line 1177
	Catalyst::setup('Catty') called at t/lib/Catty.pm line 14
	require Catty.pm called at /usr/local/share/perl5/Module/Runtime.pm line 317
	Module::Runtime::require_module('Catty') called at /usr/local/share/perl5/Class/Load.pm line 177
	Class::Load::try {...} () called at /usr/local/share/perl5/Try/Tiny.pm line 76
	eval {...} called at /usr/local/share/perl5/Try/Tiny.pm line 72
	Try::Tiny::try('CODE(0x20d0f20)', 'Try::Tiny::Catch=REF(0x20e13a8)') called at /usr/local/share/perl5/Class/Load.pm line 183
	Class::Load::try_load_class('Catty', undef) called at /usr/local/share/perl5/Class/Load.pm line 38
	Class::Load::load_class('Catty') called at lib/Test/WWW/Mechanize/Catalyst.pm line 245
	Test::WWW::Mechanize::Catalyst::import('Test::WWW::Mechanize::Catalyst', 'Catty') called at t/redirect.t line 7
	main::BEGIN() called at t/lib/Catty.pm line 0
	eval {...} called at t/lib/Catty.pm line 0
Class::MOP::load_class is deprecated at /usr/local/lib64/perl5/Class/MOP.pm line 71.
	Class::MOP::load_class('Catalyst::DispatchType::Index') called at /usr/local/share/perl5/Catalyst/Dispatcher.pm line 663
	eval {...} called at /usr/local/share/perl5/Catalyst/Dispatcher.pm line 663
	Catalyst::Dispatcher::_load_dispatch_types('Catalyst::Dispatcher=HASH(0x29d5320)', 'Index', 'Path') called at /usr/local/share/perl5/Catalyst/Dispatcher.pm line 603
	Catalyst::Dispatcher::setup_actions('Catalyst::Dispatcher=HASH(0x29d5320)', 'Catty') called at /usr/local/share/perl5/Catalyst.pm line 2499
	Catalyst::setup_actions('Catty') called at /usr/local/share/perl5/Catalyst.pm line 1195
	Catalyst::setup('Catty') called at t/lib/Catty.pm line 14
	require Catty.pm called at /usr/local/share/perl5/Module/Runtime.pm line 317
	Module::Runtime::require_module('Catty') called at /usr/local/share/perl5/Class/Load.pm line 177
	Class::Load::try {...} () called at /usr/local/share/perl5/Try/Tiny.pm line 76
	eval {...} called at /usr/local/share/perl5/Try/Tiny.pm line 72
	Try::Tiny::try('CODE(0x20d0f20)', 'Try::Tiny::Catch=REF(0x20e13a8)') called at /usr/local/share/perl5/Class/Load.pm line 183
	Class::Load::try_load_class('Catty', undef) called at /usr/local/share/perl5/Class/Load.pm line 38
	Class::Load::load_class('Catty') called at lib/Test/WWW/Mechanize/Catalyst.pm line 245
	Test::WWW::Mechanize::Catalyst::import('Test::WWW::Mechanize::Catalyst', 'Catty') called at t/redirect.t line 7
	main::BEGIN() called at t/lib/Catty.pm line 0
	eval {...} called at t/lib/Catty.pm line 0
Class::MOP::load_class is deprecated at /usr/local/lib64/perl5/Class/MOP.pm line 71.
	Class::MOP::load_class('Catalyst::Action') called at /usr/local/share/perl5/Catalyst/Controller.pm line 320
	Catalyst::Controller::action_class('Catty::Controller::Root=HASH(0x2cc6318)', 'namespace', '', 'name', '_DISPATCH', 'class', 'Catty::Controller::Root', 'attributes', 'HASH(0x2625e30)', ...) called at /usr/local/share/perl5/Catalyst/Controller.pm line 328
	Catalyst::Controller::create_action('Catty::Controller::Root=HASH(0x2cc6318)', 'name', '_DISPATCH', 'code', 'CODE(0x25f5ed0)', 'reverse', '_DISPATCH', 'namespace', '', ...) called at /usr/local/share/perl5/Catalyst/Controller.pm line 285
	Catalyst::Controller::register_action_methods('Catty::Controller::Root=HASH(0x2cc6318)', 'Catty', 'Moose::Meta::Class::__ANON__::SERIAL::7=HASH(0x2cd45b8)', 'Moose::Meta::Class::__ANON__::SERIAL::7=HASH(0x2cc82e8)', 'Moose::Meta::Class::__ANON__::SERIAL::7=HASH(0x2cc7e68)', 'Moose::Meta::Class::__ANON__::SERIAL::7=HASH(0x2ce17a0)', 'Moose::Meta::Class::__ANON__::SERIAL::7=HASH(0x2cc7a30)', 'Moose::Meta::Class::__ANON__::SERIAL::7=HASH(0x2cf9750)', 'Moose::Meta::Class::__ANON__::SERIAL::7=HASH(0x2cf97e0)', ...) called at /usr/local/share/perl5/Catalyst/Controller.pm line 254
	Catalyst::Controller::register_actions('Catty::Controller::Root=HASH(0x2cc6318)', 'Catty') called at /usr/local/share/perl5/Catalyst/Dispatcher.pm line 607
	Catalyst::Dispatcher::setup_actions('Catalyst::Dispatcher=HASH(0x29d5320)', 'Catty') called at /usr/local/share/perl5/Catalyst.pm line 2499
	Catalyst::setup_actions('Catty') called at /usr/local/share/perl5/Catalyst.pm line 1195
	Catalyst::setup('Catty') called at t/lib/Catty.pm line 14
	require Catty.pm called at /usr/local/share/perl5/Module/Runtime.pm line 317
	Module::Runtime::require_module('Catty') called at /usr/local/share/perl5/Class/Load.pm line 177
	Class::Load::try {...} () called at /usr/local/share/perl5/Try/Tiny.pm line 76
	eval {...} called at /usr/local/share/perl5/Try/Tiny.pm line 72
	Try::Tiny::try('CODE(0x20d0f20)', 'Try::Tiny::Catch=REF(0x20e13a8)') called at /usr/local/share/perl5/Class/Load.pm line 183
	Class::Load::try_load_class('Catty', undef) called at /usr/local/share/perl5/Class/Load.pm line 38
	Class::Load::load_class('Catty') called at lib/Test/WWW/Mechanize/Catalyst.pm line 245
	Test::WWW::Mechanize::Catalyst::import('Test::WWW::Mechanize::Catalyst', 'Catty') called at t/redirect.t line 7
	main::BEGIN() called at t/lib/Catty.pm line 0
	eval {...} called at t/lib/Catty.pm line 0
t/redirect.t ............ ok
Class::MOP::load_class is deprecated at /usr/local/lib64/perl5/Class/MOP.pm line 71.
	Class::MOP::load_class('Catalyst::Plugin::Unicode::Encoding', undef) called at /usr/local/share/perl5/Catalyst.pm line 3017
	Catalyst::setup_plugins('Catty', undef) called at /usr/local/share/perl5/Catalyst.pm line 1110
	Catalyst::setup('Catty') called at t/lib/Catty.pm line 14
	require Catty.pm called at /usr/local/share/perl5/Module/Runtime.pm line 317
	Module::Runtime::require_module('Catty') called at /usr/local/share/perl5/Class/Load.pm line 177
	Class::Load::try {...} () called at /usr/local/share/perl5/Try/Tiny.pm line 76
	eval {...} called at /usr/local/share/perl5/Try/Tiny.pm line 72
	Try::Tiny::try('CODE(0x27a91c8)', 'Try::Tiny::Catch=REF(0x27b6bb0)') called at /usr/local/share/perl5/Class/Load.pm line 183
	Class::Load::try_load_class('Catty', undef) called at /usr/local/share/perl5/Class/Load.pm line 38
	Class::Load::load_class('Catty') called at /home/ambs/.cpan/build/Test-WWW-Mechanize-Catalyst-0.59-McFaUr/blib/lib/Test/WWW/Mechanize/Catalyst.pm line 245
	Test::WWW::Mechanize::Catalyst::import('Test::WWW::Mechanize::Catalyst', 'Catty') called at t/simple.t line 12
	main::BEGIN() called at t/lib/Catty.pm line 0
	eval {...} called at t/lib/Catty.pm line 0
Class::MOP::is_class_loaded is deprecated at /usr/local/lib64/perl5/Class/MOP.pm line 89.
	Class::MOP::is_class_loaded('Catalyst::Stats') called at /usr/local/share/perl5/Catalyst/Utils.pm line 300
	Catalyst::Utils::ensure_class_loaded('Catalyst::Stats') called at /usr/local/share/perl5/Catalyst.pm line 2930
	Catalyst::setup_stats('Catty', undef) called at /usr/local/share/perl5/Catalyst.pm line 1116
	Catalyst::setup('Catty') called at t/lib/Catty.pm line 14
	require Catty.pm called at /usr/local/share/perl5/Module/Runtime.pm line 317
	Module::Runtime::require_module('Catty') called at /usr/local/share/perl5/Class/Load.pm line 177
	Class::Load::try {...} () called at /usr/local/share/perl5/Try/Tiny.pm line 76
	eval {...} called at /usr/local/share/perl5/Try/Tiny.pm line 72
	Try::Tiny::try('CODE(0x27a91c8)', 'Try::Tiny::Catch=REF(0x27b6bb0)') called at /usr/local/share/perl5/Class/Load.pm line 183
	Class::Load::try_load_class('Catty', undef) called at /usr/local/share/perl5/Class/Load.pm line 38
	Class::Load::load_class('Catty') called at /home/ambs/.cpan/build/Test-WWW-Mechanize-Catalyst-0.59-McFaUr/blib/lib/Test/WWW/Mechanize/Catalyst.pm line 245
	Test::WWW::Mechanize::Catalyst::import('Test::WWW::Mechanize::Catalyst', 'Catty') called at t/simple.t line 12
	main::BEGIN() called at t/lib/Catty.pm line 0
	eval {...} called at t/lib/Catty.pm line 0
Class::MOP::is_class_loaded is deprecated at /usr/local/lib64/perl5/Class/MOP.pm line 89.
	Class::MOP::is_class_loaded('Catty') called at /usr/local/share/perl5/Catalyst/Component.pm line 94
	Catalyst::Component::BUILDARGS('Catty::Controller::Root', 'Catty', 'HASH(0x339d6f0)') called at /usr/local/lib64/perl5/Moose/Role.pm line 79
	Moose::Role::super() called at /usr/local/share/perl5/Catalyst/Component/ApplicationAttribute.pm line 14
	Catalyst::Component::ApplicationAttribute::__ANON__('Catty::Controller::Root', 'Catty', 'HASH(0x339d6f0)') called at /usr/local/lib64/perl5/Moose/Meta/Method/Overridden.pm line 40
	Catalyst::Controller::BUILDARGS('Catty::Controller::Root', 'Catty', 'HASH(0x339d6f0)') called at /usr/local/lib64/perl5/Moose/Object.pm line 24
	Moose::Object::new('Catty::Controller::Root', 'Catty', 'HASH(0x339d6f0)') called at constructor Catalyst::Controller::new (defined at /usr/local/share/perl5/Catalyst/Controller.pm line 566) line 4
	Catalyst::Controller::new('Catty::Controller::Root', 'Catty', 'HASH(0x339d6f0)') called at /usr/local/share/perl5/Catalyst/Component.pm line 121
	Catalyst::Component::COMPONENT('Catty::Controller::Root', 'Catty', 'HASH(0x339d6f0)') called at /usr/local/share/perl5/Catalyst.pm line 2612
	eval {...} called at /usr/local/share/perl5/Catalyst.pm line 2612
	Catalyst::setup_component('Catty', 'Catty::Controller::Root') called at /usr/local/share/perl5/Catalyst.pm line 2539
	Catalyst::setup_components('Catty') called at /usr/local/share/perl5/Catalyst.pm line 1177
	Catalyst::setup('Catty') called at t/lib/Catty.pm line 14
	require Catty.pm called at /usr/local/share/perl5/Module/Runtime.pm line 317
	Module::Runtime::require_module('Catty') called at /usr/local/share/perl5/Class/Load.pm line 177
	Class::Load::try {...} () called at /usr/local/share/perl5/Try/Tiny.pm line 76
	eval {...} called at /usr/local/share/perl5/Try/Tiny.pm line 72
	Try::Tiny::try('CODE(0x27a91c8)', 'Try::Tiny::Catch=REF(0x27b6bb0)') called at /usr/local/share/perl5/Class/Load.pm line 183
	Class::Load::try_load_class('Catty', undef) called at /usr/local/share/perl5/Class/Load.pm line 38
	Class::Load::load_class('Catty') called at /home/ambs/.cpan/build/Test-WWW-Mechanize-Catalyst-0.59-McFaUr/blib/lib/Test/WWW/Mechanize/Catalyst.pm line 245
	Test::WWW::Mechanize::Catalyst::import('Test::WWW::Mechanize::Catalyst', 'Catty') called at t/simple.t line 12
	main::BEGIN() called at t/lib/Catty.pm line 0
	eval {...} called at t/lib/Catty.pm line 0
Class::MOP::load_class is deprecated at /usr/local/lib64/perl5/Class/MOP.pm line 71.
	Class::MOP::load_class('Catalyst::DispatchType::Index') called at /usr/local/share/perl5/Catalyst/Dispatcher.pm line 663
	eval {...} called at /usr/local/share/perl5/Catalyst/Dispatcher.pm line 663
	Catalyst::Dispatcher::_load_dispatch_types('Catalyst::Dispatcher=HASH(0x30ac0b0)', 'Index', 'Path') called at /usr/local/share/perl5/Catalyst/Dispatcher.pm line 603
	Catalyst::Dispatcher::setup_actions('Catalyst::Dispatcher=HASH(0x30ac0b0)', 'Catty') called at /usr/local/share/perl5/Catalyst.pm line 2499
	Catalyst::setup_actions('Catty') called at /usr/local/share/perl5/Catalyst.pm line 1195
	Catalyst::setup('Catty') called at t/lib/Catty.pm line 14
	require Catty.pm called at /usr/local/share/perl5/Module/Runtime.pm line 317
	Module::Runtime::require_module('Catty') called at /usr/local/share/perl5/Class/Load.pm line 177
	Class::Load::try {...} () called at /usr/local/share/perl5/Try/Tiny.pm line 76
	eval {...} called at /usr/local/share/perl5/Try/Tiny.pm line 72
	Try::Tiny::try('CODE(0x27a91c8)', 'Try::Tiny::Catch=REF(0x27b6bb0)') called at /usr/local/share/perl5/Class/Load.pm line 183
	Class::Load::try_load_class('Catty', undef) called at /usr/local/share/perl5/Class/Load.pm line 38
	Class::Load::load_class('Catty') called at /home/ambs/.cpan/build/Test-WWW-Mechanize-Catalyst-0.59-McFaUr/blib/lib/Test/WWW/Mechanize/Catalyst.pm line 245
	Test::WWW::Mechanize::Catalyst::import('Test::WWW::Mechanize::Catalyst', 'Catty') called at t/simple.t line 12
	main::BEGIN() called at t/lib/Catty.pm line 0
	eval {...} called at t/lib/Catty.pm line 0
Class::MOP::load_class is deprecated at /usr/local/lib64/perl5/Class/MOP.pm line 71.
	Class::MOP::load_class('Catalyst::Action') called at /usr/local/share/perl5/Catalyst/Controller.pm line 320
	Catalyst::Controller::action_class('Catty::Controller::Root=HASH(0x339db28)', 'namespace', '', 'name', '_DISPATCH', 'class', 'Catty::Controller::Root', 'attributes', 'HASH(0x2d07bc8)', ...) called at /usr/local/share/perl5/Catalyst/Controller.pm line 328
	Catalyst::Controller::create_action('Catty::Controller::Root=HASH(0x339db28)', 'name', '_DISPATCH', 'code', 'CODE(0x2cce800)', 'reverse', '_DISPATCH', 'namespace', '', ...) called at /usr/local/share/perl5/Catalyst/Controller.pm line 285
	Catalyst::Controller::register_action_methods('Catty::Controller::Root=HASH(0x339db28)', 'Catty', 'Moose::Meta::Class::__ANON__::SERIAL::7=HASH(0x33abf08)', 'Moose::Meta::Class::__ANON__::SERIAL::7=HASH(0x33cda98)', 'Moose::Meta::Class::__ANON__::SERIAL::7=HASH(0x33cd618)', 'Moose::Meta::Class::__ANON__::SERIAL::7=HASH(0x33c1108)', 'Moose::Meta::Class::__ANON__::SERIAL::7=HASH(0x33cd1e0)', 'Moose::Meta::Class::__ANON__::SERIAL::7=HASH(0x33d2280)', 'Moose::Meta::Class::__ANON__::SERIAL::7=HASH(0x33d2310)', ...) called at /usr/local/share/perl5/Catalyst/Controller.pm line 254
	Catalyst::Controller::register_actions('Catty::Controller::Root=HASH(0x339db28)', 'Catty') called at /usr/local/share/perl5/Catalyst/Dispatcher.pm line 607
	Catalyst::Dispatcher::setup_actions('Catalyst::Dispatcher=HASH(0x30ac0b0)', 'Catty') called at /usr/local/share/perl5/Catalyst.pm line 2499
	Catalyst::setup_actions('Catty') called at /usr/local/share/perl5/Catalyst.pm line 1195
	Catalyst::setup('Catty') called at t/lib/Catty.pm line 14
	require Catty.pm called at /usr/local/share/perl5/Module/Runtime.pm line 317
	Module::Runtime::require_module('Catty') called at /usr/local/share/perl5/Class/Load.pm line 177
	Class::Load::try {...} () called at /usr/local/share/perl5/Try/Tiny.pm line 76
	eval {...} called at /usr/local/share/perl5/Try/Tiny.pm line 72
	Try::Tiny::try('CODE(0x27a91c8)', 'Try::Tiny::Catch=REF(0x27b6bb0)') called at /usr/local/share/perl5/Class/Load.pm line 183
	Class::Load::try_load_class('Catty', undef) called at /usr/local/share/perl5/Class/Load.pm line 38
	Class::Load::load_class('Catty') called at /home/ambs/.cpan/build/Test-WWW-Mechanize-Catalyst-0.59-McFaUr/blib/lib/Test/WWW/Mechanize/Catalyst.pm line 245
	Test::WWW::Mechanize::Catalyst::import('Test::WWW::Mechanize::Catalyst', 'Catty') called at t/simple.t line 12
	main::BEGIN() called at t/lib/Catty.pm line 0
	eval {...} called at t/lib/Catty.pm line 0
t/simple.t .............. ok
Class::MOP::load_class is deprecated at /usr/local/lib64/perl5/Class/MOP.pm line 71.
	Class::MOP::load_class('Catalyst::Plugin::Unicode::Encoding', undef) called at /usr/local/share/perl5/Catalyst.pm line 3017
	Catalyst::setup_plugins('Catty', undef) called at /usr/local/share/perl5/Catalyst.pm line 1110
	Catalyst::setup('Catty') called at t/lib/Catty.pm line 14
	require Catty.pm called at /usr/local/share/perl5/Module/Runtime.pm line 317
	Module::Runtime::require_module('Catty') called at /usr/local/share/perl5/Class/Load.pm line 177
	Class::Load::try {...} () called at /usr/local/share/perl5/Try/Tiny.pm line 76
	eval {...} called at /usr/local/share/perl5/Try/Tiny.pm line 72
	Try::Tiny::try('CODE(0x28756c8)', 'Try::Tiny::Catch=REF(0x28848d0)') called at /usr/local/share/perl5/Class/Load.pm line 183
	Class::Load::try_load_class('Catty', undef) called at /usr/local/share/perl5/Class/Load.pm line 38
	Class::Load::load_class('Catty') called at /home/ambs/.cpan/build/Test-WWW-Mechanize-Catalyst-0.59-McFaUr/blib/lib/Test/WWW/Mechanize/Catalyst.pm line 70
	Test::WWW::Mechanize::Catalyst::BUILD('Test::WWW::Mechanize::Catalyst=HASH(0x2883f58)', 'HASH(0x287b2a0)') called at /usr/local/lib64/perl5/Class/MOP/Method.pm line 126
	Class::MOP::Method::execute('Moose::Meta::Method=HASH(0x2929ea8)', 'Test::WWW::Mechanize::Catalyst=HASH(0x2883f58)', 'HASH(0x287b2a0)') called at /usr/local/lib64/perl5/Moose/Object.pm line 55
	Moose::Object::BUILDALL('Test::WWW::Mechanize::Catalyst=HASH(0x2883f58)', 'HASH(0x287b2a0)') called at /usr/local/lib64/perl5/Moose/Meta/Class.pm line 281
	Moose::Meta::Class::new_object('Moose::Meta::Class=HASH(0x1d9ce18)', '__INSTANCE__', 'Test::WWW::Mechanize::Catalyst=HASH(0x2883f58)', 'catalyst_app', 'Catty') called at /home/ambs/.cpan/build/Test-WWW-Mechanize-Catalyst-0.59-McFaUr/blib/lib/Test/WWW/Mechanize/Catalyst.pm line 52
	Test::WWW::Mechanize::Catalyst::new('Test::WWW::Mechanize::Catalyst', 'catalyst_app', 'Catty') called at t/two_app.t line 24
Class::MOP::is_class_loaded is deprecated at /usr/local/lib64/perl5/Class/MOP.pm line 89.
	Class::MOP::is_class_loaded('Catalyst::Stats') called at /usr/local/share/perl5/Catalyst/Utils.pm line 300
	Catalyst::Utils::ensure_class_loaded('Catalyst::Stats') called at /usr/local/share/perl5/Catalyst.pm line 2930
	Catalyst::setup_stats('Catty', undef) called at /usr/local/share/perl5/Catalyst.pm line 1116
	Catalyst::setup('Catty') called at t/lib/Catty.pm line 14
	require Catty.pm called at /usr/local/share/perl5/Module/Runtime.pm line 317
	Module::Runtime::require_module('Catty') called at /usr/local/share/perl5/Class/Load.pm line 177
	Class::Load::try {...} () called at /usr/local/share/perl5/Try/Tiny.pm line 76
	eval {...} called at /usr/local/share/perl5/Try/Tiny.pm line 72
	Try::Tiny::try('CODE(0x28756c8)', 'Try::Tiny::Catch=REF(0x28848d0)') called at /usr/local/share/perl5/Class/Load.pm line 183
	Class::Load::try_load_class('Catty', undef) called at /usr/local/share/perl5/Class/Load.pm line 38
	Class::Load::load_class('Catty') called at /home/ambs/.cpan/build/Test-WWW-Mechanize-Catalyst-0.59-McFaUr/blib/lib/Test/WWW/Mechanize/Catalyst.pm line 70
	Test::WWW::Mechanize::Catalyst::BUILD('Test::WWW::Mechanize::Catalyst=HASH(0x2883f58)', 'HASH(0x287b2a0)') called at /usr/local/lib64/perl5/Class/MOP/Method.pm line 126
	Class::MOP::Method::execute('Moose::Meta::Method=HASH(0x2929ea8)', 'Test::WWW::Mechanize::Catalyst=HASH(0x2883f58)', 'HASH(0x287b2a0)') called at /usr/local/lib64/perl5/Moose/Object.pm line 55
	Moose::Object::BUILDALL('Test::WWW::Mechanize::Catalyst=HASH(0x2883f58)', 'HASH(0x287b2a0)') called at /usr/local/lib64/perl5/Moose/Meta/Class.pm line 281
	Moose::Meta::Class::new_object('Moose::Meta::Class=HASH(0x1d9ce18)', '__INSTANCE__', 'Test::WWW::Mechanize::Catalyst=HASH(0x2883f58)', 'catalyst_app', 'Catty') called at /home/ambs/.cpan/build/Test-WWW-Mechanize-Catalyst-0.59-McFaUr/blib/lib/Test/WWW/Mechanize/Catalyst.pm line 52
	Test::WWW::Mechanize::Catalyst::new('Test::WWW::Mechanize::Catalyst', 'catalyst_app', 'Catty') called at t/two_app.t line 24
Class::MOP::is_class_loaded is deprecated at /usr/local/lib64/perl5/Class/MOP.pm line 89.
	Class::MOP::is_class_loaded('Catty') called at /usr/local/share/perl5/Catalyst/Component.pm line 94
	Catalyst::Component::BUILDARGS('Catty::Controller::Root', 'Catty', 'HASH(0x34c2210)') called at /usr/local/lib64/perl5/Moose/Role.pm line 79
	Moose::Role::super() called at /usr/local/share/perl5/Catalyst/Component/ApplicationAttribute.pm line 14
	Catalyst::Component::ApplicationAttribute::__ANON__('Catty::Controller::Root', 'Catty', 'HASH(0x34c2210)') called at /usr/local/lib64/perl5/Moose/Meta/Method/Overridden.pm line 40
	Catalyst::Controller::BUILDARGS('Catty::Controller::Root', 'Catty', 'HASH(0x34c2210)') called at /usr/local/lib64/perl5/Moose/Object.pm line 24
	Moose::Object::new('Catty::Controller::Root', 'Catty', 'HASH(0x34c2210)') called at constructor Catalyst::Controller::new (defined at /usr/local/share/perl5/Catalyst/Controller.pm line 566) line 4
	Catalyst::Controller::new('Catty::Controller::Root', 'Catty', 'HASH(0x34c2210)') called at /usr/local/share/perl5/Catalyst/Component.pm line 121
	Catalyst::Component::COMPONENT('Catty::Controller::Root', 'Catty', 'HASH(0x34c2210)') called at /usr/local/share/perl5/Catalyst.pm line 2612
	eval {...} called at /usr/local/share/perl5/Catalyst.pm line 2612
	Catalyst::setup_component('Catty', 'Catty::Controller::Root') called at /usr/local/share/perl5/Catalyst.pm line 2539
	Catalyst::setup_components('Catty') called at /usr/local/share/perl5/Catalyst.pm line 1177
	Catalyst::setup('Catty') called at t/lib/Catty.pm line 14
	require Catty.pm called at /usr/local/share/perl5/Module/Runtime.pm line 317
	Module::Runtime::require_module('Catty') called at /usr/local/share/perl5/Class/Load.pm line 177
	Class::Load::try {...} () called at /usr/local/share/perl5/Try/Tiny.pm line 76
	eval {...} called at /usr/local/share/perl5/Try/Tiny.pm line 72
	Try::Tiny::try('CODE(0x28756c8)', 'Try::Tiny::Catch=REF(0x28848d0)') called at /usr/local/share/perl5/Class/Load.pm line 183
	Class::Load::try_load_class('Catty', undef) called at /usr/local/share/perl5/Class/Load.pm line 38
	Class::Load::load_class('Catty') called at /home/ambs/.cpan/build/Test-WWW-Mechanize-Catalyst-0.59-McFaUr/blib/lib/Test/WWW/Mechanize/Catalyst.pm line 70
	Test::WWW::Mechanize::Catalyst::BUILD('Test::WWW::Mechanize::Catalyst=HASH(0x2883f58)', 'HASH(0x287b2a0)') called at /usr/local/lib64/perl5/Class/MOP/Method.pm line 126
	Class::MOP::Method::execute('Moose::Meta::Method=HASH(0x2929ea8)', 'Test::WWW::Mechanize::Catalyst=HASH(0x2883f58)', 'HASH(0x287b2a0)') called at /usr/local/lib64/perl5/Moose/Object.pm line 55
	Moose::Object::BUILDALL('Test::WWW::Mechanize::Catalyst=HASH(0x2883f58)', 'HASH(0x287b2a0)') called at /usr/local/lib64/perl5/Moose/Meta/Class.pm line 281
	Moose::Meta::Class::new_object('Moose::Meta::Class=HASH(0x1d9ce18)', '__INSTANCE__', 'Test::WWW::Mechanize::Catalyst=HASH(0x2883f58)', 'catalyst_app', 'Catty') called at /home/ambs/.cpan/build/Test-WWW-Mechanize-Catalyst-0.59-McFaUr/blib/lib/Test/WWW/Mechanize/Catalyst.pm line 52
	Test::WWW::Mechanize::Catalyst::new('Test::WWW::Mechanize::Catalyst', 'catalyst_app', 'Catty') called at t/two_app.t line 24
Class::MOP::load_class is deprecated at /usr/local/lib64/perl5/Class/MOP.pm line 71.
	Class::MOP::load_class('Catalyst::DispatchType::Index') called at /usr/local/share/perl5/Catalyst/Dispatcher.pm line 663
	eval {...} called at /usr/local/share/perl5/Catalyst/Dispatcher.pm line 663
	Catalyst::Dispatcher::_load_dispatch_types('Catalyst::Dispatcher=HASH(0x31fbc30)', 'Index', 'Path') called at /usr/local/share/perl5/Catalyst/Dispatcher.pm line 603
	Catalyst::Dispatcher::setup_actions('Catalyst::Dispatcher=HASH(0x31fbc30)', 'Catty') called at /usr/local/share/perl5/Catalyst.pm line 2499
	Catalyst::setup_actions('Catty') called at /usr/local/share/perl5/Catalyst.pm line 1195
	Catalyst::setup('Catty') called at t/lib/Catty.pm line 14
	require Catty.pm called at /usr/local/share/perl5/Module/Runtime.pm line 317
	Module::Runtime::require_module('Catty') called at /usr/local/share/perl5/Class/Load.pm line 177
	Class::Load::try {...} () called at /usr/local/share/perl5/Try/Tiny.pm line 76
	eval {...} called at /usr/local/share/perl5/Try/Tiny.pm line 72
	Try::Tiny::try('CODE(0x28756c8)', 'Try::Tiny::Catch=REF(0x28848d0)') called at /usr/local/share/perl5/Class/Load.pm line 183
	Class::Load::try_load_class('Catty', undef) called at /usr/local/share/perl5/Class/Load.pm line 38
	Class::Load::load_class('Catty') called at /home/ambs/.cpan/build/Test-WWW-Mechanize-Catalyst-0.59-McFaUr/blib/lib/Test/WWW/Mechanize/Catalyst.pm line 70
	Test::WWW::Mechanize::Catalyst::BUILD('Test::WWW::Mechanize::Catalyst=HASH(0x2883f58)', 'HASH(0x287b2a0)') called at /usr/local/lib64/perl5/Class/MOP/Method.pm line 126
	Class::MOP::Method::execute('Moose::Meta::Method=HASH(0x2929ea8)', 'Test::WWW::Mechanize::Catalyst=HASH(0x2883f58)', 'HASH(0x287b2a0)') called at /usr/local/lib64/perl5/Moose/Object.pm line 55
	Moose::Object::BUILDALL('Test::WWW::Mechanize::Catalyst=HASH(0x2883f58)', 'HASH(0x287b2a0)') called at /usr/local/lib64/perl5/Moose/Meta/Class.pm line 281
	Moose::Meta::Class::new_object('Moose::Meta::Class=HASH(0x1d9ce18)', '__INSTANCE__', 'Test::WWW::Mechanize::Catalyst=HASH(0x2883f58)', 'catalyst_app', 'Catty') called at /home/ambs/.cpan/build/Test-WWW-Mechanize-Catalyst-0.59-McFaUr/blib/lib/Test/WWW/Mechanize/Catalyst.pm line 52
	Test::WWW::Mechanize::Catalyst::new('Test::WWW::Mechanize::Catalyst', 'catalyst_app', 'Catty') called at t/two_app.t line 24
Class::MOP::load_class is deprecated at /usr/local/lib64/perl5/Class/MOP.pm line 71.
	Class::MOP::load_class('Catalyst::Action') called at /usr/local/share/perl5/Catalyst/Controller.pm line 320
	Catalyst::Controller::action_class('Catty::Controller::Root=HASH(0x34c8f70)', 'namespace', '', 'name', '_DISPATCH', 'class', 'Catty::Controller::Root', 'attributes', 'HASH(0x2e3b9a8)', ...) called at /usr/local/share/perl5/Catalyst/Controller.pm line 328
	Catalyst::Controller::create_action('Catty::Controller::Root=HASH(0x34c8f70)', 'name', '_DISPATCH', 'code', 'CODE(0x2e0af18)', 'reverse', '_DISPATCH', 'namespace', '', ...) called at /usr/local/share/perl5/Catalyst/Controller.pm line 285
	Catalyst::Controller::register_action_methods('Catty::Controller::Root=HASH(0x34c8f70)', 'Catty', 'Moose::Meta::Class::__ANON__::SERIAL::8=HASH(0x34d6828)', 'Moose::Meta::Class::__ANON__::SERIAL::8=HASH(0x34ef028)', 'Moose::Meta::Class::__ANON__::SERIAL::8=HASH(0x34eeba8)', 'Moose::Meta::Class::__ANON__::SERIAL::8=HASH(0x34e48a0)', 'Moose::Meta::Class::__ANON__::SERIAL::8=HASH(0x34ee770)', 'Moose::Meta::Class::__ANON__::SERIAL::8=HASH(0x34fba10)', 'Moose::Meta::Class::__ANON__::SERIAL::8=HASH(0x34fbaa0)', ...) called at /usr/local/share/perl5/Catalyst/Controller.pm line 254
	Catalyst::Controller::register_actions('Catty::Controller::Root=HASH(0x34c8f70)', 'Catty') called at /usr/local/share/perl5/Catalyst/Dispatcher.pm line 607
	Catalyst::Dispatcher::setup_actions('Catalyst::Dispatcher=HASH(0x31fbc30)', 'Catty') called at /usr/local/share/perl5/Catalyst.pm line 2499
	Catalyst::setup_actions('Catty') called at /usr/local/share/perl5/Catalyst.pm line 1195
	Catalyst::setup('Catty') called at t/lib/Catty.pm line 14
	require Catty.pm called at /usr/local/share/perl5/Module/Runtime.pm line 317
	Module::Runtime::require_module('Catty') called at /usr/local/share/perl5/Class/Load.pm line 177
	Class::Load::try {...} () called at /usr/local/share/perl5/Try/Tiny.pm line 76
	eval {...} called at /usr/local/share/perl5/Try/Tiny.pm line 72
	Try::Tiny::try('CODE(0x28756c8)', 'Try::Tiny::Catch=REF(0x28848d0)') called at /usr/local/share/perl5/Class/Load.pm line 183
	Class::Load::try_load_class('Catty', undef) called at /usr/local/share/perl5/Class/Load.pm line 38
	Class::Load::load_class('Catty') called at /home/ambs/.cpan/build/Test-WWW-Mechanize-Catalyst-0.59-McFaUr/blib/lib/Test/WWW/Mechanize/Catalyst.pm line 70
	Test::WWW::Mechanize::Catalyst::BUILD('Test::WWW::Mechanize::Catalyst=HASH(0x2883f58)', 'HASH(0x287b2a0)') called at /usr/local/lib64/perl5/Class/MOP/Method.pm line 126
	Class::MOP::Method::execute('Moose::Meta::Method=HASH(0x2929ea8)', 'Test::WWW::Mechanize::Catalyst=HASH(0x2883f58)', 'HASH(0x287b2a0)') called at /usr/local/lib64/perl5/Moose/Object.pm line 55
	Moose::Object::BUILDALL('Test::WWW::Mechanize::Catalyst=HASH(0x2883f58)', 'HASH(0x287b2a0)') called at /usr/local/lib64/perl5/Moose/Meta/Class.pm line 281
	Moose::Meta::Class::new_object('Moose::Meta::Class=HASH(0x1d9ce18)', '__INSTANCE__', 'Test::WWW::Mechanize::Catalyst=HASH(0x2883f58)', 'catalyst_app', 'Catty') called at /home/ambs/.cpan/build/Test-WWW-Mechanize-Catalyst-0.59-McFaUr/blib/lib/Test/WWW/Mechanize/Catalyst.pm line 52
	Test::WWW::Mechanize::Catalyst::new('Test::WWW::Mechanize::Catalyst', 'catalyst_app', 'Catty') called at t/two_app.t line 24
t/two_app.t ............. ok
Class::MOP::load_class is deprecated at /usr/local/lib64/perl5/Class/MOP.pm line 71.
	Class::MOP::load_class('Catalyst::Plugin::Unicode::Encoding', undef) called at /usr/local/share/perl5/Catalyst.pm line 3017
	Catalyst::setup_plugins('Catty', undef) called at /usr/local/share/perl5/Catalyst.pm line 1110
	Catalyst::setup('Catty') called at t/lib/Catty.pm line 14
	require Catty.pm called at /usr/local/share/perl5/Module/Runtime.pm line 317
	Module::Runtime::require_module('Catty') called at /usr/local/share/perl5/Class/Load.pm line 177
	Class::Load::try {...} () called at /usr/local/share/perl5/Try/Tiny.pm line 76
	eval {...} called at /usr/local/share/perl5/Try/Tiny.pm line 72
	Try::Tiny::try('CODE(0x22aadf0)', 'Try::Tiny::Catch=REF(0x22b82b8)') called at /usr/local/share/perl5/Class/Load.pm line 183
	Class::Load::try_load_class('Catty', undef) called at /usr/local/share/perl5/Class/Load.pm line 38
	Class::Load::load_class('Catty') called at lib/Test/WWW/Mechanize/Catalyst.pm line 245
	Test::WWW::Mechanize::Catalyst::import('Test::WWW::Mechanize::Catalyst', 'Catty') called at t/useragent.t line 8
	main::BEGIN() called at t/lib/Catty.pm line 0
	eval {...} called at t/lib/Catty.pm line 0
Class::MOP::is_class_loaded is deprecated at /usr/local/lib64/perl5/Class/MOP.pm line 89.
	Class::MOP::is_class_loaded('Catalyst::Stats') called at /usr/local/share/perl5/Catalyst/Utils.pm line 300
	Catalyst::Utils::ensure_class_loaded('Catalyst::Stats') called at /usr/local/share/perl5/Catalyst.pm line 2930
	Catalyst::setup_stats('Catty', undef) called at /usr/local/share/perl5/Catalyst.pm line 1116
	Catalyst::setup('Catty') called at t/lib/Catty.pm line 14
	require Catty.pm called at /usr/local/share/perl5/Module/Runtime.pm line 317
	Module::Runtime::require_module('Catty') called at /usr/local/share/perl5/Class/Load.pm line 177
	Class::Load::try {...} () called at /usr/local/share/perl5/Try/Tiny.pm line 76
	eval {...} called at /usr/local/share/perl5/Try/Tiny.pm line 72
	Try::Tiny::try('CODE(0x22aadf0)', 'Try::Tiny::Catch=REF(0x22b82b8)') called at /usr/local/share/perl5/Class/Load.pm line 183
	Class::Load::try_load_class('Catty', undef) called at /usr/local/share/perl5/Class/Load.pm line 38
	Class::Load::load_class('Catty') called at lib/Test/WWW/Mechanize/Catalyst.pm line 245
	Test::WWW::Mechanize::Catalyst::import('Test::WWW::Mechanize::Catalyst', 'Catty') called at t/useragent.t line 8
	main::BEGIN() called at t/lib/Catty.pm line 0
	eval {...} called at t/lib/Catty.pm line 0
Class::MOP::is_class_loaded is deprecated at /usr/local/lib64/perl5/Class/MOP.pm line 89.
	Class::MOP::is_class_loaded('Catty') called at /usr/local/share/perl5/Catalyst/Component.pm line 94
	Catalyst::Component::BUILDARGS('Catty::Controller::Root', 'Catty', 'HASH(0x2e97718)') called at /usr/local/lib64/perl5/Moose/Role.pm line 79
	Moose::Role::super() called at /usr/local/share/perl5/Catalyst/Component/ApplicationAttribute.pm line 14
	Catalyst::Component::ApplicationAttribute::__ANON__('Catty::Controller::Root', 'Catty', 'HASH(0x2e97718)') called at /usr/local/lib64/perl5/Moose/Meta/Method/Overridden.pm line 40
	Catalyst::Controller::BUILDARGS('Catty::Controller::Root', 'Catty', 'HASH(0x2e97718)') called at /usr/local/lib64/perl5/Moose/Object.pm line 24
	Moose::Object::new('Catty::Controller::Root', 'Catty', 'HASH(0x2e97718)') called at constructor Catalyst::Controller::new (defined at /usr/local/share/perl5/Catalyst/Controller.pm line 566) line 4
	Catalyst::Controller::new('Catty::Controller::Root', 'Catty', 'HASH(0x2e97718)') called at /usr/local/share/perl5/Catalyst/Component.pm line 121
	Catalyst::Component::COMPONENT('Catty::Controller::Root', 'Catty', 'HASH(0x2e97718)') called at /usr/local/share/perl5/Catalyst.pm line 2612
	eval {...} called at /usr/local/share/perl5/Catalyst.pm line 2612
	Catalyst::setup_component('Catty', 'Catty::Controller::Root') called at /usr/local/share/perl5/Catalyst.pm line 2539
	Catalyst::setup_components('Catty') called at /usr/local/share/perl5/Catalyst.pm line 1177
	Catalyst::setup('Catty') called at t/lib/Catty.pm line 14
	require Catty.pm called at /usr/local/share/perl5/Module/Runtime.pm line 317
	Module::Runtime::require_module('Catty') called at /usr/local/share/perl5/Class/Load.pm line 177
	Class::Load::try {...} () called at /usr/local/share/perl5/Try/Tiny.pm line 76
	eval {...} called at /usr/local/share/perl5/Try/Tiny.pm line 72
	Try::Tiny::try('CODE(0x22aadf0)', 'Try::Tiny::Catch=REF(0x22b82b8)') called at /usr/local/share/perl5/Class/Load.pm line 183
	Class::Load::try_load_class('Catty', undef) called at /usr/local/share/perl5/Class/Load.pm line 38
	Class::Load::load_class('Catty') called at lib/Test/WWW/Mechanize/Catalyst.pm line 245
	Test::WWW::Mechanize::Catalyst::import('Test::WWW::Mechanize::Catalyst', 'Catty') called at t/useragent.t line 8
	main::BEGIN() called at t/lib/Catty.pm line 0
	eval {...} called at t/lib/Catty.pm line 0
Class::MOP::load_class is deprecated at /usr/local/lib64/perl5/Class/MOP.pm line 71.
	Class::MOP::load_class('Catalyst::DispatchType::Index') called at /usr/local/share/perl5/Catalyst/Dispatcher.pm line 663
	eval {...} called at /usr/local/share/perl5/Catalyst/Dispatcher.pm line 663
	Catalyst::Dispatcher::_load_dispatch_types('Catalyst::Dispatcher=HASH(0x2bacf58)', 'Index', 'Path') called at /usr/local/share/perl5/Catalyst/Dispatcher.pm line 603
	Catalyst::Dispatcher::setup_actions('Catalyst::Dispatcher=HASH(0x2bacf58)', 'Catty') called at /usr/local/share/perl5/Catalyst.pm line 2499
	Catalyst::setup_actions('Catty') called at /usr/local/share/perl5/Catalyst.pm line 1195
	Catalyst::setup('Catty') called at t/lib/Catty.pm line 14
	require Catty.pm called at /usr/local/share/perl5/Module/Runtime.pm line 317
	Module::Runtime::require_module('Catty') called at /usr/local/share/perl5/Class/Load.pm line 177
	Class::Load::try {...} () called at /usr/local/share/perl5/Try/Tiny.pm line 76
	eval {...} called at /usr/local/share/perl5/Try/Tiny.pm line 72
	Try::Tiny::try('CODE(0x22aadf0)', 'Try::Tiny::Catch=REF(0x22b82b8)') called at /usr/local/share/perl5/Class/Load.pm line 183
	Class::Load::try_load_class('Catty', undef) called at /usr/local/share/perl5/Class/Load.pm line 38
	Class::Load::load_class('Catty') called at lib/Test/WWW/Mechanize/Catalyst.pm line 245
	Test::WWW::Mechanize::Catalyst::import('Test::WWW::Mechanize::Catalyst', 'Catty') called at t/useragent.t line 8
	main::BEGIN() called at t/lib/Catty.pm line 0
	eval {...} called at t/lib/Catty.pm line 0
Class::MOP::load_class is deprecated at /usr/local/lib64/perl5/Class/MOP.pm line 71.
	Class::MOP::load_class('Catalyst::Action') called at /usr/local/share/perl5/Catalyst/Controller.pm line 320
	Catalyst::Controller::action_class('Catty::Controller::Root=HASH(0x2e9f498)', 'namespace', '', 'name', '_DISPATCH', 'class', 'Catty::Controller::Root', 'attributes', 'HASH(0x28086a0)', ...) called at /usr/local/share/perl5/Catalyst/Controller.pm line 328
	Catalyst::Controller::create_action('Catty::Controller::Root=HASH(0x2e9f498)', 'name', '_DISPATCH', 'code', 'CODE(0x27cfa28)', 'reverse', '_DISPATCH', 'namespace', '', ...) called at /usr/local/share/perl5/Catalyst/Controller.pm line 285
	Catalyst::Controller::register_action_methods('Catty::Controller::Root=HASH(0x2e9f498)', 'Catty', 'Moose::Meta::Class::__ANON__::SERIAL::7=HASH(0x2eacdf8)', 'Moose::Meta::Class::__ANON__::SERIAL::7=HASH(0x2ea0cd8)', 'Moose::Meta::Class::__ANON__::SERIAL::7=HASH(0x2ea0858)', 'Moose::Meta::Class::__ANON__::SERIAL::7=HASH(0x2ebb010)', 'Moose::Meta::Class::__ANON__::SERIAL::7=HASH(0x2ea0420)', 'Moose::Meta::Class::__ANON__::SERIAL::7=HASH(0x2ed3080)', 'Moose::Meta::Class::__ANON__::SERIAL::7=HASH(0x2ed3110)', ...) called at /usr/local/share/perl5/Catalyst/Controller.pm line 254
	Catalyst::Controller::register_actions('Catty::Controller::Root=HASH(0x2e9f498)', 'Catty') called at /usr/local/share/perl5/Catalyst/Dispatcher.pm line 607
	Catalyst::Dispatcher::setup_actions('Catalyst::Dispatcher=HASH(0x2bacf58)', 'Catty') called at /usr/local/share/perl5/Catalyst.pm line 2499
	Catalyst::setup_actions('Catty') called at /usr/local/share/perl5/Catalyst.pm line 1195
	Catalyst::setup('Catty') called at t/lib/Catty.pm line 14
	require Catty.pm called at /usr/local/share/perl5/Module/Runtime.pm line 317
	Module::Runtime::require_module('Catty') called at /usr/local/share/perl5/Class/Load.pm line 177
	Class::Load::try {...} () called at /usr/local/share/perl5/Try/Tiny.pm line 76
	eval {...} called at /usr/local/share/perl5/Try/Tiny.pm line 72
	Try::Tiny::try('CODE(0x22aadf0)', 'Try::Tiny::Catch=REF(0x22b82b8)') called at /usr/local/share/perl5/Class/Load.pm line 183
	Class::Load::try_load_class('Catty', undef) called at /usr/local/share/perl5/Class/Load.pm line 38
	Class::Load::load_class('Catty') called at lib/Test/WWW/Mechanize/Catalyst.pm line 245
	Test::WWW::Mechanize::Catalyst::import('Test::WWW::Mechanize::Catalyst', 'Catty') called at t/useragent.t line 8
	main::BEGIN() called at t/lib/Catty.pm line 0
	eval {...} called at t/lib/Catty.pm line 0
t/useragent.t ........... ok
Class::MOP::load_class is deprecated at /usr/local/lib64/perl5/Class/MOP.pm line 71.
	Class::MOP::load_class('Catalyst::Plugin::Unicode::Encoding', undef) called at /usr/local/share/perl5/Catalyst.pm line 3017
	Catalyst::setup_plugins('Catty', undef) called at /usr/local/share/perl5/Catalyst.pm line 1110
	Catalyst::setup('Catty') called at t/lib/Catty.pm line 14
	require Catty.pm called at /usr/local/share/perl5/Module/Runtime.pm line 317
	Module::Runtime::require_module('Catty') called at /usr/local/share/perl5/Class/Load.pm line 177
	Class::Load::try {...} () called at /usr/local/share/perl5/Try/Tiny.pm line 76
	eval {...} called at /usr/local/share/perl5/Try/Tiny.pm line 72
	Try::Tiny::try('CODE(0x2d19590)', 'Try::Tiny::Catch=REF(0x2d2a058)') called at /usr/local/share/perl5/Class/Load.pm line 183
	Class::Load::try_load_class('Catty', undef) called at /usr/local/share/perl5/Class/Load.pm line 38
	Class::Load::load_class('Catty') called at /home/ambs/.cpan/build/Test-WWW-Mechanize-Catalyst-0.59-McFaUr/blib/lib/Test/WWW/Mechanize/Catalyst.pm line 70
	Test::WWW::Mechanize::Catalyst::BUILD('Test::WWW::Mechanize::Catalyst=HASH(0x2d29710)', 'HASH(0x2d1da10)') called at /usr/local/lib64/perl5/Class/MOP/Method.pm line 126
	Class::MOP::Method::execute('Moose::Meta::Method=HASH(0x2dc52a8)', 'Test::WWW::Mechanize::Catalyst=HASH(0x2d29710)', 'HASH(0x2d1da10)') called at /usr/local/lib64/perl5/Moose/Object.pm line 55
	Moose::Object::BUILDALL('Test::WWW::Mechanize::Catalyst=HASH(0x2d29710)', 'HASH(0x2d1da10)') called at /usr/local/lib64/perl5/Moose/Meta/Class.pm line 281
	Moose::Meta::Class::new_object('Moose::Meta::Class=HASH(0x1f56688)', '__INSTANCE__', 'Test::WWW::Mechanize::Catalyst=HASH(0x2d29710)', 'catalyst_app', 'Catty') called at /home/ambs/.cpan/build/Test-WWW-Mechanize-Catalyst-0.59-McFaUr/blib/lib/Test/WWW/Mechanize/Catalyst.pm line 52
	Test::WWW::Mechanize::Catalyst::new('Test::WWW::Mechanize::Catalyst', 'catalyst_app', 'Catty') called at t/white_label.t line 8
Class::MOP::is_class_loaded is deprecated at /usr/local/lib64/perl5/Class/MOP.pm line 89.
	Class::MOP::is_class_loaded('Catalyst::Stats') called at /usr/local/share/perl5/Catalyst/Utils.pm line 300
	Catalyst::Utils::ensure_class_loaded('Catalyst::Stats') called at /usr/local/share/perl5/Catalyst.pm line 2930
	Catalyst::setup_stats('Catty', undef) called at /usr/local/share/perl5/Catalyst.pm line 1116
	Catalyst::setup('Catty') called at t/lib/Catty.pm line 14
	require Catty.pm called at /usr/local/share/perl5/Module/Runtime.pm line 317
	Module::Runtime::require_module('Catty') called at /usr/local/share/perl5/Class/Load.pm line 177
	Class::Load::try {...} () called at /usr/local/share/perl5/Try/Tiny.pm line 76
	eval {...} called at /usr/local/share/perl5/Try/Tiny.pm line 72
	Try::Tiny::try('CODE(0x2d19590)', 'Try::Tiny::Catch=REF(0x2d2a058)') called at /usr/local/share/perl5/Class/Load.pm line 183
	Class::Load::try_load_class('Catty', undef) called at /usr/local/share/perl5/Class/Load.pm line 38
	Class::Load::load_class('Catty') called at /home/ambs/.cpan/build/Test-WWW-Mechanize-Catalyst-0.59-McFaUr/blib/lib/Test/WWW/Mechanize/Catalyst.pm line 70
	Test::WWW::Mechanize::Catalyst::BUILD('Test::WWW::Mechanize::Catalyst=HASH(0x2d29710)', 'HASH(0x2d1da10)') called at /usr/local/lib64/perl5/Class/MOP/Method.pm line 126
	Class::MOP::Method::execute('Moose::Meta::Method=HASH(0x2dc52a8)', 'Test::WWW::Mechanize::Catalyst=HASH(0x2d29710)', 'HASH(0x2d1da10)') called at /usr/local/lib64/perl5/Moose/Object.pm line 55
	Moose::Object::BUILDALL('Test::WWW::Mechanize::Catalyst=HASH(0x2d29710)', 'HASH(0x2d1da10)') called at /usr/local/lib64/perl5/Moose/Meta/Class.pm line 281
	Moose::Meta::Class::new_object('Moose::Meta::Class=HASH(0x1f56688)', '__INSTANCE__', 'Test::WWW::Mechanize::Catalyst=HASH(0x2d29710)', 'catalyst_app', 'Catty') called at /home/ambs/.cpan/build/Test-WWW-Mechanize-Catalyst-0.59-McFaUr/blib/lib/Test/WWW/Mechanize/Catalyst.pm line 52
	Test::WWW::Mechanize::Catalyst::new('Test::WWW::Mechanize::Catalyst', 'catalyst_app', 'Catty') called at t/white_label.t line 8
Class::MOP::is_class_loaded is deprecated at /usr/local/lib64/perl5/Class/MOP.pm line 89.
	Class::MOP::is_class_loaded('Catty') called at /usr/local/share/perl5/Catalyst/Component.pm line 94
	Catalyst::Component::BUILDARGS('Catty::Controller::Root', 'Catty', 'HASH(0x39aff90)') called at /usr/local/lib64/perl5/Moose/Role.pm line 79
	Moose::Role::super() called at /usr/local/share/perl5/Catalyst/Component/ApplicationAttribute.pm line 14
	Catalyst::Component::ApplicationAttribute::__ANON__('Catty::Controller::Root', 'Catty', 'HASH(0x39aff90)') called at /usr/local/lib64/perl5/Moose/Meta/Method/Overridden.pm line 40
	Catalyst::Controller::BUILDARGS('Catty::Controller::Root', 'Catty', 'HASH(0x39aff90)') called at /usr/local/lib64/perl5/Moose/Object.pm line 24
	Moose::Object::new('Catty::Controller::Root', 'Catty', 'HASH(0x39aff90)') called at constructor Catalyst::Controller::new (defined at /usr/local/share/perl5/Catalyst/Controller.pm line 566) line 4
	Catalyst::Controller::new('Catty::Controller::Root', 'Catty', 'HASH(0x39aff90)') called at /usr/local/share/perl5/Catalyst/Component.pm line 121
	Catalyst::Component::COMPONENT('Catty::Controller::Root', 'Catty', 'HASH(0x39aff90)') called at /usr/local/share/perl5/Catalyst.pm line 2612
	eval {...} called at /usr/local/share/perl5/Catalyst.pm line 2612
	Catalyst::setup_component('Catty', 'Catty::Controller::Root') called at /usr/local/share/perl5/Catalyst.pm line 2539
	Catalyst::setup_components('Catty') called at /usr/local/share/perl5/Catalyst.pm line 1177
	Catalyst::setup('Catty') called at t/lib/Catty.pm line 14
	require Catty.pm called at /usr/local/share/perl5/Module/Runtime.pm line 317
	Module::Runtime::require_module('Catty') called at /usr/local/share/perl5/Class/Load.pm line 177
	Class::Load::try {...} () called at /usr/local/share/perl5/Try/Tiny.pm line 76
	eval {...} called at /usr/local/share/perl5/Try/Tiny.pm line 72
	Try::Tiny::try('CODE(0x2d19590)', 'Try::Tiny::Catch=REF(0x2d2a058)') called at /usr/local/share/perl5/Class/Load.pm line 183
	Class::Load::try_load_class('Catty', undef) called at /usr/local/share/perl5/Class/Load.pm line 38
	Class::Load::load_class('Catty') called at /home/ambs/.cpan/build/Test-WWW-Mechanize-Catalyst-0.59-McFaUr/blib/lib/Test/WWW/Mechanize/Catalyst.pm line 70
	Test::WWW::Mechanize::Catalyst::BUILD('Test::WWW::Mechanize::Catalyst=HASH(0x2d29710)', 'HASH(0x2d1da10)') called at /usr/local/lib64/perl5/Class/MOP/Method.pm line 126
	Class::MOP::Method::execute('Moose::Meta::Method=HASH(0x2dc52a8)', 'Test::WWW::Mechanize::Catalyst=HASH(0x2d29710)', 'HASH(0x2d1da10)') called at /usr/local/lib64/perl5/Moose/Object.pm line 55
	Moose::Object::BUILDALL('Test::WWW::Mechanize::Catalyst=HASH(0x2d29710)', 'HASH(0x2d1da10)') called at /usr/local/lib64/perl5/Moose/Meta/Class.pm line 281
	Moose::Meta::Class::new_object('Moose::Meta::Class=HASH(0x1f56688)', '__INSTANCE__', 'Test::WWW::Mechanize::Catalyst=HASH(0x2d29710)', 'catalyst_app', 'Catty') called at /home/ambs/.cpan/build/Test-WWW-Mechanize-Catalyst-0.59-McFaUr/blib/lib/Test/WWW/Mechanize/Catalyst.pm line 52
	Test::WWW::Mechanize::Catalyst::new('Test::WWW::Mechanize::Catalyst', 'catalyst_app', 'Catty') called at t/white_label.t line 8
Class::MOP::load_class is deprecated at /usr/local/lib64/perl5/Class/MOP.pm line 71.
	Class::MOP::load_class('Catalyst::DispatchType::Index') called at /usr/local/share/perl5/Catalyst/Dispatcher.pm line 663
	eval {...} called at /usr/local/share/perl5/Catalyst/Dispatcher.pm line 663
	Catalyst::Dispatcher::_load_dispatch_types('Catalyst::Dispatcher=HASH(0x36d4798)', 'Index', 'Path') called at /usr/local/share/perl5/Catalyst/Dispatcher.pm line 603
	Catalyst::Dispatcher::setup_actions('Catalyst::Dispatcher=HASH(0x36d4798)', 'Catty') called at /usr/local/share/perl5/Catalyst.pm line 2499
	Catalyst::setup_actions('Catty') called at /usr/local/share/perl5/Catalyst.pm line 1195
	Catalyst::setup('Catty') called at t/lib/Catty.pm line 14
	require Catty.pm called at /usr/local/share/perl5/Module/Runtime.pm line 317
	Module::Runtime::require_module('Catty') called at /usr/local/share/perl5/Class/Load.pm line 177
	Class::Load::try {...} () called at /usr/local/share/perl5/Try/Tiny.pm line 76
	eval {...} called at /usr/local/share/perl5/Try/Tiny.pm line 72
	Try::Tiny::try('CODE(0x2d19590)', 'Try::Tiny::Catch=REF(0x2d2a058)') called at /usr/local/share/perl5/Class/Load.pm line 183
	Class::Load::try_load_class('Catty', undef) called at /usr/local/share/perl5/Class/Load.pm line 38
	Class::Load::load_class('Catty') called at /home/ambs/.cpan/build/Test-WWW-Mechanize-Catalyst-0.59-McFaUr/blib/lib/Test/WWW/Mechanize/Catalyst.pm line 70
	Test::WWW::Mechanize::Catalyst::BUILD('Test::WWW::Mechanize::Catalyst=HASH(0x2d29710)', 'HASH(0x2d1da10)') called at /usr/local/lib64/perl5/Class/MOP/Method.pm line 126
	Class::MOP::Method::execute('Moose::Meta::Method=HASH(0x2dc52a8)', 'Test::WWW::Mechanize::Catalyst=HASH(0x2d29710)', 'HASH(0x2d1da10)') called at /usr/local/lib64/perl5/Moose/Object.pm line 55
	Moose::Object::BUILDALL('Test::WWW::Mechanize::Catalyst=HASH(0x2d29710)', 'HASH(0x2d1da10)') called at /usr/local/lib64/perl5/Moose/Meta/Class.pm line 281
	Moose::Meta::Class::new_object('Moose::Meta::Class=HASH(0x1f56688)', '__INSTANCE__', 'Test::WWW::Mechanize::Catalyst=HASH(0x2d29710)', 'catalyst_app', 'Catty') called at /home/ambs/.cpan/build/Test-WWW-Mechanize-Catalyst-0.59-McFaUr/blib/lib/Test/WWW/Mechanize/Catalyst.pm line 52
	Test::WWW::Mechanize::Catalyst::new('Test::WWW::Mechanize::Catalyst', 'catalyst_app', 'Catty') called at t/white_label.t line 8
Class::MOP::load_class is deprecated at /usr/local/lib64/perl5/Class/MOP.pm line 71.
	Class::MOP::load_class('Catalyst::Action') called at /usr/local/share/perl5/Catalyst/Controller.pm line 320
	Catalyst::Controller::action_class('Catty::Controller::Root=HASH(0x39b03c8)', 'namespace', '', 'name', '_DISPATCH', 'class', 'Catty::Controller::Root', 'attributes', 'HASH(0x3319400)', ...) called at /usr/local/share/perl5/Catalyst/Controller.pm line 328
	Catalyst::Controller::create_action('Catty::Controller::Root=HASH(0x39b03c8)', 'name', '_DISPATCH', 'code', 'CODE(0x32e0878)', 'reverse', '_DISPATCH', 'namespace', '', ...) called at /usr/local/share/perl5/Catalyst/Controller.pm line 285
	Catalyst::Controller::register_action_methods('Catty::Controller::Root=HASH(0x39b03c8)', 'Catty', 'Moose::Meta::Class::__ANON__::SERIAL::7=HASH(0x39ca948)', 'Moose::Meta::Class::__ANON__::SERIAL::7=HASH(0x39e3558)', 'Moose::Meta::Class::__ANON__::SERIAL::7=HASH(0x39dd450)', 'Moose::Meta::Class::__ANON__::SERIAL::7=HASH(0x39d07b0)', 'Moose::Meta::Class::__ANON__::SERIAL::7=HASH(0x39dd018)', 'Moose::Meta::Class::__ANON__::SERIAL::7=HASH(0x39e79c0)', 'Moose::Meta::Class::__ANON__::SERIAL::7=HASH(0x39e7a50)', ...) called at /usr/local/share/perl5/Catalyst/Controller.pm line 254
	Catalyst::Controller::register_actions('Catty::Controller::Root=HASH(0x39b03c8)', 'Catty') called at /usr/local/share/perl5/Catalyst/Dispatcher.pm line 607
	Catalyst::Dispatcher::setup_actions('Catalyst::Dispatcher=HASH(0x36d4798)', 'Catty') called at /usr/local/share/perl5/Catalyst.pm line 2499
	Catalyst::setup_actions('Catty') called at /usr/local/share/perl5/Catalyst.pm line 1195
	Catalyst::setup('Catty') called at t/lib/Catty.pm line 14
	require Catty.pm called at /usr/local/share/perl5/Module/Runtime.pm line 317
	Module::Runtime::require_module('Catty') called at /usr/local/share/perl5/Class/Load.pm line 177
	Class::Load::try {...} () called at /usr/local/share/perl5/Try/Tiny.pm line 76
	eval {...} called at /usr/local/share/perl5/Try/Tiny.pm line 72
	Try::Tiny::try('CODE(0x2d19590)', 'Try::Tiny::Catch=REF(0x2d2a058)') called at /usr/local/share/perl5/Class/Load.pm line 183
	Class::Load::try_load_class('Catty', undef) called at /usr/local/share/perl5/Class/Load.pm line 38
	Class::Load::load_class('Catty') called at /home/ambs/.cpan/build/Test-WWW-Mechanize-Catalyst-0.59-McFaUr/blib/lib/Test/WWW/Mechanize/Catalyst.pm line 70
	Test::WWW::Mechanize::Catalyst::BUILD('Test::WWW::Mechanize::Catalyst=HASH(0x2d29710)', 'HASH(0x2d1da10)') called at /usr/local/lib64/perl5/Class/MOP/Method.pm line 126
	Class::MOP::Method::execute('Moose::Meta::Method=HASH(0x2dc52a8)', 'Test::WWW::Mechanize::Catalyst=HASH(0x2d29710)', 'HASH(0x2d1da10)') called at /usr/local/lib64/perl5/Moose/Object.pm line 55
	Moose::Object::BUILDALL('Test::WWW::Mechanize::Catalyst=HASH(0x2d29710)', 'HASH(0x2d1da10)') called at /usr/local/lib64/perl5/Moose/Meta/Class.pm line 281
	Moose::Meta::Class::new_object('Moose::Meta::Class=HASH(0x1f56688)', '__INSTANCE__', 'Test::WWW::Mechanize::Catalyst=HASH(0x2d29710)', 'catalyst_app', 'Catty') called at /home/ambs/.cpan/build/Test-WWW-Mechanize-Catalyst-0.59-McFaUr/blib/lib/Test/WWW/Mechanize/Catalyst.pm line 52
	Test::WWW::Mechanize::Catalyst::new('Test::WWW::Mechanize::Catalyst', 'catalyst_app', 'Catty') called at t/white_label.t line 8
t/white_label.t ......... ok
All tests successful.
Files=10, Tests=108, 18 wallclock secs ( 0.08 usr  0.03 sys +  7.28 cusr  0.70 csys =  8.09 CPU)
Result: PASS

------------------------------
PREREQUISITES
------------------------------

Prerequisite modules loaded:

requires:

    Module                                   Need     Have    
    ---------------------------------------- -------- --------
    Catalyst                                 5.90     5.90042 
    Class::Load                              0.19     0.20    
    LWP                                      5.816    6.06    
    Moose                                    0.67     2.1209  
    namespace::clean                         0.09     0.25    
    perl                                     5.008004 5.010001
    Test::WWW::Mechanize                     1.14     1.44    
    WWW::Mechanize                           1.54     1.73    

build_requires:

    Module                                   Need     Have    
    ---------------------------------------- -------- --------
    Catalyst::Plugin::Session::State::Cookie 0        0.17    
    Catalyst::Plugin::Session::Store::Dummy  0        0       
    ExtUtils::MakeMaker                      6.59     6.72    
    Test::Exception                          0        0.32    
    Test::More                               0.88     1.001003
    Test::utf8                               0        1.01    

configure_requires:

    Module                                   Need     Have    
    ---------------------------------------- -------- --------
    ExtUtils::MakeMaker                      6.59     6.72    


------------------------------
ENVIRONMENT AND OTHER CONTEXT
------------------------------

Environment variables:

    LANG = en_US.UTF-8
    LC_COLLATE = pt_PT.UTF-8
    LC_CTYPE = pt_PT.UTF-8
    PATH = /usr/kerberos/sbin:/usr/kerberos/bin:/usr/local/bin:/bin:/usr/bin:/usr/local/sbin:/usr/sbin:/sbin:/home/ambs/bin
    PERL5LIB = /home/ambs/.cpan/build/Number-Misc-1.1-RuwWHF/blib/arch:/home/ambs/.cpan/build/Number-Misc-1.1-RuwWHF/blib/lib
    PERL5OPT = 
    PERL5_CPANPLUS_IS_RUNNING = 22556
    PERL5_CPAN_IS_RUNNING = 22556
    SHELL = /bin/bash
    TERM = xterm-256color

Perl special variables (and OS-specific diagnostics, for MSWin32):

    $^X = /usr/bin/perl
    $UID/$EUID = 500 / 500
    $GID = 500 500 503
    $EGID = 500 500 503

Perl module toolchain versions installed:

    Module              Have    
    ------------------- --------
    CPAN                2.05    
    CPAN::Meta          2.131560
    Cwd                 3.47    
    ExtUtils::CBuilder  0.280205
    ExtUtils::Command   1.17    
    ExtUtils::Install   1.54    
    ExtUtils::MakeMaker 6.72    
    ExtUtils::Manifest  1.61    
    ExtUtils::ParseXS   3.24    
    File::Spec          3.47    
    JSON                2.90    
    JSON::PP            2.27202 
    Module::Build       0.4205  
    Module::Signature   n/a     
    Parse::CPAN::Meta   1.4414  
    Test::Harness       3.30    
    Test::More          1.001003
    YAML                0.92    
    YAML::Syck          1.27    
    version             0.9908  


--

Summary of my perl5 (revision 5 version 10 subversion 1) configuration:
   
  Platform:
    osname=linux, osvers=2.6.32-72.el6.bz634452.x86_64, archname=x86_64-linux-thread-multi
    uname='linux x86-09.phx2.fedoraproject.org 2.6.32-72.el6.bz634452.x86_64 #1 smp fri sep 17 06:52:25 edt 2010 x86_64 x86_64 x86_64 gnulinux '
    config_args='-des -Doptimize=-O2 -g -pipe -Wall -Wp,-D_FORTIFY_SOURCE=2 -fexceptions -fstack-protector --param=ssp-buffer-size=4 -m64 -mtune=generic -Dccdlflags=-Wl,--enable-new-dtags -DDEBUGGING=-g -Dversion=5.10.1 -Dmyhostname=localhost -Dperladmin=root@localhost -Dcc=gcc -Dcf_by=Red Hat, Inc. -Dprefix=/usr -Dvendorprefix=/usr -Dsiteprefix=/usr/local -Dsitelib=/usr/local/share/perl5 -Dsitearch=/usr/local/lib64/perl5 -Dprivlib=/usr/share/perl5 -Dvendorlib=/usr/share/perl5 -Darchlib=/usr/lib64/perl5 -Dvendorarch=/usr/lib64/perl5 -Dinc_version_list=5.10.0 -Darchname=x86_64-linux-thread-multi -Dlibpth=/usr/local/lib64 /lib64 /usr/lib64 -Duseshrplib -Dusethreads -Duseithreads -Duselargefiles -Dd_dosuid -Dd_semctl_semun -Di_db -Ui_ndbm -Di_gdbm -Di_shadow -Di_syslog -Dman3ext=3pm -Duseperlio -Dinstallusrbinperl=n -Ubincompat5005 -Uversiononly -Dpager=/usr/bin/less -isr -Dd_gethostent_r_proto -Ud_endhostent_r_proto -Ud_sethostent_r_proto -Ud_endprotoent_r_proto -Ud_setprotoent_r_proto -Ud_endservent_r_proto -Ud_setservent_r_proto -Dscriptdir=/usr/bin -Dotherlibdirs=/usr/local/lib64/perl5/site_perl/5.10.0/x86_64-linux-thread-multi:/usr/local/lib/perl5/site_perl/5.10.0:/usr/lib64/perl5/vendor_perl/5.10.0/x86_64-linux-thread-multi:/usr/lib/perl5/vendor_perl:/usr/lib/perl5/site_perl'
    hint=recommended, useposix=true, d_sigaction=define
    useithreads=define, usemultiplicity=define
    useperlio=define, d_sfio=undef, uselargefiles=define, usesocks=undef
    use64bitint=define, use64bitall=define, uselongdouble=undef
    usemymalloc=n, bincompat5005=undef
  Compiler:
    cc='gcc', ccflags ='-D_REENTRANT -D_GNU_SOURCE -fno-strict-aliasing -pipe -fstack-protector -I/usr/local/include -D_LARGEFILE_SOURCE -D_FILE_OFFSET_BITS=64',
    optimize='-O2 -g -pipe -Wall -Wp,-D_FORTIFY_SOURCE=2 -fexceptions -fstack-protector --param=ssp-buffer-size=4 -m64 -mtune=generic',
    cppflags='-D_REENTRANT -D_GNU_SOURCE -fno-strict-aliasing -pipe -fstack-protector -I/usr/local/include'
    ccversion='', gccversion='4.4.4 20100630 (Red Hat 4.4.4-10)', gccosandvers=''
    intsize=4, longsize=8, ptrsize=8, doublesize=8, byteorder=12345678
    d_longlong=define, longlongsize=8, d_longdbl=define, longdblsize=16
    ivtype='long', ivsize=8, nvtype='double', nvsize=8, Off_t='off_t', lseeksize=8
    alignbytes=8, prototype=define
  Linker and Libraries:
    ld='gcc', ldflags =' -fstack-protector'
    libpth=/usr/local/lib64 /lib64 /usr/lib64
    libs=-lresolv -lnsl -lgdbm -ldb -ldl -lm -lcrypt -lutil -lpthread -lc
    perllibs=-lresolv -lnsl -ldl -lm -lcrypt -lutil -lpthread -lc
    libc=, so=so, useshrplib=true, libperl=libperl.so
    gnulibc_version='2.12.1'
  Dynamic Linking:
    dlsrc=dl_dlopen.xs, dlext=so, d_dlsymun=undef, ccdlflags='-Wl,--enable-new-dtags -Wl,-rpath,/usr/lib64/perl5/CORE'
    cccdlflags='-fPIC', lddlflags='-shared -O2 -g -pipe -Wall -Wp,-D_FORTIFY_SOURCE=2 -fexceptions -fstack-protector --param=ssp-buffer-size=4 -m64 -mtune=generic'


Characteristics of this binary (from libperl): 
  Compile-time options: MULTIPLICITY PERL_DONT_CREATE_GVSV
                        PERL_IMPLICIT_CONTEXT PERL_MALLOC_WRAP USE_64_BIT_ALL
                        USE_64_BIT_INT USE_ITHREADS USE_LARGE_FILES
                        USE_PERLIO USE_REENTRANT_API
  Built under linux
  Compiled at Oct 11 2010 13:04:12
  %ENV:
    PERL5LIB="/home/ambs/.cpan/build/Number-Misc-1.1-RuwWHF/blib/arch:/home/ambs/.cpan/build/Number-Misc-1.1-RuwWHF/blib/lib"
    PERL5OPT=""
    PERL5_CPANPLUS_IS_RUNNING="22556"
    PERL5_CPAN_IS_RUNNING="22556"
  @INC:
    /home/ambs/.cpan/build/Number-Misc-1.1-RuwWHF/blib/arch
    /home/ambs/.cpan/build/Number-Misc-1.1-RuwWHF/blib/lib
    /usr/local/lib64/perl5
    /usr/local/share/perl5
    /usr/lib64/perl5
    /usr/share/perl5
    /usr/lib64/perl5
    /usr/share/perl5
    /usr/local/lib64/perl5/site_perl/5.10.0/x86_64-linux-thread-multi
    /usr/local/lib/perl5/site_perl/5.10.0
    /usr/lib64/perl5/vendor_perl/5.10.0/x86_64-linux-thread-multi
    /usr/lib/perl5/vendor_perl
    /usr/lib/perl5/site_perl
    .