Task-Sites-ShlomiFish v0.0215 Perl 5 v5.36.1 darwin-2level

Status
Pass
From
David Cantrell (DCANTRELL)
Dist
Task-Sites-ShlomiFish v0.0215
Platform
Perl 5 v5.36.1 darwin-2level
Date
2023-11-30T02:48:11
ID
e6aa656e-8f2a-11ee-9ed0-72dbed4955b6
This distribution has been tested as part of the CPAN Testers
project, supporting the Perl programming language.  See
http://wiki.cpantesters.org/ for more information or email
questions to cpan-testers-discuss@perl.org


--
Dear Shlomi Fish,

This is a computer-generated report for Task-Sites-ShlomiFish-0.0215
on perl 5.36.1, created by CPAN-Reporter-1.2019.

Thank you for uploading your work to CPAN.  Congratulations!
All tests were successful.

Sections of this report:

    * Tester comments
    * Program output
    * Prerequisites
    * Environment and other context

------------------------------
TESTER COMMENTS
------------------------------

Additional comments from tester:

this report is from an automated smoke testing program
and was not reviewed by a human for accuracy

------------------------------
PROGRAM OUTPUT
------------------------------

Output from './Build test':

t/00-load.t ............... ok
t/cpan-changes.t .......... skipped: Test::CPAN::Changes required for this test
t/pod-coverage.t .......... ok
t/pod.t ................... ok
t/style-trailing-space.t .. ok
All tests successful.
Files=5, Tests=4,  0 wallclock secs ( 0.04 usr  0.02 sys +  0.57 cusr  0.14 csys =  0.77 CPU)
Result: PASS

------------------------------
PREREQUISITES
------------------------------

Prerequisite modules loaded:

requires:

    Module                                                 Need   Have    
    ------------------------------------------------------ ------ --------
    App::XML::DocBook::Builder                             0      0.1100  
    base                                                   0      2.27    
    Carp                                                   0      1.52    
    Carp::Always                                           0      0.16    
    CGI                                                    0      4.60    
    CGI::Minimal                                           0      1.30    
    Class::Accessor                                        0      0.51    
    Config::IniFiles                                       0      3.000003
    Cwd                                                    0      3.84    
    DateTime                                               0      1.65    
    DateTime::Format::Strptime                             0      1.79    
    DBD::SQLite                                            0      1.74    
    DBI                                                    0      1.643   
    Encode                                                 0      3.20    
    Exporter                                               0      5.77    
    Fcntl                                                  0      1.15    
    File::Basename                                         0      2.85    
    File::Copy                                             0      2.39    
    File::Find                                             0      1.40    
    File::Find::Object                                     0      0.3.8   
    File::Find::Object::Rule                               0      0.0313  
    File::Path                                             0      2.18    
    File::Spec                                             0      3.84    
    File::Spec::Functions                                  0      3.84    
    File::Which                                            0      1.27    
    Games::Solitaire::Verify::Base                         0      0.2403  
    HTML::Acronyms                                         0      0.0.4   
    HTML::Links::Localize                                  0      0.2.11  
    HTML::Selector::XPath                                  0      0.28    
    HTML::T5                                               0      0.013   
    HTML::TextToHTML                                       0      2.5201  
    HTML::TokeParser::Simple                               0      3.16    
  ! HTML::TreeBuilder::LibXML                              0      n/a     
    HTML::Widgets::NavMenu::ToJSON                         0      0.0.8   
    HTML::Widgets::NavMenu::ToJSON::Data_Persistence::YAML 0      0.0.8   
    Imager                                                 0      1.020   
    IO::All                                                0      0.87    
    JSON                                                   0      4.10    
    MIME::Types                                            0      2.24    
    Moose                                                  0      2.2206  
    Parallel::ForkManager                                  0      2.02    
    Parallel::Map::Segmented                               0      0.4.0   
    perl                                                   5.014  5.036001
    Proc::ProcessTable                                     0      0.636   
    QuadPres                                               0      0.30.0  
    Set::CSS                                               0      0.2.0   
  ! Spork::Shlomify                                        0.0200 n/a     
    strict                                                 0      1.12    
    String::ShellQuote                                     0      1.04    
    SVG                                                    0      2.87    
    Task::Latemp                                           0      0.0107  
    Template::Preprocessor::TTML                           0      0.0105  
    Test::Count                                            0      0.1105  
    Test::Count::Filter                                    0      0.1105  
    Test::HTML::Tidy::Recursive                            0      0.6.2   
    Test::More                                             0      1.302197
    Test::Perl::Critic                                     0      1.04    
    Test::TrailingSpace                                    0      0.0601  
  ! Text::Hunspell                                         0      n/a     
    Text::VimColor                                         0      0.29    
    URI::Find                                              0      20160806
    utf8                                                   0      1.24    
    vars                                                   0      1.05    
    warnings                                               0      1.58    
    XML::Amazon                                            0      0.14    
  ! XML::Feed                                              0      n/a     
    XML::Grammar::Fiction                                  v0.7.0 0.30.0  
    XML::Grammar::Fortune                                  0.0107 0.0900  
  ! XML::Grammar::Fortune::Synd::App                       0      n/a     
    XML::Grammar::Fortune::ToText                          0      0.0900  
    XML::Grammar::ProductsSyndication                      0.0302 0.0406  
    XML::Grammar::Screenplay                               v0.7.0 0.30.0  
    XML::Grammar::Vered                                    0      0.2.1   
    XML::LibXML::XPathContext                              0      2.0209  
    XML::LibXSLT                                           0      2.002001
    XML::Parser                                            0      2.46    
    XML::Writer                                            0      0.900   

configure_requires:

    Module                                                 Need   Have    
    ------------------------------------------------------ ------ --------
    Module::Build                                          0.36   0.4232  


------------------------------
ENVIRONMENT AND OTHER CONTEXT
------------------------------

Environment variables:

    AUTOMATED_TESTING = 1
    NONINTERACTIVE_TESTING = 1
    PATH = /Users/cpantesting/perl5/perlbrew/bin:/Users/cpantesting/perl5/perlbrew/perls/perl-5.32.0/bin:/usr/local/bin:/System/Cryptexes/App/usr/bin:/usr/bin:/bin:/usr/sbin:/sbin:/Library/Apple/usr/bin:/Users/cpantesting/.cargo/bin
    PERL = 5.36.1
    PERL5LIB = 
    PERL5OPT = 
    PERL5_CPANPLUS_IS_RUNNING = 89300
    PERL5_CPAN_IS_RUNNING = 89300
    PERLBREW_HOME = /Users/cpantesting/.perlbrew
    PERLBREW_MANPATH = /Users/cpantesting/perl5/perlbrew/perls/perl-5.32.0/man
    PERLBREW_PATH = /Users/cpantesting/perl5/perlbrew/bin:/Users/cpantesting/perl5/perlbrew/perls/perl-5.32.0/bin
    PERLBREW_PERL = perl-5.32.0
    PERLBREW_ROOT = /Users/cpantesting/perl5/perlbrew
    PERLBREW_SHELLRC_VERSION = 0.94
    PERLBREW_VERSION = 0.94
    PERLVER = 5.36.1
    PERL_INLINE_DIRECTORY = /Users/cpantesting/.Inline-5.36.1
    PERL_MM_USE_DEFAULT = 1
    PERL_USE_UNSAFE_INC = 0
    SHELL = /bin/bash
    TERM = screen

Perl special variables (and OS-specific diagnostics, for MSWin32):

    $^X = /Users/cpantesting/cpantesting/perl-5.36.1/bin/perl
    $UID/$EUID = 503 / 503
    $GID = 20 20 12 61 703 702 701 100
    $EGID = 20 20 12 61 703 702 701 100

Perl module toolchain versions installed:

    Module              Have    
    ------------------- --------
    CPAN                2.33    
    CPAN::Meta          2.150010
    Cwd                 3.84    
    ExtUtils::CBuilder  0.280236
    ExtUtils::Command   7.70    
    ExtUtils::Install   2.20    
    ExtUtils::MakeMaker 7.70    
    ExtUtils::Manifest  1.73    
    ExtUtils::ParseXS   3.45    
    File::Spec          3.84    
    JSON                4.10    
    JSON::PP            4.07    
    Module::Build       0.4232  
    Module::Signature   n/a     
    Parse::CPAN::Meta   2.150010
    Test2               1.302197
    Test::Harness       3.44    
    Test::More          1.302197
    YAML                1.30    
    YAML::Syck          1.34    
    version             0.9929  


--

Summary of my perl5 (revision 5 version 36 subversion 1) configuration:
   
  Platform:
    osname=darwin
    osvers=21.6.0
    archname=darwin-2level
    uname='darwin harrow.local 21.6.0 darwin kernel version 21.6.0: mon aug 22 20:17:10 pdt 2022; root:xnu-8020.140.49~2release_x86_64 x86_64 '
    config_args='-de -Dprefix=/Users/cpantesting/cpantesting/perl-5.36.1'
    hint=recommended
    useposix=true
    d_sigaction=define
    useithreads=undef
    usemultiplicity=undef
    use64bitint=define
    use64bitall=define
    uselongdouble=undef
    usemymalloc=n
    default_inc_excludes_dot=define
  Compiler:
    cc='cc'
    ccflags ='-fno-common -DPERL_DARWIN -mmacosx-version-min=12.6 -fno-strict-aliasing -pipe -fstack-protector-strong -I/usr/local/include -DPERL_USE_SAFE_PUTENV'
    optimize='-O3'
    cppflags='-fno-common -DPERL_DARWIN -mmacosx-version-min=12.6 -fno-strict-aliasing -pipe -fstack-protector-strong -I/usr/local/include'
    ccversion=''
    gccversion='Apple LLVM 14.0.0 (clang-1400.0.29.202)'
    gccosandvers=''
    intsize=4
    longsize=8
    ptrsize=8
    doublesize=8
    byteorder=12345678
    doublekind=3
    d_longlong=define
    longlongsize=8
    d_longdbl=define
    longdblsize=16
    longdblkind=3
    ivtype='long'
    ivsize=8
    nvtype='double'
    nvsize=8
    Off_t='off_t'
    lseeksize=8
    alignbytes=8
    prototype=define
  Linker and Libraries:
    ld='cc'
    ldflags =' -mmacosx-version-min=12.6 -fstack-protector-strong -L/usr/local/lib'
    libpth=/usr/local/lib /Applications/Xcode.app/Contents/Developer/Toolchains/XcodeDefault.xctoolchain/usr/lib/clang/14.0.0/lib /Applications/Xcode.app/Contents/Developer/Platforms/MacOSX.platform/Developer/SDKs/MacOSX.sdk/usr/lib /Applications/Xcode.app/Contents/Developer/Toolchains/XcodeDefault.xctoolchain/usr/lib /usr/lib
    libs=-lgdbm
    perllibs=
    libc=
    so=dylib
    useshrplib=false
    libperl=libperl.a
    gnulibc_version=''
  Dynamic Linking:
    dlsrc=dl_dlopen.xs
    dlext=bundle
    d_dlsymun=undef
    ccdlflags=' '
    cccdlflags=' '
    lddlflags=' -mmacosx-version-min=12.6 -bundle -undefined dynamic_lookup -L/usr/local/lib -fstack-protector-strong'


Characteristics of this binary (from libperl): 
  Compile-time options:
    HAS_TIMES
    PERLIO_LAYERS
    PERL_COPY_ON_WRITE
    PERL_DONT_CREATE_GVSV
    PERL_MALLOC_WRAP
    PERL_OP_PARENT
    PERL_PRESERVE_IVUV
    PERL_USE_SAFE_PUTENV
    USE_64_BIT_ALL
    USE_64_BIT_INT
    USE_LARGE_FILES
    USE_LOCALE
    USE_LOCALE_COLLATE
    USE_LOCALE_CTYPE
    USE_LOCALE_NUMERIC
    USE_LOCALE_TIME
    USE_PERLIO
    USE_PERL_ATOF
  Built under darwin
  Compiled at Apr 23 2023 16:37:45
  %ENV:
    PERL="5.36.1"
    PERL5LIB=""
    PERL5OPT=""
    PERL5_CPANPLUS_IS_RUNNING="89300"
    PERL5_CPAN_IS_RUNNING="89300"
    PERLBREW_HOME="/Users/cpantesting/.perlbrew"
    PERLBREW_MANPATH="/Users/cpantesting/perl5/perlbrew/perls/perl-5.32.0/man"
    PERLBREW_PATH="/Users/cpantesting/perl5/perlbrew/bin:/Users/cpantesting/perl5/perlbrew/perls/perl-5.32.0/bin"
    PERLBREW_PERL="perl-5.32.0"
    PERLBREW_ROOT="/Users/cpantesting/perl5/perlbrew"
    PERLBREW_SHELLRC_VERSION="0.94"
    PERLBREW_VERSION="0.94"
    PERLVER="5.36.1"
    PERL_INLINE_DIRECTORY="/Users/cpantesting/.Inline-5.36.1"
    PERL_MM_USE_DEFAULT="1"
    PERL_USE_UNSAFE_INC="0"
  @INC:
    /Users/cpantesting/cpantesting/perl-5.36.1/lib/site_perl/5.36.1/darwin-2level
    /Users/cpantesting/cpantesting/perl-5.36.1/lib/site_perl/5.36.1
    /Users/cpantesting/cpantesting/perl-5.36.1/lib/5.36.1/darwin-2level
    /Users/cpantesting/cpantesting/perl-5.36.1/lib/5.36.1