SNMP-Info v3.89 Perl 5 v5.36.0 x86_64-linux-thread-multi

Status
Pass
From
Chris Hills
Dist
SNMP-Info v3.89
Platform
Perl 5 v5.36.0 x86_64-linux-thread-multi
Date
2022-09-25T12:45:14
ID
e6b361e0-3ccf-11ed-b835-4a8d459d8ad9
This distribution has been tested as part of the CPAN Testers
project, supporting the Perl programming language.  See
http://wiki.cpantesters.org/ for more information or email
questions to cpan-testers-discuss@perl.org


--
Dear OLIVER,

This is a computer-generated report for SNMP-Info-3.89
on perl 5.36.0, created by App::cpanminus::reporter 0.17 (1.7046).

Thank you for uploading your work to CPAN.  Congratulations!
All tests were successful.

Sections of this report:

    * Tester comments
    * Program output
    * Prerequisites
    * Environment and other context

------------------------------
TESTER COMMENTS
------------------------------

Additional comments from tester:

none provided

------------------------------
PROGRAM OUTPUT
------------------------------

Output from '':

Running Build.PL
Checking prerequisites...
  requires:
    !  Regexp::Common is not installed
    !  SNMP is not installed
  test_requires:
    !  File::Slurper is not installed
    !  Hook::LexWrap is not installed
    !  NetSNMP::default_store is not installed
    !  Test::Class::Most is not installed
    !  Test::Distribution is not installed
    !  Test::MockObject::Extends is not installed
  recommends:
    *  Class::ISA is not installed
    *  File::Slurp is not installed
    *  Module::Info is not installed
    *  PPI is not installed

ERRORS/WARNINGS FOUND IN PREREQUISITES.  You may wish to install the versions
of the modules indicated above before proceeding with this installation

Created MYMETA.yml and MYMETA.json
Creating new 'Build' script for 'SNMP-Info' version '3.89'
-> OK
Checking dependencies from MYMETA.json ...
Checking if you have Class::Inspector 0 ... Yes (1.36)
Checking if you have Test::MockObject::Extends 0 ... No
Checking if you have Path::Class 0 ... Yes (0.37)
Checking if you have Module::Find 0 ... Yes (0.16)
Checking if you have NetAddr::IP 4.068 ... Yes (4.079)
Checking if you have Test::Class::Most 0 ... No
Checking if you have Test::Exception 0.43 ... Yes (0.43)
Checking if you have Test::Distribution 0 ... No
Checking if you have File::Slurper 0 ... No
Checking if you have Regexp::Common 0 ... No
Checking if you have File::Find 0 ... Yes (1.40)
Checking if you have Test::More 0.88 ... Yes (1.302190)
Checking if you have Hook::LexWrap 0 ... No
Checking if you have SNMP 0 ... No
Checking if you have NetSNMP::default_store 0 ... No
Checking if you have Math::BigInt 0 ... Yes (1.999830)
==> Found dependencies: Test::MockObject::Extends, Test::Class::Most, Test::Distribution, File::Slurper, Regexp::Common, Hook::LexWrap, SNMP, NetSNMP::default_store
Searching Test::MockObject::Extends on mirror https://www.cpan.org ...
--> Working on Test::MockObject::Extends
Fetching https://www.cpan.org/authors/id/C/CH/CHROMATIC/Test-MockObject-1.20200122.tar.gz
-> OK
Unpacking Test-MockObject-1.20200122.tar.gz
Manifying 2 pod documents
Installing /home/chaz/perl5/lib/perl5/Test/MockObject.pm
Installing /home/chaz/perl5/lib/perl5/Test/MockObject/Extends.pm
Installing /home/chaz/perl5/man/man3/Test::MockObject.3
Installing /home/chaz/perl5/man/man3/Test::MockObject::Extends.3
Appending installation info to /home/chaz/perl5/lib/perl5/x86_64-linux-thread-multi/perllocal.pod
-> OK
Successfully installed Test-MockObject-1.20200122
Installing /home/chaz/perl5/lib/perl5/x86_64-linux-thread-multi/.meta/Test-MockObject-1.20200122/install.json
Installing /home/chaz/perl5/lib/perl5/x86_64-linux-thread-multi/.meta/Test-MockObject-1.20200122/MYMETA.json
Searching Test::Class::Most on mirror https://www.cpan.org ...
--> Working on Test::Class::Most
Fetching https://www.cpan.org/authors/id/O/OV/OVID/Test-Class-Most-0.08.tar.gz
-> OK
Unpacking Test-Class-Most-0.08.tar.gz
Building Test-Class-Most
Installing /home/chaz/perl5/lib/perl5/Test/Class/Most.pm
Installing /home/chaz/perl5/man/man3/Test::Class::Most.3
-> OK
Successfully installed Test-Class-Most-0.08
Installing /home/chaz/perl5/lib/perl5/x86_64-linux-thread-multi/.meta/Test-Class-Most-0.08/install.json
Installing /home/chaz/perl5/lib/perl5/x86_64-linux-thread-multi/.meta/Test-Class-Most-0.08/MYMETA.json
Searching Test::Distribution on mirror https://www.cpan.org ...
--> Working on Test::Distribution
Fetching https://www.cpan.org/authors/id/S/SR/SRSHAH/Test-Distribution-2.00.tar.gz
-> OK
Unpacking Test-Distribution-2.00.tar.gz
Building Test-Distribution
Installing /home/chaz/perl5/lib/perl5/Test/Distribution.pm
Installing /home/chaz/perl5/man/man3/Test::Distribution.3
-> OK
Successfully installed Test-Distribution-2.00
Installing /home/chaz/perl5/lib/perl5/x86_64-linux-thread-multi/.meta/Test-Distribution-2.00/install.json
Installing /home/chaz/perl5/lib/perl5/x86_64-linux-thread-multi/.meta/Test-Distribution-2.00/MYMETA.json
Searching File::Slurper on mirror https://www.cpan.org ...
--> Working on File::Slurper
Fetching https://www.cpan.org/authors/id/L/LE/LEONT/File-Slurper-0.013.tar.gz
-> OK
Unpacking File-Slurper-0.013.tar.gz
Manifying 1 pod document
Installing /home/chaz/perl5/lib/perl5/File/Slurper.pm
Installing /home/chaz/perl5/man/man3/File::Slurper.3
Appending installation info to /home/chaz/perl5/lib/perl5/x86_64-linux-thread-multi/perllocal.pod
-> OK
Successfully installed File-Slurper-0.013
Installing /home/chaz/perl5/lib/perl5/x86_64-linux-thread-multi/.meta/File-Slurper-0.013/install.json
Installing /home/chaz/perl5/lib/perl5/x86_64-linux-thread-multi/.meta/File-Slurper-0.013/MYMETA.json
Searching Regexp::Common on mirror https://www.cpan.org ...
--> Working on Regexp::Common
Fetching https://www.cpan.org/authors/id/A/AB/ABIGAIL/Regexp-Common-2017060201.tar.gz
-> OK
Unpacking Regexp-Common-2017060201.tar.gz
Manifying 32 pod documents
Manifying 1 pod document
Installing /home/chaz/perl5/lib/perl5/Regexp/Common.pm
Installing /home/chaz/perl5/lib/perl5/Regexp/Common/lingua.pm
Installing /home/chaz/perl5/lib/perl5/Regexp/Common/comment.pm
Installing /home/chaz/perl5/lib/perl5/Regexp/Common/zip.pm
Installing /home/chaz/perl5/lib/perl5/Regexp/Common/delimited.pm
Installing /home/chaz/perl5/lib/perl5/Regexp/Common/profanity.pm
Installing /home/chaz/perl5/lib/perl5/Regexp/Common/number.pm
Installing /home/chaz/perl5/lib/perl5/Regexp/Common/URI.pm
Installing /home/chaz/perl5/lib/perl5/Regexp/Common/balanced.pm
Installing /home/chaz/perl5/lib/perl5/Regexp/Common/net.pm
Installing /home/chaz/perl5/lib/perl5/Regexp/Common/whitespace.pm
Installing /home/chaz/perl5/lib/perl5/Regexp/Common/SEN.pm
Installing /home/chaz/perl5/lib/perl5/Regexp/Common/CC.pm
Installing /home/chaz/perl5/lib/perl5/Regexp/Common/_support.pm
Installing /home/chaz/perl5/lib/perl5/Regexp/Common/list.pm
Installing /home/chaz/perl5/lib/perl5/Regexp/Common/URI/RFC1808.pm
Installing /home/chaz/perl5/lib/perl5/Regexp/Common/URI/prospero.pm
Installing /home/chaz/perl5/lib/perl5/Regexp/Common/URI/news.pm
Installing /home/chaz/perl5/lib/perl5/Regexp/Common/URI/RFC2396.pm
Installing /home/chaz/perl5/lib/perl5/Regexp/Common/URI/RFC1738.pm
Installing /home/chaz/perl5/lib/perl5/Regexp/Common/URI/http.pm
Installing /home/chaz/perl5/lib/perl5/Regexp/Common/URI/tel.pm
Installing /home/chaz/perl5/lib/perl5/Regexp/Common/URI/gopher.pm
Installing /home/chaz/perl5/lib/perl5/Regexp/Common/URI/ftp.pm
Installing /home/chaz/perl5/lib/perl5/Regexp/Common/URI/RFC2806.pm
Installing /home/chaz/perl5/lib/perl5/Regexp/Common/URI/tv.pm
Installing /home/chaz/perl5/lib/perl5/Regexp/Common/URI/pop.pm
Installing /home/chaz/perl5/lib/perl5/Regexp/Common/URI/wais.pm
Installing /home/chaz/perl5/lib/perl5/Regexp/Common/URI/RFC1035.pm
Installing /home/chaz/perl5/lib/perl5/Regexp/Common/URI/telnet.pm
Installing /home/chaz/perl5/lib/perl5/Regexp/Common/URI/file.pm
Installing /home/chaz/perl5/lib/perl5/Regexp/Common/URI/RFC2384.pm
Installing /home/chaz/perl5/lib/perl5/Regexp/Common/URI/fax.pm
Installing /home/chaz/perl5/man/man3/Regexp::Common.3
Installing /home/chaz/perl5/man/man3/Regexp::Common::CC.3
Installing /home/chaz/perl5/man/man3/Regexp::Common::SEN.3
Installing /home/chaz/perl5/man/man3/Regexp::Common::URI.3
Installing /home/chaz/perl5/man/man3/Regexp::Common::URI::RFC1035.3
Installing /home/chaz/perl5/man/man3/Regexp::Common::URI::RFC1738.3
Installing /home/chaz/perl5/man/man3/Regexp::Common::URI::RFC1808.3
Installing /home/chaz/perl5/man/man3/Regexp::Common::URI::RFC2384.3
Installing /home/chaz/perl5/man/man3/Regexp::Common::URI::RFC2396.3
Installing /home/chaz/perl5/man/man3/Regexp::Common::URI::RFC2806.3
Installing /home/chaz/perl5/man/man3/Regexp::Common::URI::fax.3
Installing /home/chaz/perl5/man/man3/Regexp::Common::URI::file.3
Installing /home/chaz/perl5/man/man3/Regexp::Common::URI::ftp.3
Installing /home/chaz/perl5/man/man3/Regexp::Common::URI::gopher.3
Installing /home/chaz/perl5/man/man3/Regexp::Common::URI::http.3
Installing /home/chaz/perl5/man/man3/Regexp::Common::URI::news.3
Installing /home/chaz/perl5/man/man3/Regexp::Common::URI::pop.3
Installing /home/chaz/perl5/man/man3/Regexp::Common::URI::prospero.3
Installing /home/chaz/perl5/man/man3/Regexp::Common::URI::tel.3
Installing /home/chaz/perl5/man/man3/Regexp::Common::URI::telnet.3
Installing /home/chaz/perl5/man/man3/Regexp::Common::URI::tv.3
Installing /home/chaz/perl5/man/man3/Regexp::Common::URI::wais.3
Installing /home/chaz/perl5/man/man3/Regexp::Common::_support.3
Installing /home/chaz/perl5/man/man3/Regexp::Common::balanced.3
Installing /home/chaz/perl5/man/man3/Regexp::Common::comment.3
Installing /home/chaz/perl5/man/man3/Regexp::Common::delimited.3
Installing /home/chaz/perl5/man/man3/Regexp::Common::lingua.3
Installing /home/chaz/perl5/man/man3/Regexp::Common::list.3
Installing /home/chaz/perl5/man/man3/Regexp::Common::net.3
Installing /home/chaz/perl5/man/man3/Regexp::Common::number.3
Installing /home/chaz/perl5/man/man3/Regexp::Common::profanity.3
Installing /home/chaz/perl5/man/man3/Regexp::Common::whitespace.3
Installing /home/chaz/perl5/man/man3/Regexp::Common::zip.3
Appending installation info to /home/chaz/perl5/lib/perl5/x86_64-linux-thread-multi/perllocal.pod
-> OK
Successfully installed Regexp-Common-2017060201
Installing /home/chaz/perl5/lib/perl5/x86_64-linux-thread-multi/.meta/Regexp-Common-2017060201/install.json
Installing /home/chaz/perl5/lib/perl5/x86_64-linux-thread-multi/.meta/Regexp-Common-2017060201/MYMETA.json
Searching Hook::LexWrap on mirror https://www.cpan.org ...
--> Working on Hook::LexWrap
Fetching https://www.cpan.org/authors/id/E/ET/ETHER/Hook-LexWrap-0.26.tar.gz
-> OK
Unpacking Hook-LexWrap-0.26.tar.gz
Manifying 1 pod document
Installing /home/chaz/perl5/lib/perl5/Hook/LexWrap.pm
Appending installation info to /home/chaz/perl5/lib/perl5/x86_64-linux-thread-multi/perllocal.pod
-> OK
Successfully installed Hook-LexWrap-0.26
Installing /home/chaz/perl5/lib/perl5/x86_64-linux-thread-multi/.meta/Hook-LexWrap-0.26/install.json
Installing /home/chaz/perl5/lib/perl5/x86_64-linux-thread-multi/.meta/Hook-LexWrap-0.26/MYMETA.json
Searching SNMP on mirror https://www.cpan.org ...
--> Working on SNMP
Fetching https://www.cpan.org/authors/id/H/HA/HARDAKER/SNMP-5.0404.tar.gz
-> OK
Unpacking SNMP-5.0404.tar.gz
Searching NetSNMP::default_store on mirror https://www.cpan.org ...
--> Working on NetSNMP::default_store
Fetching https://www.cpan.org/authors/id/H/HA/HARDAKER/NetSNMP-default_store-5.0404.tar.gz
-> OK
Unpacking NetSNMP-default_store-5.0404.tar.gz
Successfully installed NetSNMP-default_store-5.0404
Installing /home/chaz/perl5/lib/perl5/x86_64-linux-thread-multi/.meta/NetSNMP-default_store-5.0404/install.json
Installing /home/chaz/perl5/lib/perl5/x86_64-linux-thread-multi/.meta/NetSNMP-default_store-5.0404/MYMETA.json
-> FAIL Installing the dependencies failed: Module 'SNMP' is not installed
-> FAIL Bailing out the installation for SNMP-Info-3.89.
Searching Dancer::Plugin::Passphrase on mirror https://www.cpan.org ...
--> Working on Dancer::Plugin::Passphrase
Fetching https://www.cpan.org/authors/id/J/JA/JAITKEN/Dancer-Plugin-Passphrase-2.0.1.tar.gz
-> OK
Unpacking Dancer-Plugin-Passphrase-2.0.1.tar.gz
Failed 1/13 test programs. 1/107 subtests failed.
make: *** [Makefile:859: test_dynamic] Error 255
-> FAIL Installing Dancer::Plugin::Passphrase failed. See /home/chaz/.cpanm/work/1664107996.2732576/build.log for details. Retry with --force to force install it.
Searching Test::File::ShareDir::Dist on mirror https://www.cpan.org ...
--> Working on Test::File::ShareDir::Dist
Fetching https://www.cpan.org/authors/id/K/KE/KENTNL/Test-File-ShareDir-1.001002.tar.gz
-> OK
Unpacking Test-File-ShareDir-1.001002.tar.gz
Manifying 8 pod documents
Installing /home/chaz/perl5/lib/perl5/Test/File/ShareDir.pm
Installing /home/chaz/perl5/lib/perl5/Test/File/ShareDir/Dist.pm
Installing /home/chaz/perl5/lib/perl5/Test/File/ShareDir/TempDirObject.pm
Installing /home/chaz/perl5/lib/perl5/Test/File/ShareDir/Module.pm
Installing /home/chaz/perl5/lib/perl5/Test/File/ShareDir/Utils.pm
Installing /home/chaz/perl5/lib/perl5/Test/File/ShareDir/Object/Module.pm
Installing /home/chaz/perl5/lib/perl5/Test/File/ShareDir/Object/Dist.pm
Installing /home/chaz/perl5/lib/perl5/Test/File/ShareDir/Object/Inc.pm
Installing /home/chaz/perl5/man/man3/Test::File::ShareDir.3
Installing /home/chaz/perl5/man/man3/Test::File::ShareDir::Dist.3
Installing /home/chaz/perl5/man/man3/Test::File::ShareDir::Module.3
Installing /home/chaz/perl5/man/man3/Test::File::ShareDir::Object::Dist.3
Installing /home/chaz/perl5/man/man3/Test::File::ShareDir::Object::Inc.3
Installing /home/chaz/perl5/man/man3/Test::File::ShareDir::Object::Module.3
Installing /home/chaz/perl5/man/man3/Test::File::ShareDir::TempDirObject.3
Installing /home/chaz/perl5/man/man3/Test::File::ShareDir::Utils.3
Appending installation info to /home/chaz/perl5/lib/perl5/x86_64-linux-thread-multi/perllocal.pod
-> OK
Successfully installed Test-File-ShareDir-1.001002
Installing /home/chaz/perl5/lib/perl5/x86_64-linux-thread-multi/.meta/Test-File-ShareDir-1.001002/install.json
Installing /home/chaz/perl5/lib/perl5/x86_64-linux-thread-multi/.meta/Test-File-ShareDir-1.001002/MYMETA.json
Searching Starman on mirror https://www.cpan.org ...
--> Working on Starman
Fetching https://www.cpan.org/authors/id/M/MI/MIYAGAWA/Starman-0.4016.tar.gz
-> OK
Unpacking Starman-0.4016.tar.gz
"/home/chaz/.local/local/perl-5.36.0/bin/perl" "-Iinc" -MExtUtils::Command::MM -e 'cp_nonempty' -- XS.bs blib/arch/auto/HTTP/Parser/XS/XS.bs 644
Manifying 1 pod document
Files found in blib/arch: installing files in blib/lib into architecture dependent library tree
Installing /home/chaz/perl5/lib/perl5/x86_64-linux-thread-multi/auto/HTTP/Parser/XS/XS.so
Installing /home/chaz/perl5/lib/perl5/x86_64-linux-thread-multi/HTTP/Parser/XS.pm
Installing /home/chaz/perl5/lib/perl5/x86_64-linux-thread-multi/HTTP/Parser/XS/PP.pm
Installing /home/chaz/perl5/man/man3/HTTP::Parser::XS.3
Appending installation info to /home/chaz/perl5/lib/perl5/x86_64-linux-thread-multi/perllocal.pod
-> OK
Successfully installed HTTP-Parser-XS-0.17
Installing /home/chaz/perl5/lib/perl5/x86_64-linux-thread-multi/.meta/HTTP-Parser-XS-0.17/install.json
Installing /home/chaz/perl5/lib/perl5/x86_64-linux-thread-multi/.meta/HTTP-Parser-XS-0.17/MYMETA.json
Searching Net::Server on mirror https://www.cpan.org ...
--> Working on Net::Server
Fetching https://www.cpan.org/authors/id/R/RH/RHANDOM/Net-Server-2.010.tar.gz
-> OK
Unpacking Net-Server-2.010.tar.gz
Manifying 1 pod document
Manifying 21 pod documents
Installing /home/chaz/perl5/lib/perl5/Net/Server.pod
Installing /home/chaz/perl5/lib/perl5/Net/Server.pm
Installing /home/chaz/perl5/lib/perl5/Net/Server/Single.pm
Installing /home/chaz/perl5/lib/perl5/Net/Server/INET.pm
Installing /home/chaz/perl5/lib/perl5/Net/Server/MultiType.pm
Installing /home/chaz/perl5/lib/perl5/Net/Server/Daemonize.pm
Installing /home/chaz/perl5/lib/perl5/Net/Server/Multiplex.pm
Installing /home/chaz/perl5/lib/perl5/Net/Server/SIG.pm
Installing /home/chaz/perl5/lib/perl5/Net/Server/Proto.pm
Installing /home/chaz/perl5/lib/perl5/Net/Server/Fork.pm
Installing /home/chaz/perl5/lib/perl5/Net/Server/PSGI.pm
Installing /home/chaz/perl5/lib/perl5/Net/Server/HTTP.pm
Installing /home/chaz/perl5/lib/perl5/Net/Server/PreFork.pm
Installing /home/chaz/perl5/lib/perl5/Net/Server/PreForkSimple.pm
Installing /home/chaz/perl5/lib/perl5/Net/Server/Proto/UNIX.pm
Installing /home/chaz/perl5/lib/perl5/Net/Server/Proto/TCP.pm
Installing /home/chaz/perl5/lib/perl5/Net/Server/Proto/UDP.pm
Installing /home/chaz/perl5/lib/perl5/Net/Server/Proto/UNIXDGRAM.pm
Installing /home/chaz/perl5/lib/perl5/Net/Server/Proto/SSL.pm
Installing /home/chaz/perl5/lib/perl5/Net/Server/Proto/SSLEAY.pm
Installing /home/chaz/perl5/lib/perl5/Net/Server/Log/Sys/Syslog.pm
Installing /home/chaz/perl5/lib/perl5/Net/Server/Log/Log/Log4perl.pm
Installing /home/chaz/perl5/man/man1/net-server.1
Installing /home/chaz/perl5/man/man3/Net::Server.3
Installing /home/chaz/perl5/man/man3/Net::Server::Daemonize.3
Installing /home/chaz/perl5/man/man3/Net::Server::Fork.3
Installing /home/chaz/perl5/man/man3/Net::Server::HTTP.3
Installing /home/chaz/perl5/man/man3/Net::Server::INET.3
Installing /home/chaz/perl5/man/man3/Net::Server::Log::Log::Log4perl.3
Installing /home/chaz/perl5/man/man3/Net::Server::Log::Sys::Syslog.3
Installing /home/chaz/perl5/man/man3/Net::Server::MultiType.3
Installing /home/chaz/perl5/man/man3/Net::Server::Multiplex.3
Installing /home/chaz/perl5/man/man3/Net::Server::PSGI.3
Installing /home/chaz/perl5/man/man3/Net::Server::PreFork.3
Installing /home/chaz/perl5/man/man3/Net::Server::PreForkSimple.3
Installing /home/chaz/perl5/man/man3/Net::Server::Proto.3
Installing /home/chaz/perl5/man/man3/Net::Server::Proto::SSL.3
Installing /home/chaz/perl5/man/man3/Net::Server::Proto::SSLEAY.3
Installing /home/chaz/perl5/man/man3/Net::Server::Proto::TCP.3
Installing /home/chaz/perl5/man/man3/Net::Server::Proto::UDP.3
Installing /home/chaz/perl5/man/man3/Net::Server::Proto::UNIX.3
Installing /home/chaz/perl5/man/man3/Net::Server::Proto::UNIXDGRAM.3
Installing /home/chaz/perl5/man/man3/Net::Server::SIG.3
Installing /home/chaz/perl5/man/man3/Net::Server::Single.3
Installing /home/chaz/perl5/bin/net-server
Appending installation info to /home/chaz/perl5/lib/perl5/x86_64-linux-thread-multi/perllocal.pod
-> OK
Successfully installed Net-Server-2.010
Installing /home/chaz/perl5/lib/perl5/x86_64-linux-thread-multi/.meta/Net-Server-2.010/install.json
Installing /home/chaz/perl5/lib/perl5/x86_64-linux-thread-multi/.meta/Net-Server-2.010/MYMETA.json
Building and testing Starman-0.4016
cp lib/HTTP/Server/PSGI/Net/Server/PreFork.pm blib/lib/HTTP/Server/PSGI/Net/Server/PreFork.pm
cp lib/Starman.pm blib/lib/Starman.pm
cp lib/Plack/Handler/Starman.pm blib/lib/Plack/Handler/Starman.pm
cp script/starman blib/script/starman
cp lib/Starman/Server.pm blib/lib/Starman/Server.pm
t/00_compile.t ........... ok
t/author-pod-syntax.t .... skipped: these tests are for testing by the author
2022/09/25-13:28:23 Starman::Server (type Net::Server::PreFork) starting! pid(2759243)
Binding to TCP port 41413 on host 127.0.0.1 with IPv4
Setting gid to "1000 1000 10 63 986 1000"
2022/09/25-13:28:23 Server closing!
t/chunked_req.t .......... ok
t/chunked_termination.t .. ok
2022/09/25-13:28:23 Starman::Server (type Net::Server::PreFork) starting! pid(2759251)
Binding to TCP port 37483 on host 127.0.0.1 with IPv4
Setting gid to "1000 1000 10 63 986 1000"
2022/09/25-13:28:23 Server closing!
t/chunked_zero_length.t .. ok
2022/09/25-13:28:23 Starman::Server (type Net::Server::PreFork) starting! pid(2759258)
Binding to TCP port 33817 on host 127.0.0.1 with IPv4
Setting gid to "1000 1000 10 63 986 1000"
2022/09/25-13:28:23 Server closing!
t/early-hints.t .......... ok
2022/09/25-13:28:23 Starman::Server (type Net::Server::PreFork) starting! pid(2759265)
Binding to TCP port 36453 on host 127.0.0.1 with IPv4
Setting gid to "1000 1000 10 63 986 1000"
2022/09/25-13:28:23 Server closing!
t/expect.t ............... ok
2022/09/25-13:28:23 Starman::Server (type Net::Server::PreFork) starting! pid(2759272)
Binding to TCP port 38283 on host 127.0.0.1 with IPv4
Setting gid to "1000 1000 10 63 986 1000"
2022/09/25-13:28:23 Server closing!
2022/09/25-13:28:23 Starman::Server (type Net::Server::PreFork) starting! pid(2759294)
Binding to TCP port 35103 on host 127.0.0.1 with IPv4
Setting gid to "1000 1000 10 63 986 1000"
2022/09/25-13:28:23 Server closing!
Accept failed with 29 tries left: Invalid argument
Accept failed with 28 tries left: Invalid argument
Accept failed with 27 tries left: Invalid argument
Accept failed with 26 tries left: Invalid argument
Accept failed with 25 tries left: Invalid argument
Accept failed with 24 tries left: Invalid argument
Accept failed with 23 tries left: Invalid argument
Accept failed with 22 tries left: Invalid argument
Accept failed with 21 tries left: Invalid argument
Accept failed with 20 tries left: Invalid argument
Accept failed with 19 tries left: Invalid argument
Accept failed with 18 tries left: Invalid argument
Accept failed with 17 tries left: Invalid argument
Accept failed with 16 tries left: Invalid argument
Accept failed with 15 tries left: Invalid argument
Accept failed with 14 tries left: Invalid argument
Accept failed with 13 tries left: Invalid argument
Accept failed with 12 tries left: Invalid argument
Accept failed with 11 tries left: Invalid argument
Accept failed with 10 tries left: Invalid argument
Accept failed with 9 tries left: Invalid argument
Accept failed with 8 tries left: Invalid argument
Accept failed with 7 tries left: Invalid argument
Accept failed with 6 tries left: Invalid argument
Accept failed with 5 tries left: Invalid argument
Accept failed with 4 tries left: Invalid argument
Accept failed with 3 tries left: Invalid argument
Accept failed with 2 tries left: Invalid argument
Accept failed with 1 tries left: Invalid argument
Accept failed with 0 tries left: Invalid argument
Ran out of accept retries!
t/harakiri.t ............. ok
2022/09/25-13:28:54 Starman::Server (type Net::Server::PreFork) starting! pid(2759573)
Binding to TCP port 33965 on host 127.0.0.1 with IPv4
Setting gid to "1000 1000 10 63 986 1000"
2022/09/25-13:28:54 Server closing!
t/lf_only_request.t ...... ok
2022/09/25-13:28:54 Starman::Server (type Net::Server::PreFork) starting! pid(2759580)
Binding to TCP port 38871 on host 127.0.0.1 with IPv4
Setting gid to "1000 1000 10 63 986 1000"
2022/09/25-13:28:54 Server closing!
t/no_chunked_head.t ...... ok
t/release-findbin.t ...... skipped: these tests are for release candidate testing
t/release-rand.t ......... skipped: these tests are for release candidate testing
2022/09/25-13:28:54 Starman::Server (type Net::Server::PreFork) starting! pid(2759589)
Binding to TCP port 39415 on host 127.0.0.1 with IPv4
Setting gid to "1000 1000 10 63 986 1000"
2022/09/25-13:28:54 Server closing!
t/single_zero.t .......... ok
2022/09/25-13:28:54 Starman::Server (type Net::Server::PreFork) starting! pid(2759596)
Resolved [localhost]:35545 to [127.0.0.1]:35545, IPv4
Resolved [localhost]:35545 to [127.0.0.1]:35545, IPv4
Duplicate configuration (SSL) on [127.0.0.1]:35545 with IPv4) - skipping
Binding to SSL port 35545 on host 127.0.0.1 with IPv4
Setting gid to "1000 1000 10 63 986 1000"
Could not finalize SSL connection with client handle (SSL accept attempt failed)
2022/09/25-13:28:54 Server closing!
t/ssl.t .................. ok
2022/09/25-13:28:54 Starman::Server (type Net::Server::PreFork) starting! pid(2759604)
Resolved [localhost]:38221 to [127.0.0.1]:38221, IPv4
Resolved [localhost]:38221 to [127.0.0.1]:38221, IPv4
Duplicate configuration (SSL) on [127.0.0.1]:38221 with IPv4) - skipping
Binding to SSL port 38221 on host 127.0.0.1 with IPv4
Setting gid to "1000 1000 10 63 986 1000"
Could not finalize SSL connection with client handle (SSL accept attempt failed)
2022/09/25-13:28:54 Server closing!
t/ssl_largebody.t ........ ok
2022/09/25-13:28:55 Starman::Server (type Net::Server::PreFork) starting! pid(2759612)
Binding to TCP port 44191 on host 127.0.0.1 with IPv4
Setting gid to "1000 1000 10 63 986 1000"
2022/09/25-13:28:55 Server closing!
t/suite.t ................ ok
All tests successful.
Files=16, Tests=124, 33 wallclock secs ( 0.05 usr  0.02 sys +  1.79 cusr  0.50 csys =  2.36 CPU)
Result: PASS

------------------------------
PREREQUISITES
------------------------------

Prerequisite modules loaded:

    No requirements found

------------------------------
ENVIRONMENT AND OTHER CONTEXT
------------------------------

Environment variables:

    LANG = en_GB.UTF-8
    PATH = /home/chaz/.deno/bin:/home/chaz/perl5/bin:/home/chaz/.local/local/apache-maven/bin:/home/chaz/.dotnet/tools:/home/chaz/go/bin:/home/chaz/.cargo/bin:/home/chaz/bin:/home/chaz/.local/bin:/home/chaz/.deno/bin:/home/chaz/perl5/bin:/usr/share/Modules/bin:/usr/local/bin:/usr/bin:/usr/local/sbin:/usr/sbin:/home/chaz/.dotnet/tools
    PERL5LIB = /home/chaz/perl5/lib/perl5:/home/chaz/perl5/lib/perl5
    PERL_CPANM_OPT = --from https://www.cpan.org
    PERL_LOCAL_LIB_ROOT = /home/chaz/perl5:/home/chaz/perl5
    PERL_MB_OPT = --install_base "/home/chaz/perl5"
    PERL_MM_OPT = INSTALL_BASE=/home/chaz/perl5
    SHELL = /bin/bash
    TERM = tmux-256color

Perl special variables (and OS-specific diagnostics, for MSWin32):

    EGID = 1000 10 63 986 1000
    EUID = 1000
    EXECUTABLE_NAME = /home/chaz/.local/local/perl-5.36.0/bin/perl
    GID = 1000 10 63 986 1000
    UID = 1000

Perl module toolchain versions installed:

    Module              Have    
    ------------------- --------
    CPAN                2.33    
    CPAN::Meta          2.150010
    Cwd                 3.84    
    ExtUtils::CBuilder  0.280236
    ExtUtils::Command   7.64    
    ExtUtils::Install   2.20    
    ExtUtils::MakeMaker 7.64    
    ExtUtils::Manifest  1.73    
    ExtUtils::ParseXS   3.45    
    File::Spec          3.84    
    JSON                4.09    
    JSON::PP            4.07    
    Module::Build       0.4231  
    Module::Signature   n/a     
    Parse::CPAN::Meta   2.150010
    Test::Harness       3.44    
    Test::More          1.302190
    YAML                1.30    
    YAML::Syck          n/a     
    version             0.9929  


--

Summary of my perl5 (revision 5 version 36 subversion 0) configuration:
   
  Platform:
    osname=linux
    osvers=4.18.0-372.9.1.el8.x86_64
    archname=x86_64-linux-thread-multi
    uname='linux gbhnksv001.foxhole.furry.be 4.18.0-372.9.1.el8.x86_64 #1 smp tue may 10 08:57:35 edt 2022 x86_64 gnulinux '
    config_args='-des -Dprefix=/home/chaz/.local/local/perl-5.36.0 -Duseshrplib -Dusethreads -Dcc=clang -Accflags=-march=x86-64-v3'
    hint=recommended
    useposix=true
    d_sigaction=define
    useithreads=define
    usemultiplicity=define
    use64bitint=define
    use64bitall=define
    uselongdouble=undef
    usemymalloc=n
    default_inc_excludes_dot=define
  Compiler:
    cc='clang'
    ccflags ='-D_REENTRANT -D_GNU_SOURCE -march=x86-64-v3 -fno-strict-aliasing -pipe -fstack-protector-strong -I/usr/local/include -D_LARGEFILE_SOURCE -D_FILE_OFFSET_BITS=64'
    optimize='-O2'
    cppflags='-D_REENTRANT -D_GNU_SOURCE -march=x86-64-v3 -fno-strict-aliasing -pipe -fstack-protector-strong -I/usr/local/include'
    ccversion=''
    gccversion='Clang 13.0.1 (https://github.com/syoyo/llvm-build-script.git 69811f8495283846f1e88fece5be2c316d2599ba)'
    gccosandvers=''
    intsize=4
    longsize=8
    ptrsize=8
    doublesize=8
    byteorder=12345678
    doublekind=3
    d_longlong=define
    longlongsize=8
    d_longdbl=define
    longdblsize=16
    longdblkind=3
    ivtype='long'
    ivsize=8
    nvtype='double'
    nvsize=8
    Off_t='off_t'
    lseeksize=8
    alignbytes=8
    prototype=define
  Linker and Libraries:
    ld='clang'
    ldflags =' -fstack-protector-strong -L/usr/local/lib'
    libpth=/home/chaz/.local/local/clang+llvm-13.0.1/lib/clang/13.0.1/lib /usr/local/lib /usr/lib /usr/lib64 /usr/local/lib64
    libs=-lpthread -lnsl -lgdbm -ldb -ldl -lm -lcrypt -lutil -lc -lgdbm_compat
    perllibs=-lpthread -lnsl -ldl -lm -lcrypt -lutil -lc
    libc=libc-2.28.so
    so=so
    useshrplib=true
    libperl=libperl.so
    gnulibc_version='2.28'
  Dynamic Linking:
    dlsrc=dl_dlopen.xs
    dlext=so
    d_dlsymun=undef
    ccdlflags='-Wl,-E -Wl,-rpath,/home/chaz/.local/local/perl-5.36.0/lib/5.36.0/x86_64-linux-thread-multi/CORE'
    cccdlflags='-fPIC'
    lddlflags='-shared -O2 -L/usr/local/lib -fstack-protector-strong'


Characteristics of this binary (from libperl): 
  Compile-time options:
    HAS_TIMES
    MULTIPLICITY
    PERLIO_LAYERS
    PERL_COPY_ON_WRITE
    PERL_DONT_CREATE_GVSV
    PERL_MALLOC_WRAP
    PERL_OP_PARENT
    PERL_PRESERVE_IVUV
    USE_64_BIT_ALL
    USE_64_BIT_INT
    USE_ITHREADS
    USE_LARGE_FILES
    USE_LOCALE
    USE_LOCALE_COLLATE
    USE_LOCALE_CTYPE
    USE_LOCALE_NUMERIC
    USE_LOCALE_TIME
    USE_PERLIO
    USE_PERL_ATOF
    USE_REENTRANT_API
    USE_THREAD_SAFE_LOCALE
  Built under linux
  Compiled at May 28 2022 10:32:04
  %ENV:
    PERL5LIB="/home/chaz/perl5/lib/perl5:/home/chaz/perl5/lib/perl5"
    PERL_CPANM_OPT="--from https://www.cpan.org"
    PERL_LOCAL_LIB_ROOT="/home/chaz/perl5:/home/chaz/perl5"
    PERL_MB_OPT="--install_base "/home/chaz/perl5""
    PERL_MM_OPT="INSTALL_BASE=/home/chaz/perl5"
  @INC:
    /home/chaz/perl5/lib/perl5/x86_64-linux-thread-multi
    /home/chaz/perl5/lib/perl5
    /home/chaz/perl5/lib/perl5/x86_64-linux-thread-multi
    /home/chaz/perl5/lib/perl5
    /home/chaz/.local/local/perl-5.36.0/lib/site_perl/5.36.0/x86_64-linux-thread-multi
    /home/chaz/.local/local/perl-5.36.0/lib/site_perl/5.36.0
    /home/chaz/.local/local/perl-5.36.0/lib/5.36.0/x86_64-linux-thread-multi
    /home/chaz/.local/local/perl-5.36.0/lib/5.36.0