Task-Sites-ShlomiFish v0.0215 Perl 5 v5.32.1 OpenBSD.amd64-openbsd-thread-multi

Status
Pass
From
David Cantrell (DCANTRELL)
Dist
Task-Sites-ShlomiFish v0.0215
Platform
Perl 5 v5.32.1 OpenBSD.amd64-openbsd-thread-multi
Date
2023-11-30T04:28:27
ID
e8abb670-8f38-11ee-856e-7a3e6e039f81
This distribution has been tested as part of the CPAN Testers
project, supporting the Perl programming language.  See
http://wiki.cpantesters.org/ for more information or email
questions to cpan-testers-discuss@perl.org


--
Dear Shlomi Fish,

This is a computer-generated report for Task-Sites-ShlomiFish-0.0215
on perl 5.32.1, created by CPAN-Reporter-1.2018.

Thank you for uploading your work to CPAN.  Congratulations!
All tests were successful.

Sections of this report:

    * Tester comments
    * Program output
    * Prerequisites
    * Environment and other context

------------------------------
TESTER COMMENTS
------------------------------

Additional comments from tester:

this report is from an automated smoke testing program
and was not reviewed by a human for accuracy

------------------------------
PROGRAM OUTPUT
------------------------------

Output from './Build test':

t/00-load.t ............... ok
t/cpan-changes.t .......... skipped: Test::CPAN::Changes required for this test
t/pod-coverage.t .......... ok
t/pod.t ................... ok
t/style-trailing-space.t .. skipped: Test::TrailingSpace required for trailing space test.
All tests successful.
Files=5, Tests=3,  1 wallclock secs ( 0.05 usr  0.02 sys +  0.75 cusr  0.14 csys =  0.96 CPU)
Result: PASS

------------------------------
PREREQUISITES
------------------------------

Prerequisite modules loaded:

requires:

    Module                                                 Need   Have    
    ------------------------------------------------------ ------ --------
  ! App::XML::DocBook::Builder                             0      n/a     
    base                                                   0      2.23    
    Carp                                                   0      1.50    
    Carp::Always                                           0      0.16    
  ! CGI                                                    0      n/a     
    CGI::Minimal                                           0      1.30    
    Class::Accessor                                        0      0.51    
    Config::IniFiles                                       0      3.000003
    Cwd                                                    0      3.75    
  ! DateTime                                               0      n/a     
  ! DateTime::Format::Strptime                             0      n/a     
  ! DBD::SQLite                                            0      n/a     
  ! DBI                                                    0      n/a     
    Encode                                                 0      3.19    
    Exporter                                               0      5.77    
    Fcntl                                                  0      1.13    
    File::Basename                                         0      2.85    
    File::Copy                                             0      2.34    
    File::Find                                             0      1.37    
  ! File::Find::Object                                     0      n/a     
  ! File::Find::Object::Rule                               0      n/a     
    File::Path                                             0      2.18    
    File::Spec                                             0      3.75    
    File::Spec::Functions                                  0      3.75    
    File::Which                                            0      1.27    
  ! Games::Solitaire::Verify::Base                         0      n/a     
  ! HTML::Acronyms                                         0      n/a     
  ! HTML::Links::Localize                                  0      n/a     
    HTML::Selector::XPath                                  0      0.28    
  ! HTML::T5                                               0      n/a     
    HTML::TextToHTML                                       0      2.5201  
  ! HTML::TokeParser::Simple                               0      n/a     
  ! HTML::TreeBuilder::LibXML                              0      n/a     
  ! HTML::Widgets::NavMenu::ToJSON                         0      n/a     
  ! HTML::Widgets::NavMenu::ToJSON::Data_Persistence::YAML 0      n/a     
  ! Imager                                                 0      n/a     
    IO::All                                                0      0.87    
    JSON                                                   0      4.10    
    MIME::Types                                            0      2.24    
  ! Moose                                                  0      n/a     
    Parallel::ForkManager                                  0      2.02    
  ! Parallel::Map::Segmented                               0      n/a     
    perl                                                   5.014  5.032001
    Proc::ProcessTable                                     0      0.636   
  ! QuadPres                                               0      n/a     
  ! Set::CSS                                               0      n/a     
  ! Spork::Shlomify                                        0.0200 n/a     
    strict                                                 0      1.11    
    String::ShellQuote                                     0      1.04    
    SVG                                                    0      2.87    
  ! Task::Latemp                                           0      n/a     
    Template::Preprocessor::TTML                           0      0.0105  
    Test::Count                                            0      0.1105  
    Test::Count::Filter                                    0      0.1105  
  ! Test::HTML::Tidy::Recursive                            0      n/a     
    Test::More                                             0      1.302175
    Test::Perl::Critic                                     0      1.04    
  ! Test::TrailingSpace                                    0      n/a     
  ! Text::Hunspell                                         0      n/a     
    Text::VimColor                                         0      0.29    
    URI::Find                                              0      20160806
    utf8                                                   0      1.22    
    vars                                                   0      1.05    
    warnings                                               0      1.47    
  ! XML::Amazon                                            0      n/a     
  ! XML::Feed                                              0      n/a     
  ! XML::Grammar::Fiction                                  v0.7.0 n/a     
  ! XML::Grammar::Fortune                                  0.0107 n/a     
  ! XML::Grammar::Fortune::Synd::App                       0      n/a     
  ! XML::Grammar::Fortune::ToText                          0      n/a     
  ! XML::Grammar::ProductsSyndication                      0.0302 n/a     
  ! XML::Grammar::Screenplay                               v0.7.0 n/a     
  ! XML::Grammar::Vered                                    0      n/a     
  ! XML::LibXML::XPathContext                              0      n/a     
  ! XML::LibXSLT                                           0      n/a     
  ! XML::Parser                                            0      n/a     
    XML::Writer                                            0      0.900   

configure_requires:

    Module                                                 Need   Have    
    ------------------------------------------------------ ------ --------
    Module::Build                                          0.36   0.4234  


------------------------------
ENVIRONMENT AND OTHER CONTEXT
------------------------------

Environment variables:

    AUTOMATED_TESTING = 1
    NONINTERACTIVE_TESTING = 1
    PATH = /home/david/perl5/perlbrew/bin:/home/david/perl5/perlbrew/perls/perl-5.32.0/bin:/home/david/bin:/bin:/sbin:/usr/bin:/usr/sbin:/usr/X11R6/bin:/usr/local/bin:/usr/local/sbin:/usr/games:/home/david/.fzf/bin
    PERL = 5.32.1
    PERL5LIB = 
    PERL5OPT = 
    PERL5_CPANPLUS_IS_RUNNING = 48421
    PERL5_CPAN_IS_RUNNING = 48421
    PERLBREW_HOME = /home/david/.perlbrew
    PERLBREW_MANPATH = /home/david/perl5/perlbrew/perls/perl-5.32.0/man
    PERLBREW_PATH = /home/david/perl5/perlbrew/bin:/home/david/perl5/perlbrew/perls/perl-5.32.0/bin
    PERLBREW_PERL = perl-5.32.0
    PERLBREW_ROOT = /home/david/perl5/perlbrew
    PERLBREW_SHELLRC_VERSION = 0.92
    PERLBREW_VERSION = 0.92
    PERLVER = 5.32.1
    PERL_INLINE_DIRECTORY = /home/david/.Inline-5.32.1
    PERL_MM_USE_DEFAULT = 1
    PERL_USE_UNSAFE_INC = 0
    SHELL = /usr/local/bin/bash
    TERM = screen

Perl special variables (and OS-specific diagnostics, for MSWin32):

    $^X = /home/david/cpantesting/perl-5.32.1/bin/perl
    $UID/$EUID = 1000 / 1000
    $GID = 1000 1000 0
    $EGID = 1000 1000 0

Perl module toolchain versions installed:

    Module              Have    
    ------------------- --------
    CPAN                2.27    
    CPAN::Meta          2.150010
    Cwd                 3.75    
    ExtUtils::CBuilder  0.280236
    ExtUtils::Command   7.70    
    ExtUtils::Install   2.22    
    ExtUtils::MakeMaker 7.70    
    ExtUtils::Manifest  1.75    
    ExtUtils::ParseXS   3.44    
    File::Spec          3.75    
    JSON                4.10    
    JSON::PP            4.16    
    Module::Build       0.4234  
    Module::Signature   n/a     
    Parse::CPAN::Meta   2.150010
    Test::Harness       3.44    
    Test::More          1.302175
    YAML                1.30    
    YAML::Syck          1.34    
    version             0.9929  


--

Summary of my perl5 (revision 5 version 32 subversion 1) configuration:
   
  Platform:
    osname=openbsd
    osvers=7.0
    archname=OpenBSD.amd64-openbsd-thread-multi
    uname='openbsd cpantesting-openbsd-utm.home 7.0 generic.mp#232 amd64 '
    config_args='-de -Dprefix=/home/david/cpantesting/perl-5.32.1 -Dusethreads'
    hint=recommended
    useposix=true
    d_sigaction=define
    useithreads=define
    usemultiplicity=define
    use64bitint=define
    use64bitall=define
    uselongdouble=undef
    usemymalloc=n
    default_inc_excludes_dot=define
    bincompat5005=undef
  Compiler:
    cc='cc'
    ccflags ='-pthread -fno-strict-aliasing -pipe -fstack-protector-strong -I/usr/local/include'
    optimize='-O2'
    cppflags='-pthread -fno-strict-aliasing -pipe -fstack-protector-strong -I/usr/local/include'
    ccversion=''
    gccversion='OpenBSD Clang 11.1.0'
    gccosandvers=''
    intsize=4
    longsize=8
    ptrsize=8
    doublesize=8
    byteorder=12345678
    doublekind=3
    d_longlong=define
    longlongsize=8
    d_longdbl=define
    longdblsize=16
    longdblkind=3
    ivtype='long'
    ivsize=8
    nvtype='double'
    nvsize=8
    Off_t='off_t'
    lseeksize=8
    alignbytes=8
    prototype=define
  Linker and Libraries:
    ld='cc'
    ldflags ='-pthread -Wl,-E  -fstack-protector-strong -L/usr/local/lib'
    libpth=/usr/lib /usr/local/lib
    libs=-lpthread -lm -lutil -lc
    perllibs=-lpthread -lm -lutil -lc
    libc=/usr/lib/libc.so.96.1
    so=so
    useshrplib=false
    libperl=libperl.a
    gnulibc_version=''
  Dynamic Linking:
    dlsrc=dl_dlopen.xs
    dlext=so
    d_dlsymun=undef
    ccdlflags=' '
    cccdlflags='-DPIC -fPIC '
    lddlflags='-shared -fPIC  -L/usr/local/lib -fstack-protector-strong'


Characteristics of this binary (from libperl): 
  Compile-time options:
    HAS_TIMES
    MULTIPLICITY
    PERLIO_LAYERS
    PERL_COPY_ON_WRITE
    PERL_DONT_CREATE_GVSV
    PERL_IMPLICIT_CONTEXT
    PERL_MALLOC_WRAP
    PERL_OP_PARENT
    PERL_PRESERVE_IVUV
    USE_64_BIT_ALL
    USE_64_BIT_INT
    USE_ITHREADS
    USE_LARGE_FILES
    USE_LOCALE
    USE_LOCALE_COLLATE
    USE_LOCALE_CTYPE
    USE_LOCALE_NUMERIC
    USE_LOCALE_TIME
    USE_PERLIO
    USE_PERL_ATOF
    USE_REENTRANT_API
  Built under openbsd
  Compiled at Feb 12 2022 00:11:28
  %ENV:
    PERL="5.32.1"
    PERL5LIB=""
    PERL5OPT=""
    PERL5_CPANPLUS_IS_RUNNING="48421"
    PERL5_CPAN_IS_RUNNING="48421"
    PERLBREW_HOME="/home/david/.perlbrew"
    PERLBREW_MANPATH="/home/david/perl5/perlbrew/perls/perl-5.32.0/man"
    PERLBREW_PATH="/home/david/perl5/perlbrew/bin:/home/david/perl5/perlbrew/perls/perl-5.32.0/bin"
    PERLBREW_PERL="perl-5.32.0"
    PERLBREW_ROOT="/home/david/perl5/perlbrew"
    PERLBREW_SHELLRC_VERSION="0.92"
    PERLBREW_VERSION="0.92"
    PERLVER="5.32.1"
    PERL_INLINE_DIRECTORY="/home/david/.Inline-5.32.1"
    PERL_MM_USE_DEFAULT="1"
    PERL_USE_UNSAFE_INC="0"
  @INC:
    /home/david/cpantesting/perl-5.32.1/lib/site_perl/5.32.1/OpenBSD.amd64-openbsd-thread-multi
    /home/david/cpantesting/perl-5.32.1/lib/site_perl/5.32.1
    /home/david/cpantesting/perl-5.32.1/lib/5.32.1/OpenBSD.amd64-openbsd-thread-multi
    /home/david/cpantesting/perl-5.32.1/lib/5.32.1