Report for MooseX-App-Cmd-0.31

Back
From: metabase:user:30ae4450-2aae-11df-837a-5e0a49663a4f
Subject: PASS MooseX-App-Cmd-0.31 v5.16.2 GNU/Linux
Date: 2015-06-06T17:03:14Z

This distribution has been tested as part of the CPAN Testers
project, supporting the Perl programming language.  See
http://wiki.cpantesters.org/ for more information or email
questions to cpan-testers-discuss@perl.org


--
Dear Karen Etheridge,

This is a computer-generated report for MooseX-App-Cmd-0.31
on perl 5.16.2, created by CPAN-Reporter-1.2009.

Thank you for uploading your work to CPAN.  Congratulations!
All tests were successful.

Sections of this report:

    * Tester comments
    * Program output
    * Prerequisites
    * Environment and other context

------------------------------
TESTER COMMENTS
------------------------------

Additional comments from tester:

this report is from an automated smoke testing program
and was not reviewed by a human for accuracy

------------------------------
PROGRAM OUTPUT
------------------------------

Output from '/usr/bin/make test':

PERL_DL_NONLAZY=1 /home/c/perl5/perlbrew/perls/perl-5.16.2/bin/perl "-MExtUtils::Command::MM" "-e" "test_harness(0, 'blib/lib', 'blib/arch')" t/*.t
# 
# Versions for all modules listed in MYMETA.json (including optional ones):
# 
# === Configure Requires ===
# 
#     Module              Want    Have
#     ------------------- ---- -------
#     ExtUtils::MakeMaker  any 6.63_02
# 
# === Build Requires ===
# 
#     Module              Want    Have
#     ------------------- ---- -------
#     ExtUtils::MakeMaker  any 6.63_02
# 
# === Test Requires ===
# 
#     Module              Want     Have
#     ------------------- ---- --------
#     Data::Dumper         any 2.135_06
#     ExtUtils::MakeMaker  any  6.63_02
#     File::Spec           any  3.39_02
#     Test::More          0.88     0.98
#     Test::Output         any     1.01
#     YAML                 any     0.84
#     base                 any     2.18
#     lib                  any     0.63
#     strict               any     1.07
#     warnings             any     1.13
# 
# === Test Recommends ===
# 
#     Module         Want     Have
#     ---------- -------- --------
#     CPAN::Meta 2.120900 2.120921
# 
# === Test Suggests ===
# 
#     Module                 Want Have
#     ---------------------- ---- ----
#     MooseX::ConfigFromFile  any 0.04
# 
# === Runtime Requires ===
# 
#     Module                     Want     Have
#     ------------------------- ----- --------
#     App::Cmd                  0.321    0.327
#     App::Cmd::Command           any    0.327
#     Data::Dumper                any 2.135_06
#     English                     any     1.05
#     ExtUtils::MakeMaker         any  6.63_02
#     File::Basename              any     2.84
#     File::Spec                  any  3.39_02
#     Getopt::Long::Descriptive 0.091    0.093
#     Moose                       any   2.0604
#     Moose::Object               any   2.0604
#     MooseX::Getopt              any     0.50
#     Test::More                 0.88     0.98
#     Test::Output                any     1.01
#     YAML                        any     0.84
#     base                        any     2.18
#     lib                         any     0.63
#     namespace::autoclean        any     0.13
#     strict                      any     1.07
#     warnings                    any     1.13
# 
# === Other Modules ===
# 
#     Module        Have
#     ------------- ----
#     Pod::Coverage 0.22
# 
t/00-report-prereqs.t ... ok
t/basic.t ............... ok
t/build_emulates_new.t .. ok
t/configfile.t .......... ok
t/moose.t ............... ok
t/zzz-check-breaks.t .... ok
All tests successful.
Files=6, Tests=21,  6 wallclock secs ( 0.03 usr  0.07 sys +  3.43 cusr  0.49 csys =  4.02 CPU)
Result: PASS

------------------------------
PREREQUISITES
------------------------------

Prerequisite modules loaded:

requires:

    Module                    Need     Have    
    ------------------------- -------- --------
    App::Cmd                  0.321    0.327   
    App::Cmd::Command         0        0.327   
    base                      0        2.18    
    Data::Dumper              0        2.135_06
    English                   0        1.05    
    ExtUtils::MakeMaker       0        6.63_02 
    File::Basename            0        2.84    
    File::Spec                0        3.39_02 
    Getopt::Long::Descriptive 0.091    0.093   
    lib                       0        0.63    
    Moose                     0        2.0604  
    Moose::Object             0        2.0604  
    MooseX::Getopt            0        0.50    
    namespace::autoclean      0        0.13    
    perl                      5.008005 5.016002
    strict                    0        1.07    
    Test::More                0.88     0.98    
    Test::Output              0        1.01    
    warnings                  0        1.13    
    YAML                      0        0.84    

build_requires:

    Module                    Need     Have    
    ------------------------- -------- --------
    ExtUtils::MakeMaker       0        6.63_02 

configure_requires:

    Module                    Need     Have    
    ------------------------- -------- --------
    ExtUtils::MakeMaker       0        6.63_02 
    perl                      5.006    5.016002


------------------------------
ENVIRONMENT AND OTHER CONTEXT
------------------------------

Environment variables:

    AUTOMATED_TESTING = 1
    LANG = ru_RU.utf8
    PATH = /home/c/perl5/perlbrew/bin:/home/c/perl5/perlbrew/perls/perl-5.16.2/bin:/usr/local/bin:/usr/bin:/bin:/usr/local/games:/usr/games
    PERL5LIB = /home/c/.cpan/build/App-Cmd-0.327-trkC3N/blib/arch:/home/c/.cpan/build/App-Cmd-0.327-trkC3N/blib/lib:/home/c/.cpan/build/Getopt-Long-2.46-ufEIwK/blib/arch:/home/c/.cpan/build/Getopt-Long-2.46-ufEIwK/blib/lib
    PERL5OPT = 
    PERL5_CPANPLUS_IS_RUNNING = 22216
    PERL5_CPAN_IS_RUNNING = 22216
    PERL5_CPAN_IS_RUNNING_IN_RECURSION = 24904,22216
    PERLBREW_MANPATH = /home/c/perl5/perlbrew/perls/perl-5.16.2/man
    PERLBREW_PATH = /home/c/perl5/perlbrew/bin:/home/c/perl5/perlbrew/perls/perl-5.16.2/bin
    PERLBREW_PERL = perl-5.16.2
    PERLBREW_ROOT = /home/c/perl5/perlbrew
    PERLBREW_SKIP_INIT = 1
    PERLBREW_VERSION = 0.58
    PERL_CR_SMOKER_CURRENT = MooseX-App-Cmd-0.31
    PERL_CR_SMOKER_RUNONCE = 1
    PERL_EXTUTILS_AUTOINSTALL = --defaultdeps
    PERL_MM_USE_DEFAULT = 1
    SHELL = /bin/bash
    TERM = xterm

Perl special variables (and OS-specific diagnostics, for MSWin32):

    $^X = /home/c/perl5/perlbrew/perls/perl-5.16.2/bin/perl
    $UID/$EUID = 1000 / 1000
    $GID = 1000 24 25 27 29 30 44 46 108 109 115 1000 1001
    $EGID = 1000 24 25 27 29 30 44 46 108 109 115 1000 1001

Perl module toolchain versions installed:

    Module              Have    
    ------------------- --------
    CPAN                1.9800  
    CPAN::Meta          2.120921
    Cwd                 3.39_02 
    ExtUtils::CBuilder  0.280206
    ExtUtils::Command   1.17    
    ExtUtils::Install   1.58    
    ExtUtils::MakeMaker 6.63_02 
    ExtUtils::Manifest  1.61    
    ExtUtils::ParseXS   3.16    
    File::Spec          3.39_02 
    JSON                2.53    
    JSON::PP            2.27200 
    Module::Build       0.4004  
    Module::Signature   0.70    
    Parse::CPAN::Meta   1.4404  
    Test::Harness       3.23    
    Test::More          0.98    
    YAML                0.84    
    YAML::Syck          1.22    
    version             0.9901  


--

Summary of my perl5 (revision 5 version 16 subversion 2) configuration:
   
  Platform:
    osname=linux, osvers=2.6.32-5-686, archname=i686-linux
    uname='linux deb1 2.6.32-5-686 #1 smp sun sep 23 09:49:36 utc 2012 i686 gnulinux '
    config_args='-de -Dprefix=/home/c/perl5/perlbrew/perls/perl-5.16.2 -Aeval:scriptdir=/home/c/perl5/perlbrew/perls/perl-5.16.2/bin'
    hint=recommended, useposix=true, d_sigaction=define
    useithreads=undef, usemultiplicity=undef
    useperlio=define, d_sfio=undef, uselargefiles=define, usesocks=undef
    use64bitint=undef, use64bitall=undef, uselongdouble=undef
    usemymalloc=n, bincompat5005=undef
  Compiler:
    cc='cc', ccflags ='-fno-strict-aliasing -pipe -fstack-protector -I/usr/local/include -D_LARGEFILE_SOURCE -D_FILE_OFFSET_BITS=64',
    optimize='-O2',
    cppflags='-fno-strict-aliasing -pipe -fstack-protector -I/usr/local/include'
    ccversion='', gccversion='4.4.5', gccosandvers=''
    intsize=4, longsize=4, ptrsize=4, doublesize=8, byteorder=1234
    d_longlong=define, longlongsize=8, d_longdbl=define, longdblsize=12
    ivtype='long', ivsize=4, nvtype='double', nvsize=8, Off_t='off_t', lseeksize=8
    alignbytes=4, prototype=define
  Linker and Libraries:
    ld='cc', ldflags =' -fstack-protector -L/usr/local/lib'
    libpth=/usr/local/lib /lib/../lib /usr/lib/../lib /lib /usr/lib /usr/lib/i486-linux-gnu /usr/lib64
    libs=-lnsl -ldl -lm -lcrypt -lutil -lc
    perllibs=-lnsl -ldl -lm -lcrypt -lutil -lc
    libc=/lib/libc-2.11.3.so, so=so, useshrplib=false, libperl=libperl.a
    gnulibc_version='2.11.3'
  Dynamic Linking:
    dlsrc=dl_dlopen.xs, dlext=so, d_dlsymun=undef, ccdlflags='-Wl,-E'
    cccdlflags='-fPIC', lddlflags='-shared -O2 -L/usr/local/lib -fstack-protector'


Characteristics of this binary (from libperl): 
  Compile-time options: HAS_TIMES PERLIO_LAYERS PERL_DONT_CREATE_GVSV
                        PERL_MALLOC_WRAP PERL_PRESERVE_IVUV USE_LARGE_FILES
                        USE_LOCALE USE_LOCALE_COLLATE USE_LOCALE_CTYPE
                        USE_LOCALE_NUMERIC USE_PERLIO USE_PERL_ATOF
  Built under linux
  Compiled at Jan  4 2013 21:20:12
  %ENV:
    PERL5LIB="/home/c/.cpan/build/App-Cmd-0.327-trkC3N/blib/arch:/home/c/.cpan/build/App-Cmd-0.327-trkC3N/blib/lib:/home/c/.cpan/build/Getopt-Long-2.46-ufEIwK/blib/arch:/home/c/.cpan/build/Getopt-Long-2.46-ufEIwK/blib/lib"
    PERL5OPT=""
    PERL5_CPANPLUS_IS_RUNNING="22216"
    PERL5_CPAN_IS_RUNNING="22216"
    PERL5_CPAN_IS_RUNNING_IN_RECURSION="24904,22216"
    PERLBREW_MANPATH="/home/c/perl5/perlbrew/perls/perl-5.16.2/man"
    PERLBREW_PATH="/home/c/perl5/perlbrew/bin:/home/c/perl5/perlbrew/perls/perl-5.16.2/bin"
    PERLBREW_PERL="perl-5.16.2"
    PERLBREW_ROOT="/home/c/perl5/perlbrew"
    PERLBREW_SKIP_INIT="1"
    PERLBREW_VERSION="0.58"
    PERL_CR_SMOKER_CURRENT="MooseX-App-Cmd-0.31"
    PERL_CR_SMOKER_RUNONCE="1"
    PERL_EXTUTILS_AUTOINSTALL="--defaultdeps"
    PERL_MM_USE_DEFAULT="1"
  @INC:
    /home/c/.cpan/build/App-Cmd-0.327-trkC3N/blib/arch
    /home/c/.cpan/build/App-Cmd-0.327-trkC3N/blib/lib
    /home/c/.cpan/build/Getopt-Long-2.46-ufEIwK/blib/arch
    /home/c/.cpan/build/Getopt-Long-2.46-ufEIwK/blib/lib
    /home/c/perl5/perlbrew/perls/perl-5.16.2/lib/site_perl/5.16.2/i686-linux
    /home/c/perl5/perlbrew/perls/perl-5.16.2/lib/site_perl/5.16.2
    /home/c/perl5/perlbrew/perls/perl-5.16.2/lib/5.16.2/i686-linux
    /home/c/perl5/perlbrew/perls/perl-5.16.2/lib/5.16.2
    .