Report for Image-Imlib2-2.03

Back
From: metabase:user:b0d8060e-ee2c-11e1-9e0c-4239e8c4ad1e
Subject: PASS Image-Imlib2-2.03 v5.16.1 GNU/Linux
Date: 2012-12-03T16:03:05Z

This distribution has been tested as part of the CPAN Testers
project, supporting the Perl programming language.  See
http://wiki.cpantesters.org/ for more information or email
questions to cpan-testers-discuss@perl.org


--
Dear Leon Brocard,

This is a computer-generated report for Image-Imlib2-2.03
on perl 5.16.1, created by CPAN-Reporter-1.2006.

Thank you for uploading your work to CPAN.  Congratulations!
All tests were successful.

Sections of this report:

    * Tester comments
    * Program output
    * Prerequisites
    * Environment and other context

------------------------------
TESTER COMMENTS
------------------------------

Additional comments from tester:

none provided

------------------------------
PROGRAM OUTPUT
------------------------------

Output from './Build test':

t/autocrop.t ...... ok
t/cache.t ......... ok
t/data.t .......... ok
t/findfill.t ...... ok
t/pod.t ........... ok
t/pod_coverage.t .. ok
t/simple.t ........ ok
All tests successful.
Files=7, Tests=126,  1 wallclock secs ( 0.03 usr  0.01 sys +  0.34 cusr  0.04 csys =  0.42 CPU)
Result: PASS

------------------------------
PREREQUISITES
------------------------------

Prerequisite modules loaded:

requires:

    Module             Need Have    
    ------------------ ---- --------
    Module::Build      0.20 0.4003  
    Test::More         0.01 0.98    

build_requires:

    Module             Need Have    
    ------------------ ---- --------
    ExtUtils::CBuilder 0    0.280206

configure_requires:

    Module             Need Have    
    ------------------ ---- --------
    Module::Build      0.35 0.4003  


------------------------------
ENVIRONMENT AND OTHER CONTEXT
------------------------------

Environment variables:

    LANG = en_US.UTF-8
    LANGUAGE = en_US:en
    LD_LIBRARY_PATH = /usr/lib/oracle/11.2/client64/lib
    PATH = /home/cavac/bin:/home/cavac/bin/Komodo-IDE-7/bin:/home/cavac/bin/PDK921/bin:/home/cavac/bin/ActivePerl-5.16/site/bin:/home/cavac/bin/ActivePerl-5.16/bin:/usr/local/sbin:/usr/local/bin:/usr/sbin:/usr/bin:/sbin:/bin:/usr/games:/usr/lib/oracle/11.2/client64/bin
    PERL5LIB = 
    PERL5OPT = 
    PERL5_CPANPLUS_IS_RUNNING = 1191
    PERL5_CPAN_IS_RUNNING = 1191
    SHELL = /bin/bash
    TERM = xterm

Perl special variables (and OS-specific diagnostics, for MSWin32):

    $^X = /home/cavac/bin/ActivePerl-5.16/bin/perl-static
    $UID/$EUID = 1000 / 1000
    $GID = 1000 4 24 27 30 46 110 123 1000
    $EGID = 1000 4 24 27 30 46 110 123 1000

Perl module toolchain versions installed:

    Module              Have    
    ------------------- --------
    CPAN                1.9800  
    CPAN::Meta          2.120921
    Cwd                 3.39_02 
    ExtUtils::CBuilder  0.280206
    ExtUtils::Command   1.17    
    ExtUtils::Install   1.54    
    ExtUtils::MakeMaker 6.63_02 
    ExtUtils::Manifest  1.61    
    ExtUtils::ParseXS   3.18    
    File::Spec          3.39_02 
    JSON                2.53    
    JSON::PP            2.27200 
    Module::Build       0.4003  
    Module::Signature   n/a     
    Parse::CPAN::Meta   1.4404  
    Test::Harness       3.25    
    Test::More          0.98    
    YAML                0.84    
    YAML::Syck          1.21    
    version             0.9901  


--

Summary of my perl5 (revision 5 version 16 subversion 1) configuration:
   
  Platform:
    osname=linux, osvers=2.6.11-1.1369_fc4, archname=x86_64-linux-thread-multi
    uname='linux perl-linux64-vm 2.6.11-1.1369_fc4 #1 thu jun 2 22:56:33 edt 2005 x86_64 x86_64 x86_64 gnulinux '
    config_args='-ders -Dcc=gcc -Dusethreads -Duseithreads -Uinstallusrbinperl -Ulocincpth= -Uloclibpth= -Duse64bitall -Dlibpth=/lib64 /usr/lib64 /usr/local/lib64 -Accflags=-DUSE_SITECUSTOMIZE -Duselargefiles -Accflags=-DPERL_RELOCATABLE_INCPUSH -Accflags=-fno-merge-constants -Dprefix=/home/cavac/bin/ActivePerl-5.16 -Dprivlib=/home/cavac/bin/ActivePerl-5.16/lib -Darchlib=/home/cavac/bin/ActivePerl-5.16/lib -Dsiteprefix=/home/cavac/bin/ActivePerl-5.16/site -Dsitelib=/home/cavac/bin/ActivePerl-5.16/site/lib -Dsitearch=/home/cavac/bin/ActivePerl-5.16/site/lib -Dsed=/bin/sed -Duseshrplib -Dcf_by=ActiveState -Dcf_email=support@ActiveState.com'
    hint=recommended, useposix=true, d_sigaction=define
    useithreads=define, usemultiplicity=define
    useperlio=define, d_sfio=undef, uselargefiles=define, usesocks=undef
    use64bitint=define, use64bitall=define, uselongdouble=undef
    usemymalloc=n, bincompat5005=undef
  Compiler:
    cc='gcc', ccflags ='-D_REENTRANT -D_GNU_SOURCE -DUSE_SITECUSTOMIZE -DPERL_RELOCATABLE_INCPUSH -fno-merge-constants -fno-strict-aliasing -pipe -D_LARGEFILE_SOURCE -D_FILE_OFFSET_BITS=64',
    optimize='-O2',
    cppflags='-D_REENTRANT -D_GNU_SOURCE -DUSE_SITECUSTOMIZE -DPERL_RELOCATABLE_INCPUSH -fno-merge-constants -fno-strict-aliasing -pipe'
    ccversion='', gccversion='4.0.0 20050519 (Red Hat 4.0.0-8)', gccosandvers=''
    intsize=4, longsize=8, ptrsize=8, doublesize=8, byteorder=12345678
    d_longlong=define, longlongsize=8, d_longdbl=define, longdblsize=16
    ivtype='long', ivsize=8, nvtype='double', nvsize=8, Off_t='off_t', lseeksize=8
    alignbytes=8, prototype=define
  Linker and Libraries:
    ld='gcc', ldflags =''
    libpth=/lib64 /usr/lib64 /usr/local/lib64
    libs=-lnsl -lgdbm -ldb -ldl -lm -lcrypt -lutil -lpthread -lc
    perllibs=-lnsl -ldl -lm -lcrypt -lutil -lpthread -lc
    libc=/lib/libc-2.3.5.so, so=so, useshrplib=true, libperl=libperl.so
    gnulibc_version='2.3.5'
  Dynamic Linking:
    dlsrc=dl_dlopen.xs, dlext=so, d_dlsymun=undef, ccdlflags='-Wl,-E -Wl,-rpath,/home/cavac/bin/ActivePerl-5.16/lib/CORE'
    cccdlflags='-fPIC', lddlflags='-shared -O2'


Characteristics of this binary (from libperl): 
  Compile-time options: HAS_TIMES MULTIPLICITY PERLIO_LAYERS
                        PERL_DONT_CREATE_GVSV PERL_IMPLICIT_CONTEXT
                        PERL_MALLOC_WRAP PERL_PRESERVE_IVUV
                        PERL_RELOCATABLE_INCPUSH USE_64_BIT_ALL
                        USE_64_BIT_INT USE_ITHREADS USE_LARGE_FILES
                        USE_LOCALE USE_LOCALE_COLLATE USE_LOCALE_CTYPE
                        USE_LOCALE_NUMERIC USE_PERLIO USE_PERL_ATOF
                        USE_REENTRANT_API USE_SITECUSTOMIZE
  Locally applied patches:
	ActivePerl Build 1601 [296175]
  Built under linux
  Compiled at Aug 30 2012 20:08:47
  %ENV:
    PERL5LIB=""
    PERL5OPT=""
    PERL5_CPANPLUS_IS_RUNNING="1191"
    PERL5_CPAN_IS_RUNNING="1191"
  @INC:
    /home/cavac/bin/ActivePerl-5.16/site/lib
    /home/cavac/bin/ActivePerl-5.16/lib
    .