Image-ExifTool v12.70 Perl 5 v5.8.9 x86_64-linux

Status
Pass
From
Slaven Rezić
Dist
Image-ExifTool v12.70
Platform
Perl 5 v5.8.9 x86_64-linux
Date
2023-11-19 18:03:20
ID
ec477b2e-8705-11ee-a080-03026e8775ea
This distribution has been tested as part of the CPAN Testers
project, supporting the Perl programming language.  See
http://wiki.cpantesters.org/ for more information or email
questions to cpan-testers-discuss@perl.org


--
Dear Phil Harvey,

This is a computer-generated report for Image-ExifTool-12.70
on perl 5.8.9, created by CPAN-Reporter-1.2018.

Thank you for uploading your work to CPAN.  Congratulations!
All tests were successful.

Sections of this report:

    * Tester comments
    * Program output
    * Prerequisites
    * Environment and other context

------------------------------
TESTER COMMENTS
------------------------------

Additional comments from tester:

none provided

------------------------------
PROGRAM OUTPUT
------------------------------

Output from 'make test':

PERL_DL_NONLAZY=1 "/opt/perl-5.8.9/bin/perl" "-MExtUtils::Command::MM" "-MTest::Harness" "-e" "undef *Test::Harness::Switches; test_harness(0, 'blib/lib', 'blib/arch')" t/*.t
t/AFCP.t ........... ok
t/AIFF.t ........... ok
t/APE.t ............ ok
t/Apple.t .......... ok
t/ASF.t ............ ok
t/Audible.t ........ ok
t/BigTIFF.t ........ ok
t/BMP.t ............ ok
t/BPG.t ............ ok
t/Canon.t .......... ok
t/CanonRaw.t ....... ok
t/CanonVRD.t ....... ok
t/Casio.t .......... ok
t/DICOM.t .......... ok
t/DjVu.t ........... ok
t/DNG.t ............ ok
t/DPX.t ............ ok
t/DV.t ............. ok
t/EXE.t ............ ok
t/ExifTool.t ....... ok
t/FITS.t ........... ok
t/FLAC.t ........... ok
t/Flash.t .......... ok
t/FlashPix.t ....... ok
t/FLIF.t ........... ok
t/FLIR.t ........... ok
t/Font.t ........... ok
t/FotoStation.t .... ok
t/FujiFilm.t ....... ok
t/GE.t ............. ok
t/Geotag.t ......... ok
t/GeoTiff.t ........ ok
t/GIF.t ............ ok
t/GIMP.t ........... ok
t/GoPro.t .......... ok
t/GPS.t ............ ok
t/HTML.t ........... ok
t/ICO.t ............ ok
t/InDesign.t ....... ok
t/InfiRay.t ........ ok
t/IPTC.t ........... ok
t/ISO.t ............ ok
t/ITC.t ............ ok
t/Jpeg2000.t ....... ok
t/JSON.t ........... ok
t/JVC.t ............ ok
t/JXL.t ............ ok
t/Kodak.t .......... ok
t/KyoceraRaw.t ..... ok
t/Lang.t ........... ok
t/LNK.t ............ ok
t/Lytro.t .......... ok
t/M2TS.t ........... ok
t/MacOS.t .......... ok
t/Matroska.t ....... ok
t/MIE.t ............ ok
t/MIFF.t ........... ok
t/Minolta.t ........ ok
t/MOI.t ............ ok
t/Motorola.t ....... ok
t/MP3.t ............ ok
t/MRC.t ............ ok
t/MWG.t ............ ok
t/MXF.t ............ ok
t/Nikon.t .......... ok
t/Olympus.t ........ ok
t/OpenEXR.t ........ ok
t/Opus.t ........... ok
t/Palm.t ........... ok
t/Panasonic.t ...... ok
t/PCX.t ............ ok
t/PDF.t ............ ok
t/Pentax.t ......... ok
t/PFM.t ............ ok
t/PGF.t ............ ok
t/PhaseOne.t ....... ok
t/PhotoCD.t ........ ok
t/PhotoMechanic.t .. ok
t/Photoshop.t ...... ok
t/PICT.t ........... ok
t/PLIST.t .......... ok
t/PLUS.t ........... ok
t/PNG.t ............ ok
t/PostScript.t ..... ok
t/PPM.t ............ ok
t/PSP.t ............ ok
t/QuickTime.t ...... ok
t/Radiance.t ....... ok
t/Real.t ........... ok
t/Red.t ............ ok
t/Ricoh.t .......... ok
t/RIFF.t ........... ok
t/RTF.t ............ ok
t/Sanyo.t .......... ok
t/Sigma.t .......... ok
t/Sony.t ........... ok
t/Text.t ........... ok
t/Torrent.t ........ ok
t/Unknown.t ........ ok
t/VCard.t .......... ok
t/Vorbis.t ......... ok
t/WPG.t ............ ok
t/Writer.t ......... ok
t/WTV.t ............ ok
t/XISF.t ........... ok
t/XMP.t ............ ok
t/ZIP.t ............ ok
t/ZISRAW.t ......... ok
All tests successful.
Files=108, Tests=577, 22 wallclock secs ( 0.22 usr  0.12 sys + 20.56 cusr  0.85 csys = 21.75 CPU)
Result: PASS

------------------------------
PREREQUISITES
------------------------------

Prerequisite modules loaded:

requires:

    Module              Need  Have    
    ------------------- ----- --------
    perl                5.004 5.008009

build_requires:

    Module              Need  Have    
    ------------------- ----- --------
    ExtUtils::MakeMaker 0     7.64    

configure_requires:

    Module              Need  Have    
    ------------------- ----- --------
    ExtUtils::MakeMaker 0     7.64    


------------------------------
ENVIRONMENT AND OTHER CONTEXT
------------------------------

Environment variables:

    LANG = en_US.UTF-8
    PATH = /usr/local/bin:/usr/bin:/bin:/usr/local/sbin:/usr/sbin:/sbin:/home/e/eserte/bin/linux-gnu:/home/e/eserte/bin/sh:/home/e/eserte/bin:/home/e/eserte/bin/pistachio-perl/bin:/usr/games:/home/e/eserte/devel:/home/e/eserte/work2/fzf/bin:/home/e/eserte/src/srezic-misc/scripts
    PERL5LIB = 
    PERL5OPT = 
    PERL5_CPANPLUS_IS_RUNNING = 3527
    PERL5_CPAN_IS_RUNNING = 3527
    PERL5_CPAN_IS_RUNNING_IN_RECURSION = 3508,3527
    PERLDOC = -MPod::Perldoc::ToTextOverstrike
    PERL_BATCH = yes
    PERL_CANARY_STABILITY_NOPROMPT = 1
    PERL_CPAN_REPORTER_CONFIG = /var/tmp/cpansmoker-1000/2023111918/cpanreporter_000_config.ini
    PERL_EXTUTILS_AUTOINSTALL = --defaultdeps
    PERL_USE_UNSAFE_INC = 1
    SHELL = /bin/zsh
    STDPERL = perl
    TERM = xterm
    TMPDIR = /var/tmp/cpansmoker-1000/2023111918

Perl special variables (and OS-specific diagnostics, for MSWin32):

    $^X = /opt/perl-5.8.9/bin/perl
    $UID/$EUID = 1000 / 1000
    $GID = 1000 4 24 25 27 29 30 33 44 46 108 111 115 128 134 1000 1024
    $EGID = 1000 4 24 25 27 29 30 33 44 46 108 111 115 128 134 1000 1024

Perl module toolchain versions installed:

    Module              Have    
    ------------------- --------
    CPAN                2.34    
    CPAN::Meta          2.143240
    Cwd                 3.75    
    ExtUtils::CBuilder  0.280236
    ExtUtils::Command   7.64    
    ExtUtils::Install   2.06    
    ExtUtils::MakeMaker 7.64    
    ExtUtils::Manifest  1.70    
    ExtUtils::ParseXS   3.44    
    File::Spec          3.75    
    JSON                4.06    
    JSON::PP            4.09    
    Module::Build       0.4231  
    Module::Signature   n/a     
    Parse::CPAN::Meta   1.4414  
    Test::Harness       3.44    
    Test::More          1.302190
    YAML                1.30    
    YAML::Syck          1.34    
    version             0.9929  


--

Summary of my perl5 (revision 5 version 8 subversion 9) configuration:
  Platform:
    osname=linux, osvers=4.9.0-18-amd64, archname=x86_64-linux
    uname='linux cabulja 4.9.0-18-amd64 #1 smp debian 4.9.303-1 (2022-03-07) x86_64 gnulinux '
    config_args='-ds -e -Dprefix=/opt/perl-5.8.9 -Dcf_email=srezic@cpan.org'
    hint=recommended, useposix=true, d_sigaction=define
    usethreads=undef use5005threads=undef useithreads=undef usemultiplicity=undef
    useperlio=define d_sfio=undef uselargefiles=define usesocks=undef
    use64bitint=define use64bitall=define uselongdouble=undef
    usemymalloc=n, bincompat5005=undef
  Compiler:
    cc='cc', ccflags ='-fwrapv -fno-strict-aliasing -pipe -I/usr/local/include -D_LARGEFILE_SOURCE -D_FILE_OFFSET_BITS=64',
    optimize='-O2',
    cppflags='-fwrapv -fno-strict-aliasing -pipe -I/usr/local/include'
    ccversion='', gccversion='6.3.0 20170516', gccosandvers=''
    intsize=4, longsize=8, ptrsize=8, doublesize=8, byteorder=12345678
    d_longlong=define, longlongsize=8, d_longdbl=define, longdblsize=16
    ivtype='long', ivsize=8, nvtype='double', nvsize=8, Off_t='off_t', lseeksize=8
    alignbytes=8, prototype=define
  Linker and Libraries:
    ld='cc', ldflags =' -L/usr/local/lib'
    libpth=/usr/local/lib /lib/x86_64-linux-gnu /lib/../lib /usr/lib/x86_64-linux-gnu /usr/lib/../lib /lib /usr/lib
    libs=-lnsl -lgdbm -ldb -ldl -lm -lcrypt -lutil -lc -lgdbm_compat
    perllibs=-lnsl -ldl -lm -lcrypt -lutil -lc -lgdbm_compat
    libc=libc-2.24.so, so=so, useshrplib=false, libperl=libperl.a
    gnulibc_version='2.24'
  Dynamic Linking:
    dlsrc=dl_dlopen.xs, dlext=so, d_dlsymun=undef, ccdlflags='-Wl,-E'
    cccdlflags='-fPIC', lddlflags='-shared -O2 -L/usr/local/lib'


Characteristics of this binary (from libperl): 
  Compile-time options: PERL_MALLOC_WRAP USE_64_BIT_ALL USE_64_BIT_INT
                        USE_FAST_STDIO USE_LARGE_FILES USE_PERLIO
  Locally applied patches:
	Devel::PatchPerl 2.08
  Built under linux
  Compiled at May 22 2022 20:36:27
  %ENV:
    PERL5LIB=""
    PERL5OPT=""
    PERL5_CPANPLUS_IS_RUNNING="3527"
    PERL5_CPAN_IS_RUNNING="3527"
    PERL5_CPAN_IS_RUNNING_IN_RECURSION="3508,3527"
    PERLDOC="-MPod::Perldoc::ToTextOverstrike"
    PERL_BATCH="yes"
    PERL_CANARY_STABILITY_NOPROMPT="1"
    PERL_CPAN_REPORTER_CONFIG="/var/tmp/cpansmoker-1000/2023111918/cpanreporter_000_config.ini"
    PERL_EXTUTILS_AUTOINSTALL="--defaultdeps"
    PERL_USE_UNSAFE_INC="1"
  @INC:
    /opt/perl-5.8.9/lib/5.8.9/x86_64-linux
    /opt/perl-5.8.9/lib/5.8.9
    /opt/perl-5.8.9/lib/site_perl/5.8.9/x86_64-linux
    /opt/perl-5.8.9/lib/site_perl/5.8.9
    .